BEGIN:VCALENDAR
VERSION:2.0
PRODID:-//Marketing.com.au - ECPv6.15.20//NONSGML v1.0//EN
CALSCALE:GREGORIAN
METHOD:PUBLISH
X-ORIGINAL-URL:https://marketing.com.au
X-WR-CALDESC:Events for Marketing.com.au
REFRESH-INTERVAL;VALUE=DURATION:PT1H
X-Robots-Tag:noindex
X-PUBLISHED-TTL:PT1H
BEGIN:VTIMEZONE
TZID:Australia/Melbourne
BEGIN:STANDARD
TZOFFSETFROM:+1100
TZOFFSETTO:+1000
TZNAME:AEST
DTSTART:20190406T160000
END:STANDARD
BEGIN:DAYLIGHT
TZOFFSETFROM:+1000
TZOFFSETTO:+1100
TZNAME:AEDT
DTSTART:20191005T160000
END:DAYLIGHT
BEGIN:STANDARD
TZOFFSETFROM:+1100
TZOFFSETTO:+1000
TZNAME:AEST
DTSTART:20200404T160000
END:STANDARD
BEGIN:DAYLIGHT
TZOFFSETFROM:+1000
TZOFFSETTO:+1100
TZNAME:AEDT
DTSTART:20201003T160000
END:DAYLIGHT
BEGIN:STANDARD
TZOFFSETFROM:+1100
TZOFFSETTO:+1000
TZNAME:AEST
DTSTART:20210403T160000
END:STANDARD
BEGIN:DAYLIGHT
TZOFFSETFROM:+1000
TZOFFSETTO:+1100
TZNAME:AEDT
DTSTART:20211002T160000
END:DAYLIGHT
END:VTIMEZONE
BEGIN:VEVENT
DTSTART;TZID=Australia/Melbourne:20201104T080000
DTEND;TZID=Australia/Melbourne:20201106T170000
DTSTAMP:20260424T133311
CREATED:20200906T062401Z
LAST-MODIFIED:20201010T112043Z
UID:16653-1604476800-1604682000@marketing.com.au
SUMMARY:Content Marketing Summit - Asia
DESCRIPTION:Content Marketing Summit\, as the name suggests\, is a premier event where some of the greatest minds\, savvy brands\, renowned publishers\, innovative technology enablers and leading practitioners from across the world come together to explore the exciting world of content marketing. \nWhile the discipline itself isn’t anything new\, the rapid expansion of digital media and the growing clout of social media have altered Content Marketing in unexpected ways. This metamorphosis presents exciting new opportunities for brands\, publishers\, agency partners and independent creators alike.
URL:https://marketing.com.au/event/content-marketing-summit-asia/
LOCATION:Online
CATEGORIES:All Event Locations,All Event Topics,All Event Types,Conference,Content Marketing,Copywriting,Digital Marketing,Marketing,Online
END:VEVENT
BEGIN:VEVENT
DTSTART;VALUE=DATE:20201105
DTEND;VALUE=DATE:20201107
DTSTAMP:20260424T133311
CREATED:20200804T095248Z
LAST-MODIFIED:20201010T112043Z
UID:16346-1604534400-1604707199@marketing.com.au
SUMMARY:Strategic Marketing USA (Online)
DESCRIPTION:Adapt\, Innovate\, Reimagine\nSet Benchmarks\, Showcase Innovation\, Map the Future of Marketing\n\n\n\n\n\n\nSetting the Agenda for Marketing Teams Globally\n\n\n\n\n\n\nWe are amidst the most dramatic shift in consumer expectations in a lifetime. \nThe entire fabric of our lives has changed and\, in turn\, so too has the way we want to interact with brands. Marketing must change to align with this shift\, now. \nReuters Events: Strategic Marketing USA (Nov 5-6) is uniting the world’s most influential CMOs to set benchmarks\, showcase innovation\, and map the future of marketing – one where brands are purpose-driven\, campaigns are intelligently data-backed\, and innovation drives growth. \nThe world is changing and this disruption will pave the way for new industry leaders. How will take advantage of this opportunity to reconnect with your customers? \n\n\n4 essential themes for 2020\n\n\n\n\n\nCMO Strategy & Trends for a Post-Covid World: CMOs share their plans for keeping brand relevancy in an ever-changing world\, honing brand purpose\, reinventing a legacy\, and creating a culture of innovation.\nCustomer Insights & Understanding New Consumer Behavior: Customer needs\, wants and expectations have changed. It’s time to fully understand your customer and their journey to unlock data-driven personalized experiences.\nAgile Content & Creative: Cut through the noise with impactful interactions that inspire and connect with this shared global experience. Tell stories that engage on an emotional level and are grounded in brand purpose.\nDigital\, Social & Influencers: As we follow social-distancing guidelines\, the channel of choice for many is social and influencers are at their most impactful. Video\, influencers and the formula for social success.\n\n\n\n\n\nJoin 5\,000+ virtual attendees!\nSet Benchmarks\, Showcase Innovation\, Map the Future of Marketing
URL:https://marketing.com.au/event/strategic-marketing-usa-online/
LOCATION:Online
CATEGORIES:All Event Locations,All Event Topics,All Event Types,Marketing,Online
END:VEVENT
END:VCALENDAR