BEGIN:VCALENDAR
VERSION:2.0
PRODID:-//Marketing.com.au - ECPv6.15.20//NONSGML v1.0//EN
CALSCALE:GREGORIAN
METHOD:PUBLISH
X-ORIGINAL-URL:https://marketing.com.au
X-WR-CALDESC:Events for Marketing.com.au
REFRESH-INTERVAL;VALUE=DURATION:PT1H
X-Robots-Tag:noindex
X-PUBLISHED-TTL:PT1H
BEGIN:VTIMEZONE
TZID:Australia/Melbourne
BEGIN:STANDARD
TZOFFSETFROM:+1100
TZOFFSETTO:+1000
TZNAME:AEST
DTSTART:20190406T160000
END:STANDARD
BEGIN:DAYLIGHT
TZOFFSETFROM:+1000
TZOFFSETTO:+1100
TZNAME:AEDT
DTSTART:20191005T160000
END:DAYLIGHT
BEGIN:STANDARD
TZOFFSETFROM:+1100
TZOFFSETTO:+1000
TZNAME:AEST
DTSTART:20200404T160000
END:STANDARD
BEGIN:DAYLIGHT
TZOFFSETFROM:+1000
TZOFFSETTO:+1100
TZNAME:AEDT
DTSTART:20201003T160000
END:DAYLIGHT
BEGIN:STANDARD
TZOFFSETFROM:+1100
TZOFFSETTO:+1000
TZNAME:AEST
DTSTART:20210403T160000
END:STANDARD
BEGIN:DAYLIGHT
TZOFFSETFROM:+1000
TZOFFSETTO:+1100
TZNAME:AEDT
DTSTART:20211002T160000
END:DAYLIGHT
END:VTIMEZONE
BEGIN:VEVENT
DTSTART;TZID=Australia/Melbourne:20200212T180000
DTEND;TZID=Australia/Melbourne:20200212T200000
DTSTAMP:20260425T054425
CREATED:20200105T104328Z
LAST-MODIFIED:20200222T051724Z
UID:14771-1581530400-1581537600@marketing.com.au
SUMMARY:Creating Killer Events With Hype and Marketing Buzz
DESCRIPTION:Creating powerful offline experiences is important to capture the imaginations of your audience. It allows you to amplify your brand\, organise your user base\, and impact real people in the real world. \nSo how do you create event hype and create an energy-filled event\, full of the right people? How do you craft creative marketing strategies to maximize your impact? \nHear from our panel of event experts and industry gurus about: \n\n\n\nWhat it takes to create an amazing event experience\nHow to generate a media buzz and social hype to make your event go viral\, before during and after an event\nHow to engage your audience and fill your event to capacity\n\n\n\nThis event is perfect for anyone looking to get more out of the events they are planning\, whether it be a small networking event\, a conference or a large festival.
URL:https://marketing.com.au/event/creating-killer-events-with-hype-and-marketing-buzz/
LOCATION:General Assembly Melbourne
CATEGORIES:Advertising,All Event Locations,All Event Topics,All Event Types,Marketing,Melbourne
END:VEVENT
END:VCALENDAR