BEGIN:VCALENDAR
VERSION:2.0
PRODID:-//Marketing.com.au - ECPv6.15.20//NONSGML v1.0//EN
CALSCALE:GREGORIAN
METHOD:PUBLISH
X-ORIGINAL-URL:https://marketing.com.au
X-WR-CALDESC:Events for Marketing.com.au
REFRESH-INTERVAL;VALUE=DURATION:PT1H
X-Robots-Tag:noindex
X-PUBLISHED-TTL:PT1H
BEGIN:VTIMEZONE
TZID:Australia/Melbourne
BEGIN:STANDARD
TZOFFSETFROM:+1100
TZOFFSETTO:+1000
TZNAME:AEST
DTSTART:20190406T160000
END:STANDARD
BEGIN:DAYLIGHT
TZOFFSETFROM:+1000
TZOFFSETTO:+1100
TZNAME:AEDT
DTSTART:20191005T160000
END:DAYLIGHT
BEGIN:STANDARD
TZOFFSETFROM:+1100
TZOFFSETTO:+1000
TZNAME:AEST
DTSTART:20200404T160000
END:STANDARD
BEGIN:DAYLIGHT
TZOFFSETFROM:+1000
TZOFFSETTO:+1100
TZNAME:AEDT
DTSTART:20201003T160000
END:DAYLIGHT
BEGIN:STANDARD
TZOFFSETFROM:+1100
TZOFFSETTO:+1000
TZNAME:AEST
DTSTART:20210403T160000
END:STANDARD
BEGIN:DAYLIGHT
TZOFFSETFROM:+1000
TZOFFSETTO:+1100
TZNAME:AEDT
DTSTART:20211002T160000
END:DAYLIGHT
END:VTIMEZONE
BEGIN:VEVENT
DTSTART;TZID=Australia/Melbourne:20200210T090000
DTEND;TZID=Australia/Melbourne:20200210T170000
DTSTAMP:20260425T114424
CREATED:20190818T015202Z
LAST-MODIFIED:20191020T054257Z
UID:14098-1581325200-1581354000@marketing.com.au
SUMMARY:Online Marketing Sydney Conference
DESCRIPTION:Prosperity Media are happy to announce that we will be running a Online Marketing Conference on the 10th of February 2020 in Sydney. \nWho is the conference going to be for? \n– SEO’s of any level – Entry\, Mid\, Advanced.\n– Digital Marketing Managers\n– PPC Managers\n– Business Owners looking to grow website traffic.\n– Affiliate Marketers\n– eCommerce Managers\n– Growth Hackers \nWhat will you learn from this event? \n\nActionable tips for SEO campaigns you can implement.\nGrowth hacks which have lead to exponential growth.\nActionable PPC advice.\nContent Marketing tactics.\nTime management advice and information.\nTips & strategies from successful Australian Agency owners.\nAll advice is from people who are working on these strategies day in day out we have selected speakers who can provide highly actionable advice for the audience. We want to have you attending this event and leaving with countless new ideas\, strategy and tactics.\n\nConfirmed Speakers – \n\nJared Codling – Founder New Hack Every Week and top growth hacker\nBernard Huang Co-founder of Clearscope & Twitchmetrics (USA)\nMatt Diggity – Diggity Marketing & Authority Builders (Thailand/USA)\nKate Toon – Founder Recipe for SEO Success\nCraig Campbell – SEO & Affiliate Marketing Expert (Scotland)\nDennis Graham – PPC Specialist\nLouisa Dahl – CEO Interactive Minds\nJames Norquay – SEO Director\nJeff Deutsch – SEO & Growth Marketing (USA)\nWill Wang – Growth Labz\nRay Corcoran – Time Management Expert\nRichard Brus – Founder SERPworx plugin & SEO Professional.\nDejan Mladenovski – Technical SEO\nPeter Mead – Founder of SEO Melbourne Meetup & SEO Professional\nWoj Kwaski – Founder Kwasi\nJames Richardson – Founder Optimising
URL:https://marketing.com.au/event/online-marketing-sydney-conference/
LOCATION:Amora Hotel\, 11 Jamison St Level 2\, 20 Hutchinson Street\, Level 2\, 20 Hutchinson Street\, Sydney\, 2000\, Australia
CATEGORIES:All Event Locations,All Event Topics,All Event Types,Content Marketing,Digital Marketing,Marketing,Sydney
END:VEVENT
END:VCALENDAR