BEGIN:VCALENDAR
VERSION:2.0
PRODID:-//Marketing.com.au - ECPv6.15.20//NONSGML v1.0//EN
CALSCALE:GREGORIAN
METHOD:PUBLISH
X-WR-CALNAME:Marketing.com.au
X-ORIGINAL-URL:https://marketing.com.au
X-WR-CALDESC:Events for Marketing.com.au
REFRESH-INTERVAL;VALUE=DURATION:PT1H
X-Robots-Tag:noindex
X-PUBLISHED-TTL:PT1H
BEGIN:VTIMEZONE
TZID:Australia/Melbourne
BEGIN:STANDARD
TZOFFSETFROM:+1100
TZOFFSETTO:+1000
TZNAME:AEST
DTSTART:20180331T160000
END:STANDARD
BEGIN:DAYLIGHT
TZOFFSETFROM:+1000
TZOFFSETTO:+1100
TZNAME:AEDT
DTSTART:20181006T160000
END:DAYLIGHT
BEGIN:STANDARD
TZOFFSETFROM:+1100
TZOFFSETTO:+1000
TZNAME:AEST
DTSTART:20190406T160000
END:STANDARD
BEGIN:DAYLIGHT
TZOFFSETFROM:+1000
TZOFFSETTO:+1100
TZNAME:AEDT
DTSTART:20191005T160000
END:DAYLIGHT
BEGIN:STANDARD
TZOFFSETFROM:+1100
TZOFFSETTO:+1000
TZNAME:AEST
DTSTART:20200404T160000
END:STANDARD
BEGIN:DAYLIGHT
TZOFFSETFROM:+1000
TZOFFSETTO:+1100
TZNAME:AEDT
DTSTART:20201003T160000
END:DAYLIGHT
END:VTIMEZONE
BEGIN:VEVENT
DTSTART;TZID=Australia/Melbourne:20190514T180000
DTEND;TZID=Australia/Melbourne:20190514T200000
DTSTAMP:20260426T021907
CREATED:20190414T012652Z
LAST-MODIFIED:20190425T113130Z
UID:13522-1557856800-1557864000@marketing.com.au
SUMMARY:AWARD presents The Work Behind The Work - Sydney
DESCRIPTION:We’ve asked some of the best in the business to come along and share their infinite wisdom. We’ll talk about process\, inspiration and the all-important client relationships. This event is about asking questions\, getting answers and having a glass of wine. \n2019 Sydney line up\n\n\nProject Revoice – BWM Dentsu\, client ALS Association\nStop Your Boobs Playing Their Own Game – The Monkeys\, client Berlei\nAutoAds – CHE Proximity\, client carsales.com.au\n\n\n 
URL:https://marketing.com.au/event/award-presents-the-work-behind-the-work-sydney/
CATEGORIES:Advertising,Marketing,Sydney
END:VEVENT
END:VCALENDAR