BEGIN:VCALENDAR
VERSION:2.0
PRODID:-//Marketing.com.au - ECPv6.15.20//NONSGML v1.0//EN
CALSCALE:GREGORIAN
METHOD:PUBLISH
X-WR-CALNAME:Marketing.com.au
X-ORIGINAL-URL:https://marketing.com.au
X-WR-CALDESC:Events for Marketing.com.au
REFRESH-INTERVAL;VALUE=DURATION:PT1H
X-Robots-Tag:noindex
X-PUBLISHED-TTL:PT1H
BEGIN:VTIMEZONE
TZID:Australia/Melbourne
BEGIN:STANDARD
TZOFFSETFROM:+1100
TZOFFSETTO:+1000
TZNAME:AEST
DTSTART:20180331T160000
END:STANDARD
BEGIN:DAYLIGHT
TZOFFSETFROM:+1000
TZOFFSETTO:+1100
TZNAME:AEDT
DTSTART:20181006T160000
END:DAYLIGHT
BEGIN:STANDARD
TZOFFSETFROM:+1100
TZOFFSETTO:+1000
TZNAME:AEST
DTSTART:20190406T160000
END:STANDARD
BEGIN:DAYLIGHT
TZOFFSETFROM:+1000
TZOFFSETTO:+1100
TZNAME:AEDT
DTSTART:20191005T160000
END:DAYLIGHT
BEGIN:STANDARD
TZOFFSETFROM:+1100
TZOFFSETTO:+1000
TZNAME:AEST
DTSTART:20200404T160000
END:STANDARD
BEGIN:DAYLIGHT
TZOFFSETFROM:+1000
TZOFFSETTO:+1100
TZNAME:AEDT
DTSTART:20201003T160000
END:DAYLIGHT
END:VTIMEZONE
BEGIN:VEVENT
DTSTART;TZID=Australia/Melbourne:20190321T090000
DTEND;TZID=Australia/Melbourne:20190321T130000
DTSTAMP:20260426T081610
CREATED:20190301T015829Z
LAST-MODIFIED:20190310T093047Z
UID:13283-1553158800-1553173200@marketing.com.au
SUMMARY:Digital Retail & FMCG Masterclass
DESCRIPTION:Attendance at this event will help senior management who work for retail and FMCG brands\, how they can deploy the latest digital and social marketing tools and techniques to generate new business and retain loyal customers. Core themes range from search and social media strategies to data management\, content marketing\, mobile marketing and programmatic advertising.
URL:https://marketing.com.au/event/digital-retail-fmcg-masterclass/
LOCATION:TBC Sydney\, TBC\, Sydney\, New South Wales\, 2000\, Australia
CATEGORIES:All Event Locations,All Event Topics,All Event Types,Digital Marketing,Marketing,Sydney,Workshop
END:VEVENT
BEGIN:VEVENT
DTSTART;TZID=Australia/Melbourne:20190321T090000
DTEND;TZID=Australia/Melbourne:20190321T133000
DTSTAMP:20260426T081610
CREATED:20190301T010544Z
LAST-MODIFIED:20190310T093047Z
UID:13269-1553158800-1553175000@marketing.com.au
SUMMARY:Creating & Distributing Smart Content for the Speed of Today
DESCRIPTION:Digital and social channels are becoming more complex\, as the audiences we create content for are becoming more demanding and sophisticated. The imperative for today’s marketers is to not only create innovative content that connects brands with audiences in meaningful ways but to develop a content practice that is sustainable and generates proven business results.
URL:https://marketing.com.au/event/creating-distributing-smart-content-for-the-speed-of-today/
LOCATION:Bentleys Perth\, Level 3\, 216 St Georges Terrace\, Perth\, WA\, 6000\, Australia
CATEGORIES:All Event Locations,All Event Topics,All Event Types,Digital Marketing,Market Research,Marketing,Perth,Workshop
END:VEVENT
BEGIN:VEVENT
DTSTART;TZID=Australia/Melbourne:20190321T133000
DTEND;TZID=Australia/Melbourne:20190321T170000
DTSTAMP:20260426T081610
CREATED:20190301T022042Z
LAST-MODIFIED:20201002T041828Z
UID:13292-1553175000-1553187600@marketing.com.au
SUMMARY:Digital Marketing Masterclass
DESCRIPTION:This event combines succinct presentations with in-depth discussions with leading digital experts\, the format allows you to focus on the topics that matter most to you. Core themes range from search and social media strategies to data management\, content marketing\, mobile marketing and programmatic advertising.
URL:https://marketing.com.au/event/digital-marketing-masterclass-2/
LOCATION:TBC Sydney\, TBC\, Sydney\, New South Wales\, 2000\, Australia
CATEGORIES:All Event Locations,All Event Topics,All Event Types,Content Marketing,Digital Marketing,Marketing,Sydney,Workshop
END:VEVENT
END:VCALENDAR