BEGIN:VCALENDAR
VERSION:2.0
PRODID:-//Marketing.com.au - ECPv6.15.20//NONSGML v1.0//EN
CALSCALE:GREGORIAN
METHOD:PUBLISH
X-ORIGINAL-URL:https://marketing.com.au
X-WR-CALDESC:Events for Marketing.com.au
REFRESH-INTERVAL;VALUE=DURATION:PT1H
X-Robots-Tag:noindex
X-PUBLISHED-TTL:PT1H
BEGIN:VTIMEZONE
TZID:America/Mexico_City
BEGIN:DAYLIGHT
TZOFFSETFROM:-0600
TZOFFSETTO:-0500
TZNAME:CDT
DTSTART:20200405T080000
END:DAYLIGHT
BEGIN:STANDARD
TZOFFSETFROM:-0500
TZOFFSETTO:-0600
TZNAME:CST
DTSTART:20201025T070000
END:STANDARD
BEGIN:DAYLIGHT
TZOFFSETFROM:-0600
TZOFFSETTO:-0500
TZNAME:CDT
DTSTART:20210404T080000
END:DAYLIGHT
BEGIN:STANDARD
TZOFFSETFROM:-0500
TZOFFSETTO:-0600
TZNAME:CST
DTSTART:20211031T070000
END:STANDARD
BEGIN:DAYLIGHT
TZOFFSETFROM:-0600
TZOFFSETTO:-0500
TZNAME:CDT
DTSTART:20220403T080000
END:DAYLIGHT
BEGIN:STANDARD
TZOFFSETFROM:-0500
TZOFFSETTO:-0600
TZNAME:CST
DTSTART:20221030T070000
END:STANDARD
END:VTIMEZONE
BEGIN:VTIMEZONE
TZID:Australia/Melbourne
BEGIN:STANDARD
TZOFFSETFROM:+1100
TZOFFSETTO:+1000
TZNAME:AEST
DTSTART:20200404T160000
END:STANDARD
BEGIN:DAYLIGHT
TZOFFSETFROM:+1000
TZOFFSETTO:+1100
TZNAME:AEDT
DTSTART:20201003T160000
END:DAYLIGHT
BEGIN:STANDARD
TZOFFSETFROM:+1100
TZOFFSETTO:+1000
TZNAME:AEST
DTSTART:20210403T160000
END:STANDARD
BEGIN:DAYLIGHT
TZOFFSETFROM:+1000
TZOFFSETTO:+1100
TZNAME:AEDT
DTSTART:20211002T160000
END:DAYLIGHT
BEGIN:STANDARD
TZOFFSETFROM:+1100
TZOFFSETTO:+1000
TZNAME:AEST
DTSTART:20220402T160000
END:STANDARD
BEGIN:DAYLIGHT
TZOFFSETFROM:+1000
TZOFFSETTO:+1100
TZNAME:AEDT
DTSTART:20221001T160000
END:DAYLIGHT
END:VTIMEZONE
BEGIN:VEVENT
DTSTART;VALUE=DATE:20210309
DTEND;VALUE=DATE:20210310
DTSTAMP:20260424T040032
CREATED:20210214T082325Z
LAST-MODIFIED:20210410T092341Z
UID:18497-1615248000-1615334399@marketing.com.au
SUMMARY:Customer Journey Maps for Marketers: Understand\, Deliver\, and Exceed Expectations
DESCRIPTION:The process of journey mapping is powerful. \nIt gives you an understanding of your customers’ journey. What brought them to you. What motivates them. What scares them. And how your organization can address those desires and hesitations with empathy and understanding at each touchpoint. \nWith 10 bite-sized lessons\, designed for marketers by marketers\, this Master Class will demystify the mapping process. After you’ve completed all of the lessons\, you’ll have a visual representation of your customer journey that you can use to create an experience that is truly customer-centric. \nYou have multiple ways to complete the lessons and earn your certificate of completion: \n\nAttend all of the Watch Parties\nAttend some Watch Parties and complete the rest of the lessons on-demand\nWatch all of the lessons on-demand (starting March 9) when it works for you\n\n\n\nMaster Classes are designed to give you the very best online learning experience with: \n\nAccess to live viewing parties with Q&A\, so you can stay focused and ask the instructor any questions that come up along the way\nComprehensive step-by-step instruction (exactly what you need: no more\, no less)\nBite-sized lessons so you can stop and start on your schedule\nHigh quality audio (because there’s nothing more distracting than echoes!)\, crisp video\, and stellar graphics\nA certificate of completion to proudly showcase to your boss (or future boss) that you’ve mastered marketing strategy\n\n\n\n\nWHAT YOU’LL LEARN\nThe Master Class lessons are broken down into bite-sized chunks to make learning (and retaining what you learn) easy. \n\n\n\n\n\n\n\nCustomer Experience Goes Beyond Marketing\nYour customer’s journey is a series of unique interactions with your brand. The touchpoints between you and your customer create their journey. See your business from your customer’s point of view. \n LENGTH: 15 minutes\n\n\n\n\n\nDetermine Your Goals\nA map is all about getting somewhere! In this lesson\, you’ll determine the goals of both your brand and your customers. \n LENGTH: 15 minutes\n\n\n\n\n\nGet the Right Data\nDiscover how to utilize your marketing and customer experience data\, feedback from customers\, and input from employees to see things from your customer’s perspective. \n LENGTH: 15 minutes\n\n\n\n\n\nStages of the Journey\nEach customer’s journey is unique\, but every customer journey includes certain stages. Learn what typical stages you can use to build your journey map. \n LENGTH: 15 minutes\n\n\n\n\n\nThinking/Feeling/Doing: Customer Actions and Experiences\nDiscover what your customers are actually experiencing as they travel through their journey with your brand. \n LENGTH: 15 minutes\n\n\n\n\n\nChannels\, Touchpoints\, and Moments of Truth\nDo you know what channels are more important to your customers? Understanding these interactions help define the moments where you can have the biggest impact. \n LENGTH: 15 minutes\n\n\n\n\n\nPain Points & Opportunities\nWhat are the barriers that can stop your customer from progressing at each stage and touchpoint? Areas of friction. Roadblocks. Points where customers get stuck or frustrated. \n LENGTH: 15 minutes\n\n\n\n\n\nBusiness Goals & KPIs\nCustomer journey maps should drive results! You’ll learn to define these outcomes and assign appropriate KPI’s to deliver on them. \n LENGTH: 15 minutes\n\n\n\n\n\nLeading Actionable Outcomes\nYour journey map will show you where improvements are needed. In this lesson\, you’ll learn how to drive those improvements with cross-functional support\, coalition building\, and marketing leadership. \n LENGTH: 15 minutes\n\n\n\n\n\nYou Have Your CJM! Now What?\nYour Customer Journey Map is a tool. Discover how you can use it now and into the future to drive change\, improve your customer communications\, and create better customer experiences? \n LENGTH: 15 minutes
URL:https://marketing.com.au/event/customer-journey-maps-for-marketers-understand-deliver-and-exceed-expectations/
LOCATION:Online
CATEGORIES:All Event Locations,All Event Topics,All Event Types,Content Marketing,Marketing,Online
END:VEVENT
BEGIN:VEVENT
DTSTART;VALUE=DATE:20210311
DTEND;VALUE=DATE:20210312
DTSTAMP:20260424T040032
CREATED:20210124T045325Z
LAST-MODIFIED:20210410T092340Z
UID:18282-1615420800-1615507199@marketing.com.au
SUMMARY:Programmatic Summit 2021
DESCRIPTION:Into its 8th year\, the Summit is firmly established as ANZ’s Programmatic Industry Showcase. It’s the largest gathering of ANZ’s programmatic industry\, and we’re delighted to announce that the Programmatic Summit takes place in March 2021\, Sydney. \n  \nThe unstoppable rise of programmatic advertising has been well documented. As advertising dollars continue to flow towards automated buying and selling of ad inventory\, brands\, agencies\, publishers and ad tech vendors need to ensure they are across the industry trends\, challenges\, and opportunities that underpin the programmatic market. \n  \nProgrammatic advertising enables greater marketing performance\, transparency\, and ROI for marketing budgets. However despite the huge opportunity that programmatic promises\, there is a significant knowledge gap and in some cases misunderstanding surrounding the topic. Join the sharpest minds in the industry at the Programmatic Summit 2021\, Australia & New Zealand’s #1 programmatic advertising conference. \n  \nTopics will cover all aspects of programmatic advertising and the summit will provide insights into how this fast moving industry is evolving. It’s a must-attend event for both buy side & sell side executives within the media and advertising industry.
URL:https://marketing.com.au/event/programmatic-summit-2021/
LOCATION:Hyatt Regency Sydney\, 161 Sussex Street\, Sydney\, NSW\, 2000\, Australia
CATEGORIES:Advertising,All Event Locations,All Event Topics,All Event Types,Brand,Digital Marketing,Marketing,Sydney
END:VEVENT
BEGIN:VEVENT
DTSTART;VALUE=DATE:20210316
DTEND;VALUE=DATE:20210318
DTSTAMP:20260424T040032
CREATED:20210214T093337Z
LAST-MODIFIED:20210410T092340Z
UID:18515-1615852800-1616025599@marketing.com.au
SUMMARY:MarTech: Free\, Expert-Led Training For Senior Marketers
DESCRIPTION:The events of 2020 were the catalyst for\, among other things\, profound and permanent changes in customer behavior. Seamless digital experiences\, contextually relevant messages and offers\, competitive pricing and flawless delivery are now table stakes for consumer and B2B enterprises. \nRapidly-evolving consumer demand exposed the weaknesses at many brands. Some accelerated digital transformation. Others got their start. \nMarketers at those brands are turning to industry experts\, peers and solution providers for education (and inspiration) that will enable them to implement marketing technologies and practices that satisfy customer demands. \nJoin us online for FREE\, March 16-17\, to unlock two days of actionable tactics and proven strategies\, empowering\, forward-thinking keynotes\, and engaging events designed to grow your professional network. \nExpert-led sessions will focus on evolving customer behavior and the implications for marketers and marketing operations. After attending\, you’ll be able to: \n\nUse CDPs to enable a data-driven culture and decisions\nEmploy attribution and predictive analytics technology to understand what’s attracting customers to your company or brand\nAchieve efficiencies with asset management\, project management and workflow technologies\nMaximize the expanding capabilities and uses of marketing automation\nContinue your learning initiatives\, engage with solution providers\, and connect with the marketing technology community — all for free\, and all from the comfort of your own computer.
URL:https://marketing.com.au/event/martech-free-expert-led-training-for-senior-marketers/
LOCATION:Online
CATEGORIES:All Event Locations,All Event Topics,All Event Types,Data,Digital Marketing,Marketing,Online
END:VEVENT
BEGIN:VEVENT
DTSTART;TZID=Australia/Melbourne:20210321T080000
DTEND;TZID=Australia/Melbourne:20210321T170000
DTSTAMP:20260424T040032
CREATED:20210321T111630Z
LAST-MODIFIED:20210410T092338Z
UID:18803-1616313600-1616346000@marketing.com.au
SUMMARY:Future Proof Your Business in the Digital Age
DESCRIPTION:On the back of the 2019/2020 nationwide successful event series\, NatWest & Luv4 Marketing are proud to deliver its signature programme ‘The Marketing Masterclass’. \nDesigned to provide your business with a detailed marketing roadmap to success\, you will receive 6 workshops where you will learn the skills to deliver a detailed marketing roadmap for your business\, building strategy on top of strategy\, growing the lead funnel in a systematic way. \nEspecially in Today’s world\, Digital Marketing is now the forefront of business growth. There isn’t a business that doesn’t want more leads or want to rank high on Page 1 of Google\, above their competitors\, for all the search terms that will drive sales. \nIn this series\, you will learn how to place your business in front of your target audience across multiple strategies. \nBy attending you will also receive a suite of eLearning supported material via the Luv4 Marketing dashboard. \n  \n\n\nSession 1: The Plan\n11th of February\nThe plan covers knowing your numbers\, checking site speed\, website audit and using existing numbers and audits to set new goals. This is where the users create a ‘Game Plan’. \n  \nSession 2: Website Event\n25th of February\nSetting Up Your Website For Unlimited Lead Generation \n  \nSession 3: Lead Generation Event\n11th of March\nBuilding Targeted Lead Generation Systems That Run Themselves \n  \nSession 4: Paid Advertising Event\n25th of March\nCreating Multi-Channel Lead Campaigns That Work\n  \nSession 5: Social Media & CRM Event\n8th of April\nUsing Social Media Channels To Drive Leads Into Sales \n  \nSession 6: Taking Your Business To The Next Level\n22nd of April\nHow To Build The Turn Key Marketing Solution \n\n\n 
URL:https://marketing.com.au/event/future-proof-your-business-in-the-digital-age/
CATEGORIES:All Event Locations,All Event Topics,All Event Types,Digital Marketing,Marketing,Online,Website
END:VEVENT
BEGIN:VEVENT
DTSTART;VALUE=DATE:20210324
DTEND;VALUE=DATE:20210326
DTSTAMP:20260424T040032
CREATED:20210214T095704Z
LAST-MODIFIED:20210410T092337Z
UID:18522-1616544000-1616716799@marketing.com.au
SUMMARY:Digital Marketing World Forum #DMWF North America 2021
DESCRIPTION:Exploring the latest trends & strategies within Digital Marketing and covering Digital Marketing Technologies\, Virtual Reality\, Artificial Intelligence\, Influencer Marketing\, UX\, CX\, eCommerce\, Content Marketing\, Data\, Analytics\, and Mobile\, this conference is not to be missed. \nWith a 12+ year history of bringing together the worldwide digital marketing community to tackle the challenges that the digital future presents. Delivering 2 days of top-level strategic content and digital marketing insights\, networking\, and discussion from leading global brands \n#DMWF North America prides itself on its global brand speaker line-up and the latest examples & case studies within the dedicated conference tracks. \nThis fully online conference will be a mixture of on-demand and live sessions so you can join the worldwide marketing community from the comfort of your home office. \nThe agenda will focus on supporting marketers to tackle the challenges you’re facing\, to inspire and share practical advice to help our community to plan\, implement and execute new strategies to impact their campaigns for the future. \n#DMWF North America is free to attend and will be exclusively for the community of Senior Marketing Professionals within America and surrounding regions. \nThis online event will be running on an application model to uphold the seniority of our #DMWF attendees.
URL:https://marketing.com.au/event/digital-marketing-world-forum-dmwf-north-america-2021/
LOCATION:Online
CATEGORIES:AI,All Event Locations,All Event Topics,All Event Types,Conference,Content Marketing,Digital Marketing,eCommerce,Marketing,Online,SEO,UX,Website
END:VEVENT
END:VCALENDAR