BEGIN:VCALENDAR
VERSION:2.0
PRODID:-//Marketing.com.au - ECPv6.15.20//NONSGML v1.0//EN
CALSCALE:GREGORIAN
METHOD:PUBLISH
X-WR-CALNAME:Marketing.com.au
X-ORIGINAL-URL:https://marketing.com.au
X-WR-CALDESC:Events for Marketing.com.au
REFRESH-INTERVAL;VALUE=DURATION:PT1H
X-Robots-Tag:noindex
X-PUBLISHED-TTL:PT1H
BEGIN:VTIMEZONE
TZID:Australia/Melbourne
BEGIN:STANDARD
TZOFFSETFROM:+1100
TZOFFSETTO:+1000
TZNAME:AEST
DTSTART:20190406T160000
END:STANDARD
BEGIN:DAYLIGHT
TZOFFSETFROM:+1000
TZOFFSETTO:+1100
TZNAME:AEDT
DTSTART:20191005T160000
END:DAYLIGHT
BEGIN:STANDARD
TZOFFSETFROM:+1100
TZOFFSETTO:+1000
TZNAME:AEST
DTSTART:20200404T160000
END:STANDARD
BEGIN:DAYLIGHT
TZOFFSETFROM:+1000
TZOFFSETTO:+1100
TZNAME:AEDT
DTSTART:20201003T160000
END:DAYLIGHT
BEGIN:STANDARD
TZOFFSETFROM:+1100
TZOFFSETTO:+1000
TZNAME:AEST
DTSTART:20210403T160000
END:STANDARD
BEGIN:DAYLIGHT
TZOFFSETFROM:+1000
TZOFFSETTO:+1100
TZNAME:AEDT
DTSTART:20211002T160000
END:DAYLIGHT
END:VTIMEZONE
BEGIN:VEVENT
DTSTART;VALUE=DATE:20200303
DTEND;VALUE=DATE:20200304
DTSTAMP:20260425T000215
CREATED:20200107T112118Z
LAST-MODIFIED:20200222T051655Z
UID:14775-1583193600-1583279999@marketing.com.au
SUMMARY:Programmatic Summit 2020 Melbourne
DESCRIPTION:Join the sharpest minds in the industry at the Programmatic Summit 2020\, Australia & New Zealand’s #1 programmatic advertising conference. \nThe Programmatic Summit takes place in March 2020\, Melbourne (3rd March) & Sydney (5th March). Topics will cover all aspects of programmatic advertising and the summit will provide insights into how this fast moving industry is evolving. It’s a must-attend event for both buy side & sell side executives within the media and advertising industry.
URL:https://marketing.com.au/event/programmatic-summit-2020-melbourne/
LOCATION:Novotel on Collins\, 270 Collins Street\, Melbourne\, VIC\, 3000\, Australia
CATEGORIES:All Event Locations,All Event Topics,All Event Types,Conference,Content Marketing,Digital Marketing,Marketing,Melbourne
END:VEVENT
BEGIN:VEVENT
DTSTART;VALUE=DATE:20200305
DTEND;VALUE=DATE:20200306
DTSTAMP:20260425T000215
CREATED:20200107T111945Z
LAST-MODIFIED:20200222T051655Z
UID:14773-1583366400-1583452799@marketing.com.au
SUMMARY:Programmatic Summit 2020 Sydney
DESCRIPTION:Join the sharpest minds in the industry at the Programmatic Summit 2020\, Australia & New Zealand’s #1 programmatic advertising conference. \nThe Programmatic Summit takes place in March 2020\, Melbourne (3rd March) & Sydney (5th March). Topics will cover all aspects of programmatic advertising and the summit will provide insights into how this fast moving industry is evolving. It’s a must-attend event for both buy side & sell side executives within the media and advertising industry.
URL:https://marketing.com.au/event/programmatic-summit-2020-sydney/
LOCATION:Doltone House\, Hyde Park\, Sydney\, SYD\, Australia
CATEGORIES:All Event Locations,All Event Topics,All Event Types,Digital Marketing,Marketing,Sydney
END:VEVENT
BEGIN:VEVENT
DTSTART;VALUE=DATE:20200306
DTEND;VALUE=DATE:20200307
DTSTAMP:20260425T000215
CREATED:20200222T055820Z
LAST-MODIFIED:20200808T045611Z
UID:14903-1583452800-1583539199@marketing.com.au
SUMMARY:Make 2020 Your Best Year - 10 Marketing Secrets To Hack Your Success
DESCRIPTION:Are you wanting to make 2020 your best year ever? \nAre you struggling to find new ways to market your business? \nThen this event is for you. Not only is it a chance to Network with other liked minded business owners but you will get 10 Marketing Strategies to help make 2020 your best year ever. \nSchedule: \n9.00am-10.00am – Networking Opportunity/Free Coffee! \n10.00am – 10.45am – 10 Marketing Strategies To Hack Success in 2020 \n10.45am – 11.00am – Q&A \n11.00am – 11.30am – Networking Opportunity
URL:https://marketing.com.au/event/make-2020-your-best-year-10-marketing-secrets-to-hack-your-success/
LOCATION:Richardson Park Clubrooms\, Amherst Street\, South Perth\, WA\, 6151\, Australia
CATEGORIES:All Event Locations,All Event Topics,All Event Types,Marketing
END:VEVENT
BEGIN:VEVENT
DTSTART;TZID=Australia/Melbourne:20200311T090000
DTEND;TZID=Australia/Melbourne:20200312T233000
DTSTAMP:20260425T000215
CREATED:20190818T021339Z
LAST-MODIFIED:20200808T045552Z
UID:14102-1583917200-1584055800@marketing.com.au
SUMMARY:NO/BS Conference
DESCRIPTION:NO/BS is a “Digital Reality Check”\, created out of frustration (by agency owner Jason Soultan) from attending too many conferences with weak content. NO/BS is the event that (Jason) always wanted to attend\, but never really found. A place where like-minded people can get together\, listen to some amazing stories and cut through all the…. BS. NO/BS is hosted at The Forum Melbourne March 11th-13th\, 2020.
URL:https://marketing.com.au/event/no-bs-conference/
LOCATION:Forum Melbourne\, 154 Flinders Street\, Melbourne\, VIC\, 3000\, Australia
CATEGORIES:All Event Locations,All Event Topics,All Event Types,Marketing,Melbourne
END:VEVENT
END:VCALENDAR