BEGIN:VCALENDAR
VERSION:2.0
PRODID:-//Marketing.com.au - ECPv6.15.20//NONSGML v1.0//EN
CALSCALE:GREGORIAN
METHOD:PUBLISH
X-ORIGINAL-URL:https://marketing.com.au
X-WR-CALDESC:Events for Marketing.com.au
REFRESH-INTERVAL;VALUE=DURATION:PT1H
X-Robots-Tag:noindex
X-PUBLISHED-TTL:PT1H
BEGIN:VTIMEZONE
TZID:Australia/Melbourne
BEGIN:STANDARD
TZOFFSETFROM:+1100
TZOFFSETTO:+1000
TZNAME:AEST
DTSTART:20180331T160000
END:STANDARD
BEGIN:DAYLIGHT
TZOFFSETFROM:+1000
TZOFFSETTO:+1100
TZNAME:AEDT
DTSTART:20181006T160000
END:DAYLIGHT
BEGIN:STANDARD
TZOFFSETFROM:+1100
TZOFFSETTO:+1000
TZNAME:AEST
DTSTART:20190406T160000
END:STANDARD
BEGIN:DAYLIGHT
TZOFFSETFROM:+1000
TZOFFSETTO:+1100
TZNAME:AEDT
DTSTART:20191005T160000
END:DAYLIGHT
BEGIN:STANDARD
TZOFFSETFROM:+1100
TZOFFSETTO:+1000
TZNAME:AEST
DTSTART:20200404T160000
END:STANDARD
BEGIN:DAYLIGHT
TZOFFSETFROM:+1000
TZOFFSETTO:+1100
TZNAME:AEDT
DTSTART:20201003T160000
END:DAYLIGHT
END:VTIMEZONE
BEGIN:VEVENT
DTSTART;TZID=Australia/Melbourne:20190805T080000
DTEND;TZID=Australia/Melbourne:20190807T170000
DTSTAMP:20260425T210222
CREATED:20190728T021553Z
LAST-MODIFIED:20201002T041507Z
UID:13971-1564992000-1565197200@marketing.com.au
SUMMARY:Chief Marketing Officer Summit
DESCRIPTION:The CMO Summit allows you to meet and do business with Australia and New Zealand’s leading Chief Marketing Officers from the largest corporations in the most cost-effective way. \nWe partner only with a limited number of solution provider companies offering valuable services and expertise. Approved solution providers get the opportunity to conduct mutually selected and pre-scheduled one-on-one meetings with interested buyers of their products and services. Prior to the event\, they receive exclusive access to the profiles of all delegates\, allowing to make educated meeting selections and prepare for productive interactions. \nThe CMO Summit 2019 focuses on the key topics below: \n\n\n\nGoing Back to Basics – Instilling confidence in long term investments to recalibrate the focus on brand recognition\, awareness and perception\nCut the Clutter – Reviewing organisational structures\, skill sets and marketing mixes in a saturated market to differentiate the brand\nRoadmap for Results – Matching customer needs by assessing marketing opportunities across various platforms with effective segmentation and targeting\nKeeping Authenticity in Check – Sparking meaningful conversations with authentic content that resonates with target audiences\nAutomating with Finesse – Uncovering new\, improved ways to continually engage with customers amidst intensity of resources\nPowered by Digital – Embarking on a digital transformation journey in an ever more interconnected world to be competitive for the future
URL:https://marketing.com.au/event/chief-marketing-officer-summit-2/
LOCATION:RACV Royal Pines Resort\, Benowa\, Gold Coast\, QLD\, 4217\, Australia
CATEGORIES:All Event Locations,All Event Topics,All Event Types,Marketing
END:VEVENT
BEGIN:VEVENT
DTSTART;TZID=Australia/Melbourne:20190806T080000
DTEND;TZID=Australia/Melbourne:20190806T170000
DTSTAMP:20260425T210222
CREATED:20190622T075012Z
LAST-MODIFIED:20190622T075012Z
UID:13800-1565078400-1565110800@marketing.com.au
SUMMARY:GROW with Hubspot
DESCRIPTION:GROW is the industry event for company builders\, marketers and sales leaders who want to scale and grow their business\, better. \nIn 2019\, HubSpot will bring together some of the brightest minds in marketing\, sales\, customer experience\, and business growth to deliver keynotes and masterclasses to over 1\,000 attendees throughout one day of learning. Business growth leaders from HubSpot\, CEBIT\, SalesTribe and many more will show you the ins and outs of the inbound methodology\, to help you attract\, convert\, close and delight your prospective customers.
URL:https://marketing.com.au/event/grow-with-hubspot/
CATEGORIES:Digital Marketing,Marketing,Sydney
END:VEVENT
BEGIN:VEVENT
DTSTART;VALUE=DATE:20190828
DTEND;VALUE=DATE:20190830
DTSTAMP:20260425T210222
CREATED:20190731T094518Z
LAST-MODIFIED:20201008T045517Z
UID:13997-1566950400-1567123199@marketing.com.au
SUMMARY:CXO Leaders Australia
DESCRIPTION:28 – 29 August 2019\, Sydney\nJoin Australia’s leading CMOs\, CDOs\, Heads of Customer at the CXO Leaders Summit Australia\, the country’s leading Marketing event. The CXO Leaders Summit Australia is invitation only and intended for Australia’s most senior marketing and customer experience leaders to gather for a strategic two day event in order to exchange knowledge and interact as one over a range of important issues facing the industry. The one-to-one meetings with leading supplier companies will also provide a wealth of knowledge and offer opportunities for all attending delegates\, while the informal networking sessions promise to create a unique interactive forum. \n7th Annual CXO Leaders Summit Australia being held on the 28th-29th August at the Hilton Hotel. \nFor more information visit: http://www.cxoleaders.com.au
URL:https://marketing.com.au/event/cxo-leaders-australia-2/
LOCATION:Hilton Sydney\, 488 George Street\, Sydney\, NSW\, 2000\, Australia
CATEGORIES:All Event Locations,All Event Topics,All Event Types,Marketing,Sydney
ATTACH;FMTTYPE=image/png:https://marketing.com.au/wp-content/uploads/2019/07/CXO-Leaders-Australia.png
ORGANIZER;CN="Media Corp International":MAILTO:jennifer(at)mediacorpinternational.com.au
END:VEVENT
BEGIN:VEVENT
DTSTART;TZID=Australia/Melbourne:20190828T090000
DTEND;TZID=Australia/Melbourne:20190828T160000
DTSTAMP:20260425T210222
CREATED:20190224T055555Z
LAST-MODIFIED:20190310T093046Z
UID:13217-1566982800-1567008000@marketing.com.au
SUMMARY:TECHSPO Sydney 2019
DESCRIPTION:Where Business\, Tech and Innovation Collide in Sydney! \nTECHSPO Sydney 2019 is a two-day technology expo taking place August 28th to 29th\, 2019 at the ANZ Stadium in Sydney\, Australia. TECHSPO Sydney brings together some of the best developers\, brands\, marketers\, technology providers\, designers\, innovators and evangelists looking to set the pace in our advanced world of technology. Watch exhibitors showcase the next generation of advances in technology & innovation\, including; Internet\, Mobile\, AdTech\, MarTech and SaaS technologies. Be prepared to be inspired\, amazed and educated on how these evolving technologies will impact your business for greater growth. \nAs part of TECHSPO Sydney is a limited attendance event\, DigiMarCon Australia 2019 Digital Marketing Conference (https://digimarconaustralia.com). If the conference is where the learning\, theory and inspiration happens\, then the TECHSPO floor is where the testing\, networking and product interaction takes place.
URL:https://marketing.com.au/event/techspo-sydney-2019/
LOCATION:ANZ Stadium\, Edwin Flack Avenue\, Sydney\, NSW\, 2000\, Australia
CATEGORIES:All Event Locations,All Event Types,Conference,Marketing,Sydney
END:VEVENT
BEGIN:VEVENT
DTSTART;TZID=Australia/Melbourne:20190828T090000
DTEND;TZID=Australia/Melbourne:20190829T190000
DTSTAMP:20260425T210222
CREATED:20181225T103159Z
LAST-MODIFIED:20190413T235058Z
UID:12952-1566982800-1567105200@marketing.com.au
SUMMARY:DigiMarCon Australia 2019
DESCRIPTION:DigiMarCon Australia 2019 is your chance to …\n– Hear from some of the most audacious and thought provoking speakers in the digital marketing industry.\n– Gain insight into emerging strategies\, the latest innovative technologies\, and best practices to move your business to the next level.\n– Network with thought leaders\, collaborate with your peers and build your network in a beautiful atmosphere. \nDigiMarCon Australia 2019 Digital Marketing Conference & Exhibition will be held from August 28th to 29th\, 2019 at the ANZ Stadium in Sydney\, Australia. Whatever your goal is; reinforcing customer loyalty\, improving lead generation\, increasing sales\, or driving stronger consumer engagement\, the DigiMarCon Australia 2019 line up has been specifically designed to help you develop your audience. \nImmerse yourself in topics like digital strategy\, programmatic advertising\, web experience management\, usability / design\, mobile marketing & retargeting\, customer engagement\, user acquisition\, social media marketing\, targeting & optimization\, video marketing\, data science & big data\, web analytics & A/B testing\, email marketing\, content marketing\, conversion rate optimization\, search engine optimization\, paid search marketing\, geo-targeting\, predictive analysis & attribution\, growth hacking\, conversion rate optimization\, growth marketing tools\, marketing & sales automation\, sustainable growth strategies\, product marketing & UX / UI and much\, much more! \nAt DigiMarCon Australia 2019\, you will receive all the elements you need to achieve digital marketing success! Conventional thought will be challenged\, new ways of thinking will emerge\, and you will leave with your head and notebooks full of action items and ideas to lead your agency / team / account to even greater success. \nBe a part of DigiMarCon Australia 2019 and discover how to thrive and succeed as a marketer in a rapidly evolving digital world. \nSecure your seat now and take advantage of our discounted super early bird registration rates.
URL:https://marketing.com.au/event/digimarcon-australia/
LOCATION:ANZ Stadium\, Edwin Flack Avenue\, Sydney\, NSW\, 2000\, Australia
CATEGORIES:All Event Locations,All Event Topics,All Event Types,Conference,Content Marketing,Digital Marketing,Marketing
END:VEVENT
END:VCALENDAR