BEGIN:VCALENDAR
VERSION:2.0
PRODID:-//Marketing.com.au - ECPv6.15.20//NONSGML v1.0//EN
CALSCALE:GREGORIAN
METHOD:PUBLISH
X-ORIGINAL-URL:https://marketing.com.au
X-WR-CALDESC:Events for Marketing.com.au
REFRESH-INTERVAL;VALUE=DURATION:PT1H
X-Robots-Tag:noindex
X-PUBLISHED-TTL:PT1H
BEGIN:VTIMEZONE
TZID:Australia/Melbourne
BEGIN:STANDARD
TZOFFSETFROM:+1100
TZOFFSETTO:+1000
TZNAME:AEST
DTSTART:20250405T160000
END:STANDARD
BEGIN:DAYLIGHT
TZOFFSETFROM:+1000
TZOFFSETTO:+1100
TZNAME:AEDT
DTSTART:20251004T160000
END:DAYLIGHT
BEGIN:STANDARD
TZOFFSETFROM:+1100
TZOFFSETTO:+1000
TZNAME:AEST
DTSTART:20260404T160000
END:STANDARD
BEGIN:DAYLIGHT
TZOFFSETFROM:+1000
TZOFFSETTO:+1100
TZNAME:AEDT
DTSTART:20261003T160000
END:DAYLIGHT
BEGIN:STANDARD
TZOFFSETFROM:+1100
TZOFFSETTO:+1000
TZNAME:AEST
DTSTART:20270403T160000
END:STANDARD
BEGIN:DAYLIGHT
TZOFFSETFROM:+1000
TZOFFSETTO:+1100
TZNAME:AEDT
DTSTART:20271002T160000
END:DAYLIGHT
END:VTIMEZONE
BEGIN:VEVENT
DTSTART;VALUE=DATE:20260331
DTEND;VALUE=DATE:20260402
DTSTAMP:20260420T004845
CREATED:20251231T050544Z
LAST-MODIFIED:20251231T073702Z
UID:27285-1774915200-1775087999@marketing.com.au
SUMMARY:Content Summit Australia 2026
DESCRIPTION:Content Summit Australia is where marketers\, strategists and creatives come together to talk all things content – from brand storytelling and strategy to social\, video\, design and audience engagement. \n\n\n\n\n\nFeaturing two packed days at the Brisbane Powerhouse\, you’ll hear from the people and brands doing content best\, through inspiring keynotes\, real-talk panels and deep thinky sessions across three dedicated content tracks.
URL:https://marketing.com.au/event/content-summit-australia-2026/
LOCATION:Brisbane Powerhouse\, QLD\, Australia
CATEGORIES:All Event Locations,All Event Topics,All Event Types,Communications,Conference,Content Marketing,Copywriting,Graphic Design,Queensland
END:VEVENT
END:VCALENDAR