BEGIN:VCALENDAR
VERSION:2.0
PRODID:-//Marketing.com.au - ECPv6.15.20//NONSGML v1.0//EN
CALSCALE:GREGORIAN
METHOD:PUBLISH
X-ORIGINAL-URL:https://marketing.com.au
X-WR-CALDESC:Events for Marketing.com.au
REFRESH-INTERVAL;VALUE=DURATION:PT1H
X-Robots-Tag:noindex
X-PUBLISHED-TTL:PT1H
BEGIN:VTIMEZONE
TZID:Australia/Melbourne
BEGIN:STANDARD
TZOFFSETFROM:+1100
TZOFFSETTO:+1000
TZNAME:AEST
DTSTART:20240406T160000
END:STANDARD
BEGIN:DAYLIGHT
TZOFFSETFROM:+1000
TZOFFSETTO:+1100
TZNAME:AEDT
DTSTART:20241005T160000
END:DAYLIGHT
BEGIN:STANDARD
TZOFFSETFROM:+1100
TZOFFSETTO:+1000
TZNAME:AEST
DTSTART:20250405T160000
END:STANDARD
BEGIN:DAYLIGHT
TZOFFSETFROM:+1000
TZOFFSETTO:+1100
TZNAME:AEDT
DTSTART:20251004T160000
END:DAYLIGHT
BEGIN:STANDARD
TZOFFSETFROM:+1100
TZOFFSETTO:+1000
TZNAME:AEST
DTSTART:20260404T160000
END:STANDARD
BEGIN:DAYLIGHT
TZOFFSETFROM:+1000
TZOFFSETTO:+1100
TZNAME:AEDT
DTSTART:20261003T160000
END:DAYLIGHT
END:VTIMEZONE
BEGIN:VEVENT
DTSTART;VALUE=DATE:20250916
DTEND;VALUE=DATE:20250917
DTSTAMP:20260420T100845
CREATED:20250704T110156Z
LAST-MODIFIED:20250704T110254Z
UID:27002-1757980800-1758067199@marketing.com.au
SUMMARY:IHAC Evolution In-House Agency Summit 2025
DESCRIPTION:Australia’s premier event for in-house and hybrid agency teams\, the IHAC Evolution Summit\, is returning to Sydney on Tuesday\, September 16\, 2025 at The Grounds of Alexandria. \nNow in its third year\, the summit which is run by the In-House Agency Council (IHAC)\, brings together APAC’s most progressive in-house and hybrid agency members for a full day of discussion\, inspiration and connection. The 2025 edition will spotlight the latest thinking on team structure\, creative operations and technology integration – all underpinned by real-world insights from across the IHAC community.
URL:https://marketing.com.au/event/ihac-evolution-in-house-agency-summit-2025/
LOCATION:Grounds of Alexandria\, NSW
CATEGORIES:Advertising,All Event Locations,All Event Topics,All Event Types,Content Marketing,Digital Marketing,Graphic Design
END:VEVENT
END:VCALENDAR