BEGIN:VCALENDAR
VERSION:2.0
PRODID:-//Marketing.com.au - ECPv6.15.20//NONSGML v1.0//EN
CALSCALE:GREGORIAN
METHOD:PUBLISH
X-WR-CALNAME:Marketing.com.au
X-ORIGINAL-URL:https://marketing.com.au
X-WR-CALDESC:Events for Marketing.com.au
REFRESH-INTERVAL;VALUE=DURATION:PT1H
X-Robots-Tag:noindex
X-PUBLISHED-TTL:PT1H
BEGIN:VTIMEZONE
TZID:Australia/Melbourne
BEGIN:STANDARD
TZOFFSETFROM:+1100
TZOFFSETTO:+1000
TZNAME:AEST
DTSTART:20210403T160000
END:STANDARD
BEGIN:DAYLIGHT
TZOFFSETFROM:+1000
TZOFFSETTO:+1100
TZNAME:AEDT
DTSTART:20211002T160000
END:DAYLIGHT
BEGIN:STANDARD
TZOFFSETFROM:+1100
TZOFFSETTO:+1000
TZNAME:AEST
DTSTART:20220402T160000
END:STANDARD
BEGIN:DAYLIGHT
TZOFFSETFROM:+1000
TZOFFSETTO:+1100
TZNAME:AEDT
DTSTART:20221001T160000
END:DAYLIGHT
BEGIN:STANDARD
TZOFFSETFROM:+1100
TZOFFSETTO:+1000
TZNAME:AEST
DTSTART:20230401T160000
END:STANDARD
BEGIN:DAYLIGHT
TZOFFSETFROM:+1000
TZOFFSETTO:+1100
TZNAME:AEDT
DTSTART:20230930T160000
END:DAYLIGHT
END:VTIMEZONE
BEGIN:VEVENT
DTSTART;TZID=Australia/Melbourne:20220711T180000
DTEND;TZID=Australia/Melbourne:20220711T200000
DTSTAMP:20260420T174300
CREATED:20220529T064114Z
LAST-MODIFIED:20220814T044626Z
UID:21902-1657562400-1657569600@marketing.com.au
SUMMARY:Email Marketing Essentials
DESCRIPTION:Email marketing can generate an astounding $42 for every $1 spent\, which is a 4200% ROI. However\, it requires its own unique set of content\, skill set\, and design considerations. Under the pile of emails people receive every day\, how can you make your email stand out? \nDesigned for professionals with little to no background in email marketing\, in this workshop\, you’ll learn how to develop and drive email strategy\, best practices and principles for getting users to take action\, simple strategies and A/B tests to maximize conversions\, and what to measure and track.
URL:https://marketing.com.au/event/email-marketing-essentials/
LOCATION:Online
CATEGORIES:All Event Locations,All Event Topics,All Event Types,Email marketing,Online
END:VEVENT
END:VCALENDAR