BEGIN:VCALENDAR
VERSION:2.0
PRODID:-//Marketing.com.au - ECPv6.15.20//NONSGML v1.0//EN
CALSCALE:GREGORIAN
METHOD:PUBLISH
X-ORIGINAL-URL:https://marketing.com.au
X-WR-CALDESC:Events for Marketing.com.au
REFRESH-INTERVAL;VALUE=DURATION:PT1H
X-Robots-Tag:noindex
X-PUBLISHED-TTL:PT1H
BEGIN:VTIMEZONE
TZID:Australia/Melbourne
BEGIN:STANDARD
TZOFFSETFROM:+1100
TZOFFSETTO:+1000
TZNAME:AEST
DTSTART:20210403T160000
END:STANDARD
BEGIN:DAYLIGHT
TZOFFSETFROM:+1000
TZOFFSETTO:+1100
TZNAME:AEDT
DTSTART:20211002T160000
END:DAYLIGHT
BEGIN:STANDARD
TZOFFSETFROM:+1100
TZOFFSETTO:+1000
TZNAME:AEST
DTSTART:20220402T160000
END:STANDARD
BEGIN:DAYLIGHT
TZOFFSETFROM:+1000
TZOFFSETTO:+1100
TZNAME:AEDT
DTSTART:20221001T160000
END:DAYLIGHT
BEGIN:STANDARD
TZOFFSETFROM:+1100
TZOFFSETTO:+1000
TZNAME:AEST
DTSTART:20230401T160000
END:STANDARD
BEGIN:DAYLIGHT
TZOFFSETFROM:+1000
TZOFFSETTO:+1100
TZNAME:AEDT
DTSTART:20230930T160000
END:DAYLIGHT
END:VTIMEZONE
BEGIN:VEVENT
DTSTART;TZID=Australia/Melbourne:20220119T210000
DTEND;TZID=Australia/Melbourne:20220119T223000
DTSTAMP:20260421T142043
CREATED:20211204T061442Z
LAST-MODIFIED:20211204T072951Z
UID:20760-1642626000-1642631400@marketing.com.au
SUMMARY:Email marketing where to start?
DESCRIPTION:Overlooked email marketing as an overused or out moded form of marketing and communications? Glued have specifically written this workshop to encourage those just starting out on their email marketing journey. During the lockdown we recognised that this Cinderella discipline was coming into its own. \nRob Harrison and David Wilson of Glued will take you through some of the key facts and figures about the effectiveness of email marketing. \nThey will also cover: key tips on list purchase; reviews of the main platforms; fitting email marketing into your sales process; creating\, running and monitoring campaigns. Peppered into this learning will be interactive exercises on: how to profile a target email marketing list; writing engaging subject and head lines; and\, selecting imagery that helps you say more than the sum of the parts. \n 
URL:https://marketing.com.au/event/email-marketing-where-to-start/
LOCATION:Online
CATEGORIES:All Event Locations,All Event Topics,All Event Types,Email marketing,Online
END:VEVENT
END:VCALENDAR