BEGIN:VCALENDAR
VERSION:2.0
PRODID:-//Marketing.com.au - ECPv6.15.20//NONSGML v1.0//EN
CALSCALE:GREGORIAN
METHOD:PUBLISH
X-WR-CALNAME:Marketing.com.au
X-ORIGINAL-URL:https://marketing.com.au
X-WR-CALDESC:Events for Marketing.com.au
REFRESH-INTERVAL;VALUE=DURATION:PT1H
X-Robots-Tag:noindex
X-PUBLISHED-TTL:PT1H
BEGIN:VTIMEZONE
TZID:Australia/Melbourne
BEGIN:STANDARD
TZOFFSETFROM:+1100
TZOFFSETTO:+1000
TZNAME:AEST
DTSTART:20200404T160000
END:STANDARD
BEGIN:DAYLIGHT
TZOFFSETFROM:+1000
TZOFFSETTO:+1100
TZNAME:AEDT
DTSTART:20201003T160000
END:DAYLIGHT
BEGIN:STANDARD
TZOFFSETFROM:+1100
TZOFFSETTO:+1000
TZNAME:AEST
DTSTART:20210403T160000
END:STANDARD
BEGIN:DAYLIGHT
TZOFFSETFROM:+1000
TZOFFSETTO:+1100
TZNAME:AEDT
DTSTART:20211002T160000
END:DAYLIGHT
BEGIN:STANDARD
TZOFFSETFROM:+1100
TZOFFSETTO:+1000
TZNAME:AEST
DTSTART:20220402T160000
END:STANDARD
BEGIN:DAYLIGHT
TZOFFSETFROM:+1000
TZOFFSETTO:+1100
TZNAME:AEDT
DTSTART:20221001T160000
END:DAYLIGHT
END:VTIMEZONE
BEGIN:VEVENT
DTSTART;TZID=Australia/Melbourne:20210110T090000
DTEND;TZID=Australia/Melbourne:20210110T103000
DTSTAMP:20260422T105638
CREATED:20201222T040550Z
LAST-MODIFIED:20210118T073244Z
UID:17986-1610269200-1610274600@marketing.com.au
SUMMARY:Email marketing & copywriting basics
DESCRIPTION:It is not enough to be a good writer. Many good writers do not have great cash flow because they are not able to sell. Writing that sells is an art in itself. Some of the topics include: \n\nSignificance of email marketing\nEpisodic approach\nWriting strategies for email marketing\nContent
URL:https://marketing.com.au/event/email-marketing-copywriting-basics/
LOCATION:Online
CATEGORIES:All Event Locations,All Event Topics,All Event Types,Content Marketing,Email marketing
END:VEVENT
BEGIN:VEVENT
DTSTART;TZID=Australia/Melbourne:20210116T070000
DTEND;TZID=Australia/Melbourne:20210116T080000
DTSTAMP:20260422T105638
CREATED:20201222T040353Z
LAST-MODIFIED:20210118T073243Z
UID:17984-1610780400-1610784000@marketing.com.au
SUMMARY:The Essentials of Email Marketing for Your Business
DESCRIPTION:Email marketing is nearly 40x more effective than Facebook and Twitter combined. And yet\, this powerful tool is often overlooked in entrepreneurs’ digital marketing plans. When done right\, email marketing adds value for your customers and has a high return on investment for your company. \nIn this webinar we’ll discuss the importance of email marketing in growing your business\, and how you can get started building effective email campaigns. \nYou’ll learn: \n• Why email marketing is essential for small businesses \n• How to build and manage your email list \n• What types of content to include in your emails \n• How to measure the results of your campaigns \nSpeaker Bio: Devonne Kendrick\, Marketing Lead \nDevonne is passionate about all things marketing\, life-long learning\, and supporting women in business. This led her to Alberta Women Entrepreneurs where she joined the team as a marketing co-op student from 2014-2015. \nAfter completing her Bachelor of Commerce degree at the University of Alberta and working in the post-secondary sector for over two years\, she rejoined the AWE team in 2018. She brings her creativity\, love of writing\, and her analytical skills to her current role as Marketing Lead. Devonne’s past marketing experience includes developing content and strategies for local organizations in the retail\, not-for-profit\, and post-secondary education sectors.
URL:https://marketing.com.au/event/the-essentials-of-email-marketing-for-your-business/
LOCATION:Online
CATEGORIES:All Event Locations,All Event Topics,All Event Types,Email marketing
END:VEVENT
END:VCALENDAR