BEGIN:VCALENDAR
VERSION:2.0
PRODID:-//Marketing.com.au - ECPv6.15.20//NONSGML v1.0//EN
CALSCALE:GREGORIAN
METHOD:PUBLISH
X-WR-CALNAME:Marketing.com.au
X-ORIGINAL-URL:https://marketing.com.au
X-WR-CALDESC:Events for Marketing.com.au
REFRESH-INTERVAL;VALUE=DURATION:PT1H
X-Robots-Tag:noindex
X-PUBLISHED-TTL:PT1H
BEGIN:VTIMEZONE
TZID:Australia/Melbourne
BEGIN:STANDARD
TZOFFSETFROM:+1100
TZOFFSETTO:+1000
TZNAME:AEST
DTSTART:20190406T160000
END:STANDARD
BEGIN:DAYLIGHT
TZOFFSETFROM:+1000
TZOFFSETTO:+1100
TZNAME:AEDT
DTSTART:20191005T160000
END:DAYLIGHT
BEGIN:STANDARD
TZOFFSETFROM:+1100
TZOFFSETTO:+1000
TZNAME:AEST
DTSTART:20200404T160000
END:STANDARD
BEGIN:DAYLIGHT
TZOFFSETFROM:+1000
TZOFFSETTO:+1100
TZNAME:AEDT
DTSTART:20201003T160000
END:DAYLIGHT
BEGIN:STANDARD
TZOFFSETFROM:+1100
TZOFFSETTO:+1000
TZNAME:AEST
DTSTART:20210403T160000
END:STANDARD
BEGIN:DAYLIGHT
TZOFFSETFROM:+1000
TZOFFSETTO:+1100
TZNAME:AEDT
DTSTART:20211002T160000
END:DAYLIGHT
END:VTIMEZONE
BEGIN:VEVENT
DTSTART;TZID=Australia/Melbourne:20200317T080000
DTEND;TZID=Australia/Melbourne:20200317T170000
DTSTAMP:20260423T094651
CREATED:20200222T060858Z
LAST-MODIFIED:20201002T054742Z
UID:14914-1584432000-1584464400@marketing.com.au
SUMMARY:Learn Mailchimp in Adelaide (Advanced)
DESCRIPTION:Take your Mailchimp marketing to the next level\nLearn from a Mailchimp listed training partner! See our partner page at Mailchimp.  \nWant to learn how to use advanced Mailchimp functionality? If you already use Mailchimp and want to get exception results then this practical class is for you (looking for beginner and intermediate training? \nThis class\, combining examples and practice\, covers topics intended for experienced Mailchimp users. \nNote: Our classes are small so please book early to avoid missing out. Mailchimp training certificates are provided to all attendees. \nWhat you’ll learn\nLearn the following and more: \n\nAutomation: How to create automated marketing e.g. a series of welcome emails when a contact subscribes.\nA/B campaign testing: Learn to test email campaign variations with Mailchimp.\nAdvanced segmentation: Know how to trigger a follow up email campaign based on a click.\nIntegrations: Connect your online CRM\, POS\, eCommerce and so on with Mailchimp.\nData manipulation and correction: Automate the capitalization of the first name field in Mailchimp.\nPopup signup forms: Create a popup form for your website.\nInserting countdown timers into email campaigns: Create and insert a countdown timer into an email campaign for enhanced conversions.\nAnimated images: Create and insert animated images into an email campaign.\nSurveys in email marketing: What works (and doesn’t) and how to insert a Typeform question into an email campaign.\nand more\n\nLevel: Advanced. \nWhat you’ll need to bring: A laptop is required to complete exercises.
URL:https://marketing.com.au/event/learn-mailchimp-in-adelaide-advanced-2/
LOCATION:Regus – Adelaide\, 121 King William Street\, Adelaide\, South Australia\, Australia
CATEGORIES:Advertising,All Event Locations,All Event Topics,All Event Types,Email marketing
END:VEVENT
END:VCALENDAR