BEGIN:VCALENDAR
VERSION:2.0
PRODID:-//Marketing.com.au - ECPv6.15.20//NONSGML v1.0//EN
CALSCALE:GREGORIAN
METHOD:PUBLISH
X-ORIGINAL-URL:https://marketing.com.au
X-WR-CALDESC:Events for Marketing.com.au
REFRESH-INTERVAL;VALUE=DURATION:PT1H
X-Robots-Tag:noindex
X-PUBLISHED-TTL:PT1H
BEGIN:VTIMEZONE
TZID:Australia/Melbourne
BEGIN:STANDARD
TZOFFSETFROM:+1100
TZOFFSETTO:+1000
TZNAME:AEST
DTSTART:20190406T160000
END:STANDARD
BEGIN:DAYLIGHT
TZOFFSETFROM:+1000
TZOFFSETTO:+1100
TZNAME:AEDT
DTSTART:20191005T160000
END:DAYLIGHT
BEGIN:STANDARD
TZOFFSETFROM:+1100
TZOFFSETTO:+1000
TZNAME:AEST
DTSTART:20200404T160000
END:STANDARD
BEGIN:DAYLIGHT
TZOFFSETFROM:+1000
TZOFFSETTO:+1100
TZNAME:AEDT
DTSTART:20201003T160000
END:DAYLIGHT
BEGIN:STANDARD
TZOFFSETFROM:+1100
TZOFFSETTO:+1000
TZNAME:AEST
DTSTART:20210403T160000
END:STANDARD
BEGIN:DAYLIGHT
TZOFFSETFROM:+1000
TZOFFSETTO:+1100
TZNAME:AEDT
DTSTART:20211002T160000
END:DAYLIGHT
BEGIN:STANDARD
TZOFFSETFROM:+1100
TZOFFSETTO:+1000
TZNAME:AEST
DTSTART:20220402T160000
END:STANDARD
BEGIN:DAYLIGHT
TZOFFSETFROM:+1000
TZOFFSETTO:+1100
TZNAME:AEDT
DTSTART:20221001T160000
END:DAYLIGHT
END:VTIMEZONE
BEGIN:VEVENT
DTSTART;VALUE=DATE:20210615
DTEND;VALUE=DATE:20210617
DTSTAMP:20260419T221812
CREATED:20210501T064613Z
LAST-MODIFIED:20210529T024128Z
UID:19284-1623715200-1623887999@marketing.com.au
SUMMARY:Digital Marketing for Financial Services Canada Summit 2021
DESCRIPTION:Digital marketing is at a crossroads. This hyper-digital world is not a temporary reality that will disappear with the pandemic – it is here to stay. Attend the 11th Annual Digital Marketing for Financial Services Canada Summit and benchmark with hundreds of like-minded industry peers. Delve into inspired case studies playing out in real time. \nHear best practices from thought leaders and award-winning brands\, like: Mastercard\, TD\, Wells Fargo\, RBC\, EQ Bank\, Prudential\, Vanguard\, BMO\, Sun Life and 40+ more! \nTake advantage of this virtual\, 2-day offering to interact with thought leaders\, experts and professionals from across Canada. Share best practices and gain insights to drive conversion and build customer loyalty. \n\nDiscover how the visionaries and leaders behind the world’s most iconic financial services brands are constantly innovating to stay ahead of the curve. Gain crucial insights to maximize your digital ROI and drive brand engagement. Uncover how to implement proven strategies by examining in-depth case studies and engaging in exclusive panel discussions. Connect with 40+ senior digital marketing leaders and benchmark your marketing strategies against them. \n\nThe 11th Annual Digital Marketing for Financial Services Canada Summit connects you with exclusive knowledge at the touch of a button. \nIn addition to this leading-edge content\, we are excited to share this as an immersive virtual experience that offers you key benefits\, including: \n\nLIVE interactive sessions with enhanced Q&A\, polls and learning\nBreak-out groups on specialized topics to turbocharged peer-to-peer learning\nNetworking with industry leadership you wouldn’t otherwise have access to\nOn-demand workshops Keynotes and panels that can be viewed anytime\, 24/7 (available for you to reference after the event)\nA virtual exhibit hall with special offers from sponsors\nLess travel and time away from work = more convenience\n\n\nThe 11th Annual Digital Marketing for Financial Services Canada Summit brings senior financial marketing executives together in one digital space. It enables them to access strategically-focused content in an environment that is conducive to forging lasting business relationships. \nThis is your opportunity to network with the industry’s key influencers and decision-makers at this action-packed\, 2-day virtual event. Build your pipeline with sales leads by taking advantage of one of our limited sponsorship opportunities now.
URL:https://marketing.com.au/event/digital-marketing-for-financial-services-canada-summit-2021/
LOCATION:Online
CATEGORIES:All Event Locations,All Event Topics,All Event Types,Digital Marketing,eCommerce,Marketing
END:VEVENT
BEGIN:VEVENT
DTSTART;VALUE=DATE:20210526
DTEND;VALUE=DATE:20210528
DTSTAMP:20260419T221812
CREATED:20210410T024814Z
LAST-MODIFIED:20210410T092231Z
UID:18988-1621987200-1622159999@marketing.com.au
SUMMARY:E-commerce Berlin Expo 2021
DESCRIPTION:E-commerce Berlin Expo 2021\, organized by E-commerce Capitals\, will take place on 26 – 27 May. \nE-commerce Berlin Expo 2021 will present the e-commerce sector\, dedicated to solutions for e-merchants\, from digital marketing to logistics aso offers visitors a rich and relevant program with the complete range of products and services essential to drive online retail performance. \nE-commerce Berlin Expo will become the hot spot for a day full of knowledge. Visitors can expect a full program with practical lectures by top international speakers\, passionate discussions and many new impulses. \nThis event provides business opportunities for the entire e-commerce ecosystem: from merchants to platforms\, hosting providers\, fraud prevention solution providers\, payment processors\, and other online solution businesses.
URL:https://marketing.com.au/event/e-commerce-berlin-expo-2021/
LOCATION:Online
CATEGORIES:All Event Locations,All Event Topics,All Event Types,Conference,eCommerce
END:VEVENT
BEGIN:VEVENT
DTSTART;TZID=Australia/Melbourne:20210525T080000
DTEND;TZID=Australia/Melbourne:20210525T120000
DTSTAMP:20260419T221812
CREATED:20210501T021044Z
LAST-MODIFIED:20210529T024128Z
UID:19257-1621929600-1621944000@marketing.com.au
SUMMARY:Level Up eCommerce
DESCRIPTION:Level Up eCommerce Event Will Teach You How To Add 50-100 Sales/Day To Your Online Store Using Tools That You Can Implement In Minutes And FINALLY Stop Wasting Money On Stuff That Doesn’t Work. \nSpend 4hrs with us an learn:\n– How To Drive Highly Lucrative Traffic To Your Store\n​- How To Avoid Gambling Online And Instead Use A Proven System That’s Guaranteed To Work\n– ​The Best Systems & Strategies that work for businesses on small budgets\n​- Why most Facebook ads don’t work and how to make them sell like hot cakes\n– ​How to DOUBLE your conversions using JUST 5-MINUTES of effort\n​- How To Get To $100k/Month Even If You’re Starting From Zero\n​- The 3 Most Effective Tools That Will Skyrocket Your Conversions And You Can Install In Minutes\n– ​​How to not just adjust but THRIVE in this new economy\n​and much more… \nWho is this for:\n– eCommerce store owners whether you’re using Shopify\, WooCommerce\, BigCartel\, Wix or any of the other major online platforms\n– Entrepreneurs who want to reach $100k/month with their online store as fast as possible\n– Anyone who’s interested in how to turn traffic to sales\n– Anyone who loved digital marketing & sales funnels and wants to learn more \nThis is an online global event with participants from multiple countries that will take place on the 25th of May 2021 from 8am AEST to 12noon AEST (Sydney\, Australia time zone).
URL:https://marketing.com.au/event/level-up-ecommerce/
LOCATION:Online
CATEGORIES:All Event Locations,All Event Topics,All Event Types,eCommerce,Melbourne,Online
END:VEVENT
BEGIN:VEVENT
DTSTART;VALUE=DATE:20210525
DTEND;VALUE=DATE:20210528
DTSTAMP:20260419T221812
CREATED:20210410T034211Z
LAST-MODIFIED:20210410T092232Z
UID:19008-1621900800-1622159999@marketing.com.au
SUMMARY:eCOM360 Adapt or Lose
DESCRIPTION:Adapt or Lose. No alternative. \nThat’s why in 2021 we are gathering the leading ecommerce practitioners to learn how to better adapt in a world rapidly changing. \nIn 3 days with 15+ hyper-focused sessions\, you will walk through all steps of digital commerce transformation. GET INSPIRED\, IDEATE\, JUST F* DO IT & SCALE UP your business in a new virtual setting: \nWHAT YOU WILL LEARN \n\nCreative process of generating and developing new commercial ideas from Fortune 500 companies\nIncredible stories of change-management and adaption\, proving IMPOSSIBLE IS POSSIBLE!\nGenerate at least 10 new ideas for your business to reach new heights in a new normal\nand much more…
URL:https://marketing.com.au/event/ecom360-adapt-or-lose/
LOCATION:Online
CATEGORIES:All Event Locations,All Event Topics,All Event Types,Conference,eCommerce,Online
END:VEVENT
BEGIN:VEVENT
DTSTART;VALUE=DATE:20210518
DTEND;VALUE=DATE:20210519
DTSTAMP:20260419T221812
CREATED:20210410T023854Z
LAST-MODIFIED:20210410T092235Z
UID:18980-1621296000-1621382399@marketing.com.au
SUMMARY:eTail Asia Virtual Summit 2021
DESCRIPTION:eTail Asia Virtual Summit 2021\, organized by Worldwide Business Research\, will take place on 18-20 May. \neTail Asia is returning for 2021 on 18th- 20th May\, online. Packed with the latest developments in all things retail\, with the best speaker faculty\, top Asian brands and one-stop-shop for tech innovation – this is THE event to attend if you want to step up your game. \neCommerce and Digital Marketing have been picking up speed with innovative products\, new customer preferences and flexible operating models since the global pandemic hit. As the industry continues to reshape and spark unexpected developments\, the future of retailing appears to be challenging but BRIGHT! \nSign up for free for 30+ sessions over 3 days with giants of the retail world delivering case-studies\, hosting think-tanks\, workshops\, roundtables and discussions to help you meet every challenge and opportunity you face. \nPlus our new and improved online platform\, Pathable\, gives you an unrivalled opportunity to find relevant people in your industry\, start one-on-one conversations or group discussions. Online networking has never been this good. We’re confident you’ll be impressed! \nKey Discussion Topics Include:\n\nThriving A New World Of Retail\nLeveraging The Power of Collaboration\nBuilding Agile & Resilient Supply Chains\nReassessing Your Physical & Online Footprint\nMapping Out Your Digital Marketing Spend\nCapitalising Social Commerce\nReducing Frictions in Cross Border eCommerce\nExploring The Future of Money\nUnleashing The Power Of Influencer Marketing\nLive Streaming 101\nMastering CX & Retention\nNext Frontiers in Digital Marketing
URL:https://marketing.com.au/event/etail-asia-virtual-summit-2021/
LOCATION:Online
CATEGORIES:All Event Locations,All Event Topics,All Event Types,Digital Marketing,eCommerce
END:VEVENT
BEGIN:VEVENT
DTSTART;VALUE=DATE:20210503
DTEND;VALUE=DATE:20210506
DTSTAMP:20260419T221812
CREATED:20210214T100008Z
LAST-MODIFIED:20210410T092237Z
UID:18524-1620000000-1620259199@marketing.com.au
SUMMARY:AdWorld 2021
DESCRIPTION:Join 50\,000 of the world’s brightest minds in advertising to learn\, share secrets and connect online. \nFor three days on 3-5th May\, Ad World will stream 12+ Digital Advertising Tracks\, consisting of hyper-focused speeches\, panels and live Q&A sessions to help take your business to the next level. \nThe all-in-one advertising event will bring you closer to leading marketers and brands than ever before from the comfort of your home. \n50\,000+attendees\n100+speakers\n140+countries\n12+tracks \nLearning\nAttend a 3-day Masterclass: Learn the strategies\, systems and insider secrets used by the top advertising experts across every major marketing channel. \nGet access to 50+ hours of hyper-focused speeches\, exclusive interviews\, and in-depth panels covering digital marketing’s hottest topics. \nNetworking\nThe networking event of the year: Meet the industry elite\, network with 50\,000 marketers\, advertisers\, ecommerce brands\, entrepreneurs and founders through 1-on-1 and group networking. \nConnect with speakers directly at Live Speaker Q&A Sessions and get your questions answered by the experts as part of an engaging virtual experience. \nLead Generation\nGet more global leads: Forge valuable\, long-lasting connections with industry-leading marketers and advertisers from across the world.
URL:https://marketing.com.au/event/adworld-2021/
LOCATION:Online
CATEGORIES:Advertising,All Event Locations,All Event Topics,All Event Types,Digital Marketing,eCommerce,Online
END:VEVENT
BEGIN:VEVENT
DTSTART;VALUE=DATE:20210324
DTEND;VALUE=DATE:20210326
DTSTAMP:20260419T221812
CREATED:20210214T095704Z
LAST-MODIFIED:20210410T092337Z
UID:18522-1616544000-1616716799@marketing.com.au
SUMMARY:Digital Marketing World Forum #DMWF North America 2021
DESCRIPTION:Exploring the latest trends & strategies within Digital Marketing and covering Digital Marketing Technologies\, Virtual Reality\, Artificial Intelligence\, Influencer Marketing\, UX\, CX\, eCommerce\, Content Marketing\, Data\, Analytics\, and Mobile\, this conference is not to be missed. \nWith a 12+ year history of bringing together the worldwide digital marketing community to tackle the challenges that the digital future presents. Delivering 2 days of top-level strategic content and digital marketing insights\, networking\, and discussion from leading global brands \n#DMWF North America prides itself on its global brand speaker line-up and the latest examples & case studies within the dedicated conference tracks. \nThis fully online conference will be a mixture of on-demand and live sessions so you can join the worldwide marketing community from the comfort of your home office. \nThe agenda will focus on supporting marketers to tackle the challenges you’re facing\, to inspire and share practical advice to help our community to plan\, implement and execute new strategies to impact their campaigns for the future. \n#DMWF North America is free to attend and will be exclusively for the community of Senior Marketing Professionals within America and surrounding regions. \nThis online event will be running on an application model to uphold the seniority of our #DMWF attendees.
URL:https://marketing.com.au/event/digital-marketing-world-forum-dmwf-north-america-2021/
LOCATION:Online
CATEGORIES:AI,All Event Locations,All Event Topics,All Event Types,Conference,Content Marketing,Digital Marketing,eCommerce,Marketing,Online,SEO,UX,Website
END:VEVENT
BEGIN:VEVENT
DTSTART;VALUE=DATE:20210217
DTEND;VALUE=DATE:20210220
DTSTAMP:20260419T221812
CREATED:20210118T082225Z
LAST-MODIFIED:20210410T092343Z
UID:18198-1613520000-1613779199@marketing.com.au
SUMMARY:DeveloperWeek
DESCRIPTION:Each year\, 8\,000+ developers\, engineers\, software architects\, dev teams\, managers and executives from 70+ countries gather for DeveloperWeek (Feb 17-19\, 2021) to discover the latest in developer technologies\, languages\, platforms\, and tools. \nDeveloperWeek 2021 is the largest developer conference & event series including the DeveloperWeek 2021 Conference & Expo\, 1\,000+ attendee hackathon\, 800+ attendee tech hiring expo\, and a series of workshops\, technical talks\, and keynotes. This year\, the entire DeveloperWeek Events Series will be hosted online! \nBecause DeveloperWeek covers all new technologies\, our conference and workshops invite you to get intro lessons (or advanced tips and tricks) on technologies like VR Dev\, Artificial Intelligence Dev\, Blockchain Dev\, IoT Dev\, Serverless technology\, Microservices technology\, new JavaScript frameworks\, and more. \nThis year\, DeveloperWeek will have an expanded DevExec World\, which is 2 days of roundtable talks\, educational talks\, and networking events for engineering managers\, tech executives\, and lead developers. Additionally\, DeveloperWeek will be co-located with ProductWorld and CloudWorld. \nDeveloperWeek puts the spotlight on new technologies. Companies that participated in past DeveloperWeek events include Google\, Facebook\, Yelp\, Rackspace\, IBM\, Cloudera\, Red Hat\, Optimizely\, SendGrid\, Blackberry\, Microsoft\, Neo Technology\, Eventbrite\, Klout\, Built.io\, Ripple\, GNIP\, Tagged\, HackReactor\, and 30+ more here! \nWhen it comes to technology\, there’s incremental change\, and then there’s fundamental innovation. Developer technology\, from blockchain and artificial intelligence to big data and quantum computing represents fundamental innovation that people can build on for years. We are in the DevTech Age\, where developer technologies and tools are now the most disruptive and fundamental technology innovation in the marketplace. When you build tools for developers\, you are not just implementing a small incremental use case\, you are building platforms\, frameworks\, and APIs that will enable entirely new web\, mobile\, and IoT innovation.
URL:https://marketing.com.au/event/developerweek/
LOCATION:Online
CATEGORIES:AI,All Event Locations,All Event Topics,All Event Types,Data,Digital Marketing,eCommerce,Online,UX,Website
END:VEVENT
BEGIN:VEVENT
DTSTART;TZID=Australia/Melbourne:20201112T080000
DTEND;TZID=Australia/Melbourne:20201113T170000
DTSTAMP:20260419T221812
CREATED:20201010T105231Z
LAST-MODIFIED:20201010T112001Z
UID:17195-1605168000-1605286800@marketing.com.au
SUMMARY:Amazon Strategies Virtual Forum
DESCRIPTION:The retail world was upended this past spring with the emergence of the coronavirus pandemic. As a result\, retailers had to think quickly and adapt to a totally e-commerce world. One of those retailers? Amazon. While many brands use Amazon as a tool for online commerce\, Amazon’s advertising function is a necessity to compete and is often mixed in with a brands other marketing strategies. \nAt the Amazon Strategies Virtual Forum\, we will be tackling all things Amazon\, from selling to advertising. As luxury retailers enter the Amazon ecosystem and as CPG companies compete for ad space\, every retailer or brand has to bet on Amazon. From the AMS platform\, to product pages\, even video advertising\, we’ll hear from retailers and agency partners alike as they walk us through how their Amazon strategies have shifted in the past few months. Join us and come away with actionable insights and practical tips that’ll help you grow your business. \nWhat’s included with a pass \n• Access to all live presentations and interactive town halls and working group discussions\n• Access to on-demand videos and slides from any sessions you may have missed\n• An Amazon Advertising Survival Guide packed with key takeaways from the week\, practical tips\,\non-demand sessions\, full presentations and much more
URL:https://marketing.com.au/event/amazon-strategies-virtual-forum/
LOCATION:Online
CATEGORIES:All Event Locations,All Event Topics,All Event Types,eCommerce,Online
END:VEVENT
BEGIN:VEVENT
DTSTART;TZID=Australia/Melbourne:20201111T080000
DTEND;TZID=Australia/Melbourne:20201112T170000
DTSTAMP:20260419T221812
CREATED:20201010T105045Z
LAST-MODIFIED:20201010T112002Z
UID:17193-1605081600-1605200400@marketing.com.au
SUMMARY:24hr Virtual Global Ecommerce Summit
DESCRIPTION:eCommerce across the globe has significantly spiked due to the COVID-19 pandemic. \nThere has been a massive change to the types of goods that are being bought due to social distancing with many consumers focusing on buying\nessential goods. \nDuring this 24hr virtual summit\, we will be focusing on the key trends in the eCommerce industry and methods to overcome the challenges brought on\nby COVID-19. \nWe will be exploring the eCommerce trends in the following regions: \n\nAsia Pacific: Where cross border trade has increased\, but now might have to be reassessed during the time of COVID\nMiddle East: We will explore how to keep the momentum for these retailers\, since the adoption of online shopping has spiked due to COVID-19\nEurope: Where there have been supplying chain challenges due to borders that are closed\nLATAM and Caribbean: This region has also been experiencing exponential growth\, but how will they manage product shortages?\nNorth America: Here there has also been an increase in eCommerce sales\, but there has been an increase in fraud that cannot be ignored\n\nGlobally the rate of eCommerce has increased\, we will explore the supply chain and stock issues that some markets are facing due to borders being\nclosed\, and some stock coming from China. \nJoin us at the 24 hours Global eCommerce summit to discuss the key challenges and trends in the eCommerce space and identify new areas for growth\nand where new opportunities lie.
URL:https://marketing.com.au/event/24hr-virtual-global-ecommerce-summit/
LOCATION:Online
CATEGORIES:All Event Locations,All Event Topics,All Event Types,eCommerce,Online
END:VEVENT
BEGIN:VEVENT
DTSTART;VALUE=DATE:20201102
DTEND;VALUE=DATE:20201105
DTSTAMP:20260419T221812
CREATED:20200906T061625Z
LAST-MODIFIED:20201010T112044Z
UID:16647-1604275200-1604534399@marketing.com.au
SUMMARY:Ad World
DESCRIPTION:Join 15\,000+ of the world’s brightest minds in advertising to learn\, share secrets and connect online. \nFor three days\, Ad World will stream 15+ Digital Advertising Tracks\, consisting of hyper-focused speeches\, workshops and live Q&A sessions to help take your business to the next level. \nNetworking\nThe networking event of the year: Meet the industry elite\, network with 15\,000+ marketers\, advertisers\, ecommerce brands\, entrepreneurs and founders. \nLead Generation\nGet more global leads: Forge valuable\, long-lasting connections with industry leading marketers and advertisers from across the world. \nLearning\nIt’s 15 events in one: Attend diverse range of tracks\, hyper-focused speeches\, learn actionable strategies\, secrets\, attend in-depth workshops & more. \nCareer Development\nEarn up to 24 IAB Continuing Education Credits: Ad World is an IAB (Interactive Advertising Bureau) approved event that will earn you one Continuing Education Credit per one hour of content. \nPresenters: \nAn unparalleled lineup of Ad World leaders have come to share their secrets. They will present actionable insights\, data-driven knowledge and innovative ideas from the online advertising industry. \n\nSir Martin Sorrell\, Executive Chairman\, S4 Capital Group\nRory Sutherland\, Vice Chairman\, Ogilvy UK\, TED Global Speaker\, Author of Alchemy\nJulie Channing\, Vice President of Marketing\, Allbirds\nSam Parr\, Founder\, The Hustle\nJori Ford\, CMO\, FoodBoss\nAshley Vinson. Creative Agency Partner\, Facebook\nAlex Chahin\, Director of Product Marketing\, Hims & Hers\nAshleigh Rankin\, Senior Manager\, Growth Partnerships\, Reddit\nEzra Firestone\, Founder Smart Marketer Inc.\, CEO BOOM! By Cindy Joseph\nMark Joyner\, Digital Ads Pioneer & Author\nShaan Puri\, Host\, My First Million Podcast and Founder\, Bebo\nNubia Mota\, Head of Marketing & New Business\, Magento\nAlex Lieberman\, Co-Founder & CEO\, Morning Brew\nJill Wittkopp\, Director of Product\, IAB\nJesse Horwitz\, Founder\, Hubble
URL:https://marketing.com.au/event/ad-world/
LOCATION:Online
CATEGORIES:Advertising,All Event Locations,All Event Topics,All Event Types,eCommerce,Online,PPC
END:VEVENT
BEGIN:VEVENT
DTSTART;VALUE=DATE:20201020
DTEND;VALUE=DATE:20201021
DTSTAMP:20260419T221812
CREATED:20200906T052559Z
LAST-MODIFIED:20201010T112047Z
UID:16621-1603152000-1603238399@marketing.com.au
SUMMARY:Online Retailer FUSION
DESCRIPTION:This October join us at our brand new event Online Retailer FUSION where we bring together the best of online and face-to-face. \nOnline Retailer connects the ecommerce community to access the latest trends\, strategic insights\, tech & solutions plus creates the connections for everybody’s opportunity to reset\, restart and rebuild. \nFor those that cannot make the live event\, tune into the livestream conference feeding through in real time and make sure you don’t miss any of the key topics we are set to tackle.  \n2020 Speaker Spotlight\nWe’re looking forward to welcoming an incredible line-up of speakers to Online Retailer FUSION including: \n\nKACEY SHARRETT\, VP of eCommerce\, Barnes & Noble\nMATTHEW HASSAN\, Senior Economist\, Westpac\nBRETT ARMSTRONG\, General Manager\, Global Business Solutions\, TikTok
URL:https://marketing.com.au/event/online-retailer-fusion/
LOCATION:Online
CATEGORIES:All Event Locations,All Event Topics,All Event Types,Conference,eCommerce,Online
END:VEVENT
BEGIN:VEVENT
DTSTART;VALUE=DATE:20201001
DTEND;VALUE=DATE:20201003
DTSTAMP:20260419T221812
CREATED:20200906T053340Z
LAST-MODIFIED:20201010T112338Z
UID:16628-1601510400-1601683199@marketing.com.au
SUMMARY:International Search Summit
DESCRIPTION:Global ideas – Global people – Accessible virtually\nThe International Search Summit (ISS)\, the only event dedicated entirely to international search marketing topics and challenges\, is going global! \nThis fully interactive virtual event will feature a range of speakers\, with expertise in managing international websites and running global campaigns. They will share tips\, tactics and advice for improving your online presence in international markets and how to overcome common challenges. \nWith the ability to join virtual tables on different international topics\, plenty of live Q&A and dedicated networking opportunities\, attendees will have the chance to ask the questions that matter to them and their business and leave with the answers they need to drive online global performance – all whilst experiencing a virtual event like no other! \n\n\n\n\nWhy attend ISS\n\n\n\n\n\n\nThe International Search Summit remains the only event dedicated specifically to the challenges\, twists and turns of managing international websites and running global campaigns. \nKey benefits include: \n\nTruly internationally-focused topics\nTactics for expanding your SEO and SEM strategies\nTechnical insights on how to position your brand in international markets\nHands-on knowledge from seasoned marketers\nReal-time networking with other industry professionals\nLive Q&A sessions
URL:https://marketing.com.au/event/international-search-summit/
LOCATION:Online
CATEGORIES:All Event Locations,All Event Topics,All Event Types,Content Marketing,Data,Digital Marketing,eCommerce,Online,SEO,Website
END:VEVENT
END:VCALENDAR