BEGIN:VCALENDAR
VERSION:2.0
PRODID:-//Marketing.com.au - ECPv6.15.20//NONSGML v1.0//EN
CALSCALE:GREGORIAN
METHOD:PUBLISH
X-WR-CALNAME:Marketing.com.au
X-ORIGINAL-URL:https://marketing.com.au
X-WR-CALDESC:Events for Marketing.com.au
REFRESH-INTERVAL;VALUE=DURATION:PT1H
X-Robots-Tag:noindex
X-PUBLISHED-TTL:PT1H
BEGIN:VTIMEZONE
TZID:Australia/Melbourne
BEGIN:STANDARD
TZOFFSETFROM:+1100
TZOFFSETTO:+1000
TZNAME:AEST
DTSTART:20200404T160000
END:STANDARD
BEGIN:DAYLIGHT
TZOFFSETFROM:+1000
TZOFFSETTO:+1100
TZNAME:AEDT
DTSTART:20201003T160000
END:DAYLIGHT
BEGIN:STANDARD
TZOFFSETFROM:+1100
TZOFFSETTO:+1000
TZNAME:AEST
DTSTART:20210403T160000
END:STANDARD
BEGIN:DAYLIGHT
TZOFFSETFROM:+1000
TZOFFSETTO:+1100
TZNAME:AEDT
DTSTART:20211002T160000
END:DAYLIGHT
BEGIN:STANDARD
TZOFFSETFROM:+1100
TZOFFSETTO:+1000
TZNAME:AEST
DTSTART:20220402T160000
END:STANDARD
BEGIN:DAYLIGHT
TZOFFSETFROM:+1000
TZOFFSETTO:+1100
TZNAME:AEDT
DTSTART:20221001T160000
END:DAYLIGHT
END:VTIMEZONE
BEGIN:VEVENT
DTSTART;VALUE=DATE:20210615
DTEND;VALUE=DATE:20210617
DTSTAMP:20260424T170921
CREATED:20210501T064613Z
LAST-MODIFIED:20210529T024128Z
UID:19284-1623715200-1623887999@marketing.com.au
SUMMARY:Digital Marketing for Financial Services Canada Summit 2021
DESCRIPTION:Digital marketing is at a crossroads. This hyper-digital world is not a temporary reality that will disappear with the pandemic – it is here to stay. Attend the 11th Annual Digital Marketing for Financial Services Canada Summit and benchmark with hundreds of like-minded industry peers. Delve into inspired case studies playing out in real time. \nHear best practices from thought leaders and award-winning brands\, like: Mastercard\, TD\, Wells Fargo\, RBC\, EQ Bank\, Prudential\, Vanguard\, BMO\, Sun Life and 40+ more! \nTake advantage of this virtual\, 2-day offering to interact with thought leaders\, experts and professionals from across Canada. Share best practices and gain insights to drive conversion and build customer loyalty. \n\nDiscover how the visionaries and leaders behind the world’s most iconic financial services brands are constantly innovating to stay ahead of the curve. Gain crucial insights to maximize your digital ROI and drive brand engagement. Uncover how to implement proven strategies by examining in-depth case studies and engaging in exclusive panel discussions. Connect with 40+ senior digital marketing leaders and benchmark your marketing strategies against them. \n\nThe 11th Annual Digital Marketing for Financial Services Canada Summit connects you with exclusive knowledge at the touch of a button. \nIn addition to this leading-edge content\, we are excited to share this as an immersive virtual experience that offers you key benefits\, including: \n\nLIVE interactive sessions with enhanced Q&A\, polls and learning\nBreak-out groups on specialized topics to turbocharged peer-to-peer learning\nNetworking with industry leadership you wouldn’t otherwise have access to\nOn-demand workshops Keynotes and panels that can be viewed anytime\, 24/7 (available for you to reference after the event)\nA virtual exhibit hall with special offers from sponsors\nLess travel and time away from work = more convenience\n\n\nThe 11th Annual Digital Marketing for Financial Services Canada Summit brings senior financial marketing executives together in one digital space. It enables them to access strategically-focused content in an environment that is conducive to forging lasting business relationships. \nThis is your opportunity to network with the industry’s key influencers and decision-makers at this action-packed\, 2-day virtual event. Build your pipeline with sales leads by taking advantage of one of our limited sponsorship opportunities now.
URL:https://marketing.com.au/event/digital-marketing-for-financial-services-canada-summit-2021/
LOCATION:Online
CATEGORIES:All Event Locations,All Event Topics,All Event Types,Digital Marketing,eCommerce,Marketing
END:VEVENT
BEGIN:VEVENT
DTSTART;TZID=Australia/Melbourne:20210621T080000
DTEND;TZID=Australia/Melbourne:20210625T170000
DTSTAMP:20260424T170921
CREATED:20210501T060329Z
LAST-MODIFIED:20210529T024127Z
UID:19272-1624262400-1624640400@marketing.com.au
SUMMARY:NRF Retail Converge
DESCRIPTION:A must-attend event for everyone across every facet of retail: Don’t slow down this summer\, learn the latest from experts\, thinkers and disruptors of all kinds.\n\nHone in. Zoom out.\n\n9 tracks for deep exploration in your field\n\nLoss Prevention / Asset Protection / Security\nRetail Tech / IT\nSupply Chain / Logistics / Distribution\nCybersecurity / Data Privacy\nMarketing / Data Analytics / Merchandising\nCustomer Experience\nEcommerce / Digital / Mobile\nStore Operations\nCorporate Strategy / Leadership\n\n\nWith content available for scheduled or on-demand viewing and\nnumerous ways to connect with peers\, NRF Retail Converge gives\nyou all the depth you demand and all the breadth you deserve. \n\n75 educational sessions\n85 sponsor-led sessions\n12 Lunch & Learn sessions\n64 product demos\n40 interactive roundtables
URL:https://marketing.com.au/event/nrf-retail-converge/
LOCATION:Online
CATEGORIES:All Event Locations,All Event Topics,All Event Types,eCommerce,Online
END:VEVENT
BEGIN:VEVENT
DTSTART;VALUE=DATE:20210623
DTEND;VALUE=DATE:20210624
DTSTAMP:20260424T170921
CREATED:20210501T054400Z
LAST-MODIFIED:20210529T024127Z
UID:19269-1624406400-1624492799@marketing.com.au
SUMMARY:Home Goods eCommerce Summit
DESCRIPTION:On June 23rd 2021 join Retail Summits for a full day of networking\, presentations and panels from industry leaders. \nSpeakers and attendees include Heads of eCommerce\, Marketing Managers\, Customer Experience Experts and Owners of Small and Medium Sized Retail Brands. Our day begins at 8 AM Eastern and continues with panelists\, presenters\, networking between peers and clients\, we end the day with a virtual Happy Hour. Retail Summits is powered by AccelEvents and other partners allowing us to host continued networking throughout the day.
URL:https://marketing.com.au/event/home-goods-ecommerce-summit/
LOCATION:Online
CATEGORIES:All Event Locations,All Event Topics,All Event Types,Digital Marketing,eCommerce
END:VEVENT
BEGIN:VEVENT
DTSTART;TZID=Australia/Melbourne:20210628T080000
DTEND;TZID=Australia/Melbourne:20210629T170000
DTSTAMP:20260424T170921
CREATED:20210501T053956Z
LAST-MODIFIED:20210529T024127Z
UID:19266-1624867200-1624986000@marketing.com.au
SUMMARY:EcomWorld
DESCRIPTION:The World’s Largest Ecommerce Event \n\n\n\n15\,000+attendees\n3\,000+brands\n50+speakers\n10+tracks\n\nFor the first time ever\, the entire ecommerce world is coming together online to share exclusive knowledge\, tactics and actionable strategies on how to build\, operate\, and scale profitable ecommerce businesses in 2021. \nThis isn’t your typical virtual conference. Ecom World is gathering the world’s most innovative founders\, brightest minds and trailblazing DTC brands for two days of masterclasses and networking – all from the comfort of your home. \nOur speakers are masters of their craft and are handpicked to share their proven blueprints to success. Join them and 15\,000+ attendees for 10+ tracks of in-depth speeches\, panels\, workshops & live Q&A sessions on 28-29th June. \nInterested in growing your brand\, increasing your sales and making 2021 your most profitable year yet? This event is for you.
URL:https://marketing.com.au/event/ecomworld/
LOCATION:Online
CATEGORIES:All Event Locations,All Event Topics,All Event Types,Conference,eCommerce,Online
END:VEVENT
BEGIN:VEVENT
DTSTART;TZID=Australia/Melbourne:20210629T080000
DTEND;TZID=Australia/Melbourne:20210701T170000
DTSTAMP:20260424T170921
CREATED:20210501T065233Z
LAST-MODIFIED:20210529T024127Z
UID:19286-1624953600-1625158800@marketing.com.au
SUMMARY:eTail
DESCRIPTION:For over 20 years\, eTail has brought together retail innovators to hear inspirational tactical content paired with curated networking. \nAt the eTail Virtual Summit & Expo\, you’ll get action-packed stories\, disruptive strategies\, strategic conversations\, and connections with top minds at America’s most successful retailers. No commercials. No egos. We cut out the fluff to give you hundreds of strategic takeaways to increase profits from your business. \nDuring months of research\, we designed an agenda featuring curated themes and topics based on the issues that mattered most to you. You won’t get lost amongst a sea of sessions- our streamlined agenda will highlight the following: \n\n\n\neCommerce 2021: Charting Your Post-Pandemic Growth Path\nAchieving CX and UX Success\nThe Future Of Omnichannel\nDigital Marketing Trends and Tactics\nAligning With the New Consumer Mindset\nCreative\, Content and Brand Strategies\nInsights\, Data and Personalization Strategies\nCustomer Engagement\, Retention and Community Building\nFuture Focus: eCommerce and Digital Marketing In The Next Normal\n\n\nBe Inspired by the Next Wave of Retail Leaders \nOur 50+ expert retail speakers will help you navigate the future of eCommerce and digital marketing in these uncertain times. From a mix of high growth disruptors and the brands who’ve stood the test of time\, you’ll hear from Founders\, CEO’s\, VPs and those that are in the trenches\, doing the work. We cut out the fluff you get at other events to give you actionable strategies to thrive in the next normal.\n\n \nThree Days That Pack a Punch! \nJoin your peers for 30+ sessions over three days with multiple tracks and formats to choose from. During lively panels and fireside chats\, 1-to-1 meetings\, workshops\, roundtables\, virtual happy hours and much more\, you’re guaranteed to bump virtual elbows with eCommerce and digital marketing royalty. You’ll build relationships like never before. \n\n\nYour One-Stop-Shop For Tech Innovation\nAt our virtual exhibit hall\, you’re one click away from the most innovative suppliers in the industry. Explore their products\, attend 1:1 demos\, learn from their experts and get industry leading technology updates. You’ll discover new tech that can help you maximize your online revenues.
URL:https://marketing.com.au/event/etail-2/
LOCATION:Online
CATEGORIES:All Event Locations,All Event Topics,All Event Types,eCommerce,Online
END:VEVENT
END:VCALENDAR