BEGIN:VCALENDAR
VERSION:2.0
PRODID:-//Marketing.com.au - ECPv6.15.20//NONSGML v1.0//EN
CALSCALE:GREGORIAN
METHOD:PUBLISH
X-ORIGINAL-URL:https://marketing.com.au
X-WR-CALDESC:Events for Marketing.com.au
REFRESH-INTERVAL;VALUE=DURATION:PT1H
X-Robots-Tag:noindex
X-PUBLISHED-TTL:PT1H
BEGIN:VTIMEZONE
TZID:Australia/Melbourne
BEGIN:STANDARD
TZOFFSETFROM:+1100
TZOFFSETTO:+1000
TZNAME:AEST
DTSTART:20170401T160000
END:STANDARD
BEGIN:DAYLIGHT
TZOFFSETFROM:+1000
TZOFFSETTO:+1100
TZNAME:AEDT
DTSTART:20170930T160000
END:DAYLIGHT
BEGIN:STANDARD
TZOFFSETFROM:+1100
TZOFFSETTO:+1000
TZNAME:AEST
DTSTART:20180331T160000
END:STANDARD
BEGIN:DAYLIGHT
TZOFFSETFROM:+1000
TZOFFSETTO:+1100
TZNAME:AEDT
DTSTART:20181006T160000
END:DAYLIGHT
BEGIN:STANDARD
TZOFFSETFROM:+1100
TZOFFSETTO:+1000
TZNAME:AEST
DTSTART:20190406T160000
END:STANDARD
BEGIN:DAYLIGHT
TZOFFSETFROM:+1000
TZOFFSETTO:+1100
TZNAME:AEDT
DTSTART:20191005T160000
END:DAYLIGHT
END:VTIMEZONE
BEGIN:VEVENT
DTSTART;TZID=Australia/Melbourne:20181206T173000
DTEND;TZID=Australia/Melbourne:20181206T193000
DTSTAMP:20260421T154019
CREATED:20181116T121433Z
LAST-MODIFIED:20181116T121433Z
UID:12695-1544117400-1544124600@marketing.com.au
SUMMARY:WA Sundowner 2018
DESCRIPTION:ADMA WA is ending 2018 with a bang with the annual WA Sundowner at Goody Two’s to unwind and celebrate another big year. Let your hair down with some drinks and nibbles while we recap on the big topics covered this year in the marketing industry.
URL:https://marketing.com.au/event/wa-sundowner-2018/
LOCATION:Goody Two’s\, 40 Irwin Street\, Perth\, WA\, 6000\, Australia
CATEGORIES:All Event Locations,All Event Topics,All Event Types,Dinner,Perth
END:VEVENT
END:VCALENDAR