BEGIN:VCALENDAR
VERSION:2.0
PRODID:-//Marketing.com.au - ECPv6.15.20//NONSGML v1.0//EN
CALSCALE:GREGORIAN
METHOD:PUBLISH
X-WR-CALNAME:Marketing.com.au
X-ORIGINAL-URL:https://marketing.com.au
X-WR-CALDESC:Events for Marketing.com.au
REFRESH-INTERVAL;VALUE=DURATION:PT1H
X-Robots-Tag:noindex
X-PUBLISHED-TTL:PT1H
BEGIN:VTIMEZONE
TZID:Australia/Melbourne
BEGIN:STANDARD
TZOFFSETFROM:+1100
TZOFFSETTO:+1000
TZNAME:AEST
DTSTART:20160402T160000
END:STANDARD
BEGIN:DAYLIGHT
TZOFFSETFROM:+1000
TZOFFSETTO:+1100
TZNAME:AEDT
DTSTART:20161001T160000
END:DAYLIGHT
BEGIN:STANDARD
TZOFFSETFROM:+1100
TZOFFSETTO:+1000
TZNAME:AEST
DTSTART:20170401T160000
END:STANDARD
BEGIN:DAYLIGHT
TZOFFSETFROM:+1000
TZOFFSETTO:+1100
TZNAME:AEDT
DTSTART:20170930T160000
END:DAYLIGHT
BEGIN:STANDARD
TZOFFSETFROM:+1100
TZOFFSETTO:+1000
TZNAME:AEST
DTSTART:20180331T160000
END:STANDARD
BEGIN:DAYLIGHT
TZOFFSETFROM:+1000
TZOFFSETTO:+1100
TZNAME:AEDT
DTSTART:20181006T160000
END:DAYLIGHT
END:VTIMEZONE
BEGIN:VEVENT
DTSTART;VALUE=DATE:20170619
DTEND;VALUE=DATE:20170620
DTSTAMP:20260423T210913
CREATED:20170502T140212Z
LAST-MODIFIED:20170503T080441Z
UID:9925-1497830400-1497916799@marketing.com.au
SUMMARY:Social Media and Marketing & Digital Retail Operating Success
DESCRIPTION:Remaining up to speed with trends\, platforms and most effective strategies to drive engagement and sales is challenging. This workshop has been put together to help marketers who need guidance on how to use social media drivers. You will start with the essentials of success in social media\, followed by looking at tools and techniques to do with social engagement. \nThe workshop covers: \n\nIdentifying the essentials of social media success\nAnalysing networks\, conversations and influencers to define a strategy\nCreating a content distribution strategy to build brand personality and loyalty\nOptimising tools for scheduling\, automation and measuring performance
URL:https://marketing.com.au/event/social-media-marketing-digital-retail-operating-success/
LOCATION:Hamilton\, 42 Eldernell Terrace\, Hamilton\, QLD\, 4007\, Australia
CATEGORIES:All Event Locations,All Event Topics,All Event Types,Brisbane,Content Marketing,Dinner,Market Research,Marketing,Presentation,Social Media,Workshop
END:VEVENT
END:VCALENDAR