BEGIN:VCALENDAR
VERSION:2.0
PRODID:-//Marketing.com.au - ECPv6.15.20//NONSGML v1.0//EN
CALSCALE:GREGORIAN
METHOD:PUBLISH
X-WR-CALNAME:Marketing.com.au
X-ORIGINAL-URL:https://marketing.com.au
X-WR-CALDESC:Events for Marketing.com.au
REFRESH-INTERVAL;VALUE=DURATION:PT1H
X-Robots-Tag:noindex
X-PUBLISHED-TTL:PT1H
BEGIN:VTIMEZONE
TZID:Australia/Melbourne
BEGIN:STANDARD
TZOFFSETFROM:+1100
TZOFFSETTO:+1000
TZNAME:AEST
DTSTART:20250405T160000
END:STANDARD
BEGIN:DAYLIGHT
TZOFFSETFROM:+1000
TZOFFSETTO:+1100
TZNAME:AEDT
DTSTART:20251004T160000
END:DAYLIGHT
BEGIN:STANDARD
TZOFFSETFROM:+1100
TZOFFSETTO:+1000
TZNAME:AEST
DTSTART:20260404T160000
END:STANDARD
BEGIN:DAYLIGHT
TZOFFSETFROM:+1000
TZOFFSETTO:+1100
TZNAME:AEDT
DTSTART:20261003T160000
END:DAYLIGHT
BEGIN:STANDARD
TZOFFSETFROM:+1100
TZOFFSETTO:+1000
TZNAME:AEST
DTSTART:20270403T160000
END:STANDARD
BEGIN:DAYLIGHT
TZOFFSETFROM:+1000
TZOFFSETTO:+1100
TZNAME:AEDT
DTSTART:20271002T160000
END:DAYLIGHT
END:VTIMEZONE
BEGIN:VEVENT
DTSTART;VALUE=DATE:20260617
DTEND;VALUE=DATE:20260618
DTSTAMP:20260420T064119
CREATED:20260403T060720Z
LAST-MODIFIED:20260403T065232Z
UID:27409-1781654400-1781740799@marketing.com.au
SUMMARY:Insights\, Strategy\, Action!
DESCRIPTION:Turn customer understanding into business growth. In today’s data-rich world\, the real competitive edge doesn’t come from more information – it comes from the ability to turn data into insights that spark strategy and action. \nInsights\, Strategy\, Action! is an immersive\, hands-on program that equips marketers\, researchers and business leaders with the tools to transform customer understanding into growth-driving outcomes.\n\n\nWhat you’ll learn \n\nBy the end of the course\, participants will be able to: \n\nDistinguish between data\, knowledge\, and insight.\nIdentify roles of different sources of information\, including market research and brand tracking\nApply AI tools to optimise insights\, strategy\, and action outcomes\nLink brand knowledge with customer behaviour understanding to uncover patterns that lead to insight\nBuild insights that reveal customer motivations and unlock business opportunities.\nTranslate insights into marketing strategies\, goals and programs aligned with business priorities.\nApply insights to targeting\, segmentation\, personas\, and customer journeys.\nWrite insight-driven briefs and use them as catalysts for innovation and creative activation.\nCraft and deliver compelling growth stories that inspire stakeholder engagement.\n\n\n\n\n\n\nIs this course for me? This course is for… \n\nMarketing\, brand\, and innovation professionals seeking to strengthen their strategic toolkit.\nB2B\, B2C\, retail\, service and consumer marketers\nInsights and research teams who want to see their work have greater business impact.\nBusiness leaders who need to connect customer understanding to growth agendas.\nResearch specialists who want to understand the organisational application of research\nAnyone responsible for shaping marketing plans\, creative development\, or stakeholder engagement.
URL:https://marketing.com.au/event/insights-strategy-action/
LOCATION:Sydney
CATEGORIES:All Event Locations,All Event Topics,All Event Types,Conference,Copywriting,Data,Design,Digital Marketing,Sydney
END:VEVENT
END:VCALENDAR