BEGIN:VCALENDAR
VERSION:2.0
PRODID:-//Marketing.com.au - ECPv6.15.20//NONSGML v1.0//EN
CALSCALE:GREGORIAN
METHOD:PUBLISH
X-ORIGINAL-URL:https://marketing.com.au
X-WR-CALDESC:Events for Marketing.com.au
REFRESH-INTERVAL;VALUE=DURATION:PT1H
X-Robots-Tag:noindex
X-PUBLISHED-TTL:PT1H
BEGIN:VTIMEZONE
TZID:Australia/Melbourne
BEGIN:STANDARD
TZOFFSETFROM:+1100
TZOFFSETTO:+1000
TZNAME:AEST
DTSTART:20240406T160000
END:STANDARD
BEGIN:DAYLIGHT
TZOFFSETFROM:+1000
TZOFFSETTO:+1100
TZNAME:AEDT
DTSTART:20241005T160000
END:DAYLIGHT
BEGIN:STANDARD
TZOFFSETFROM:+1100
TZOFFSETTO:+1000
TZNAME:AEST
DTSTART:20250405T160000
END:STANDARD
BEGIN:DAYLIGHT
TZOFFSETFROM:+1000
TZOFFSETTO:+1100
TZNAME:AEDT
DTSTART:20251004T160000
END:DAYLIGHT
BEGIN:STANDARD
TZOFFSETFROM:+1100
TZOFFSETTO:+1000
TZNAME:AEST
DTSTART:20260404T160000
END:STANDARD
BEGIN:DAYLIGHT
TZOFFSETFROM:+1000
TZOFFSETTO:+1100
TZNAME:AEDT
DTSTART:20261003T160000
END:DAYLIGHT
END:VTIMEZONE
BEGIN:VEVENT
DTSTART;VALUE=DATE:20250619
DTEND;VALUE=DATE:20250620
DTSTAMP:20260421T200609
CREATED:20250316T002422Z
LAST-MODIFIED:20250316T012200Z
UID:26836-1750291200-1750377599@marketing.com.au
SUMMARY:Story Telling for Marketers – Creating Compelling Narratives that connect
DESCRIPTION:Human beings connect learn and grow through stories. Not dot points. Not spreadsheets. Not data sets. Stories are the glue that binds us together! \nThe challenge\, in business\, is to understand how to harness the power of stories but in a business-appropriate way. \nIn this session\, Chris Meredith will touch on story telling theory and then share a simple and powerful story telling framework. He’ll then showcase examples of business presentations\, one-on-ones\, even media interviews with stories at their heart. By the end\, attendees will walk away with an understanding of the role of storytelling in narratives that connect and the confidence to tell stories in their next business communication. \nKey learnings \n\nThe Power of Storytelling: Learn how stories are a powerful tool for connection and communication in business\, far beyond data and spreadsheets.\nStorytelling Framework: Gain practical insights into a simple yet effective storytelling framework that can be applied in business settings.\nStorytelling Theory: Explore the theory behind storytelling and how it helps build stronger business narratives that resonate with your audience.\nReal-World Examples: Understand how storytelling works in business presentations\, one-on-ones\, and media interviews through clear\, impactful examples.
URL:https://marketing.com.au/event/story-telling-for-marketers-creating-compelling-narratives-that-connect/
LOCATION:Online
CATEGORIES:All Event Locations,All Event Topics,All Event Types,Communications,Content Marketing,Copywriting,Online,Public Relations
END:VEVENT
BEGIN:VEVENT
DTSTART;VALUE=DATE:20250630
DTEND;VALUE=DATE:20250701
DTSTAMP:20260421T200609
CREATED:20250310T064244Z
LAST-MODIFIED:20250316T012200Z
UID:26820-1751241600-1751327999@marketing.com.au
SUMMARY:Intrigue MAdVerse 2025
DESCRIPTION:Welcome to the forefront of innovation in the marketing landscape! The Intrigue MAdVerse Summit\, Perth 2025\, represents more than a mere event; it signifies a transformative revolution. Conceived by Salesgasm\, a leader in global conferences\, our mission is to redefine the contours of digital marketing and martech. \nAt Intrigue MAdVerse\, we believe in more than just conferences – we’re curators of experiences that transcend the ordinary. Our summit is where industry titans\, forward-thinkers\, and trailblazers converge to explore the limitless possibilities of MAdTech. Powered by Salesgasm’s unwavering commitment to excellence\, our events are a synergy of knowledge\, networking\, and inspiration. \nJoin us in Perth\, Australia\, where innovation takes center stage\, and let’s embark on a journey to unravel the mysteries of the marketing universe together. The future is now\, and it’s MAdVerse!
URL:https://marketing.com.au/event/intrigue-madverse-2025/
LOCATION:Perth\, WA\, Australia
CATEGORIES:AI,All Event Locations,All Event Topics,All Event Types,Brand,Communications,Conference,Content Marketing,Copywriting,Data,Market Research,Marketing,Perth,PPC,Social Media,Video
END:VEVENT
END:VCALENDAR