BEGIN:VCALENDAR
VERSION:2.0
PRODID:-//Marketing.com.au - ECPv6.15.20//NONSGML v1.0//EN
CALSCALE:GREGORIAN
METHOD:PUBLISH
X-WR-CALNAME:Marketing.com.au
X-ORIGINAL-URL:https://marketing.com.au
X-WR-CALDESC:Events for Marketing.com.au
REFRESH-INTERVAL;VALUE=DURATION:PT1H
X-Robots-Tag:noindex
X-PUBLISHED-TTL:PT1H
BEGIN:VTIMEZONE
TZID:Australia/Melbourne
BEGIN:STANDARD
TZOFFSETFROM:+1100
TZOFFSETTO:+1000
TZNAME:AEST
DTSTART:20150404T160000
END:STANDARD
BEGIN:DAYLIGHT
TZOFFSETFROM:+1000
TZOFFSETTO:+1100
TZNAME:AEDT
DTSTART:20151003T160000
END:DAYLIGHT
BEGIN:STANDARD
TZOFFSETFROM:+1100
TZOFFSETTO:+1000
TZNAME:AEST
DTSTART:20160402T160000
END:STANDARD
BEGIN:DAYLIGHT
TZOFFSETFROM:+1000
TZOFFSETTO:+1100
TZNAME:AEDT
DTSTART:20161001T160000
END:DAYLIGHT
BEGIN:STANDARD
TZOFFSETFROM:+1100
TZOFFSETTO:+1000
TZNAME:AEST
DTSTART:20170401T160000
END:STANDARD
BEGIN:DAYLIGHT
TZOFFSETFROM:+1000
TZOFFSETTO:+1100
TZNAME:AEDT
DTSTART:20170930T160000
END:DAYLIGHT
END:VTIMEZONE
BEGIN:VEVENT
DTSTART;VALUE=DATE:20161114
DTEND;VALUE=DATE:20161115
DTSTAMP:20260423T145931
CREATED:20160915T041000Z
LAST-MODIFIED:20161020T050538Z
UID:8375-1479081600-1479167999@marketing.com.au
SUMMARY:Fundamental Workshop | Marketing for Not for Profits
DESCRIPTION:Do you work at a Not for Profit and face unique challenges and have a small budget? This workshop is for you\, it will help you uncover how to maximise your marketing dollar. \nAt this workshop you will learn how to uncover the methodology behind successful marketing campaigns and understand how they can be adapted to your NFP. You will learn this through a variety of case studies that are relatable to your NFP organisation and how to apply them them to your NFP and reach the goals you need from you marketing.
URL:https://marketing.com.au/event/fundamental-workshop-marketing-not-profits/
LOCATION:Cliftons Sydney\, Level 13\, 60 Margaret Street\, Sydney\, Victoria\, 2000\, Australia
CATEGORIES:All Event Locations,All Event Topics,All Event Types,Content Marketing,Market Research,Marketing,Presentation,Sydney,Workshop
END:VEVENT
BEGIN:VEVENT
DTSTART;VALUE=DATE:20161110
DTEND;VALUE=DATE:20161111
DTSTAMP:20260423T145931
CREATED:20161020T045709Z
LAST-MODIFIED:20161020T050021Z
UID:8833-1478736000-1478822399@marketing.com.au
SUMMARY:Entertainment Marketing Summit
DESCRIPTION:This conference is for marketers who work in television\, radio\, film\, publishing\, music and the broader entertainment industry. You will have the opportunity to connect with both local & international brand owners and other marketing experts.
URL:https://marketing.com.au/event/entertainment-marketing-summit/
LOCATION:The Chauvel\, 249 Oxford Street\, Paddington\, NSW\, 2021\, Australia
CATEGORIES:All Event Locations,All Event Topics,All Event Types,Content Marketing,Marketing,Sydney
END:VEVENT
BEGIN:VEVENT
DTSTART;VALUE=DATE:20161108
DTEND;VALUE=DATE:20161110
DTSTAMP:20260423T145931
CREATED:20160908T024707Z
LAST-MODIFIED:20201002T003704Z
UID:8294-1478563200-1478735999@marketing.com.au
SUMMARY:World Marketing & Sales Forum
DESCRIPTION:Come and hear some of the marketing and sales experts speak on how new ideas are formed and creativity leads the way. This will provide you with an update of the most relevant topics delivered by experts in marketing and sales. Be inspired!
URL:https://marketing.com.au/event/world-marketing-sales-forum-3/
LOCATION:Melbourne Town Hall\, 90-120 Swanston Street\, Melbourne\, Victoria\, 3000\, Australia
CATEGORIES:All Event Locations,All Event Topics,All Event Types,Content Marketing,Digital Marketing,Market Research,Marketing,Melbourne,Social Media
ORGANIZER;CN="B&T":MAILTO:emma(at)bandt.com.au
END:VEVENT
BEGIN:VEVENT
DTSTART;VALUE=DATE:20161027
DTEND;VALUE=DATE:20161029
DTSTAMP:20260423T145931
CREATED:20160701T055332Z
LAST-MODIFIED:20160701T055332Z
UID:7788-1477526400-1477699199@marketing.com.au
SUMMARY:Analytics Conference & Masterclass by Loves Data - Melbourne
DESCRIPTION:Learn the latest in digital advertising\, digital analytics and optimisation directly from expert speakers from Google\, Uber\, LinkedIn\, Loves Data\, Krux\, Web Analytics Demystified\, and more!
URL:https://marketing.com.au/event/analytics-conference-masterclass-loves-data-melbourne/
LOCATION:Melbourne Convention Exhibition Centre\, 1 Convention Centre Place\, South Wharf \, Melbourne\, VIC\, 3006\, Australia
CATEGORIES:All Event Locations,All Event Topics,All Event Types,Conference,Content Marketing,Digital Marketing,Marketing,Melbourne,SEO,Social Media,Workshop
ORGANIZER;CN="Loves Data":MAILTO:info(at)lovesdata.com
END:VEVENT
BEGIN:VEVENT
DTSTART;TZID=Australia/Melbourne:20161026T180000
DTEND;TZID=Australia/Melbourne:20161026T193000
DTSTAMP:20260423T145931
CREATED:20161014T025720Z
LAST-MODIFIED:20161014T025720Z
UID:8769-1477504800-1477510200@marketing.com.au
SUMMARY:Create Landing Pages that Convert
DESCRIPTION:Dennis Graham\, a digital marketing expert for one of Australia’s fastest growing Fintech companies; will demonstrate a simple and powerful methodology for identifying what’s holding back your landing pages. You will see a live demonstration of how you can audit and start optimizing your landing page in just minutes. \nWith a focus on B2B lead gen\, ecommerce and event registration landing pages – you’ll be given the building blocks to optimise just about any landing page.
URL:https://marketing.com.au/event/create-landing-pages-convert/
LOCATION:Saxons Training Centre\, Level 6\, 10 Barrack Street\, Sydney\, NSW\, 2000\, Australia
CATEGORIES:All Event Locations,All Event Topics,All Event Types,Content Marketing,Digital Marketing,Marketing,Meetup,Sydney
END:VEVENT
BEGIN:VEVENT
DTSTART;TZID=Australia/Melbourne:20161026T083000
DTEND;TZID=Australia/Melbourne:20161027T164500
DTSTAMP:20260423T145931
CREATED:20160901T063805Z
LAST-MODIFIED:20160901T070244Z
UID:8203-1477470600-1477586700@marketing.com.au
SUMMARY:Marketing and Communicating with Today's Youth
DESCRIPTION:A one day connected forum with two post-forum workshops. Hear from the world’s hottest youth brands\, how to please parents and appeal to youth and the delicate balancing act\, a new model for youth engagement\, taking responsibility for ethics and better understanding your customer. \nHear from: \n\nAustralian National Maritime Museum\nCoca-Cola Australia\nThe Wiggles\nAustralian Football League\nTransport Accident Commission\nNickelodeon\nFormer Strategic Client Partner – Nike Europe at AKQA London\nKids Business Communications
URL:https://marketing.com.au/event/marketing-communicating-todays-youth/
LOCATION:Rydges Sydney Central\, 28 Albion Street\, Surry Hills\, NSW\, 2010\, Australia
CATEGORIES:All Event Locations,All Event Topics,All Event Types,Conference,Content Marketing,Digital Marketing,Marketing,Presentation,Social Media,Sydney,Workshop
ATTACH;FMTTYPE=image/png:https://marketing.com.au/wp-content/uploads/2016/09/Marketing-Communicating-250x250.png
END:VEVENT
BEGIN:VEVENT
DTSTART;VALUE=DATE:20161026
DTEND;VALUE=DATE:20161027
DTSTAMP:20260423T145931
CREATED:20160915T042050Z
LAST-MODIFIED:20201002T051900Z
UID:8377-1477440000-1477526399@marketing.com.au
SUMMARY:Content Marketing
DESCRIPTION:With the marketing industry shifting and evolving so much it can be hard to keep up. This course has been designed to give marketing managers the practical tools and building blocks to develop and launch a successful content marketing plan.\nThis workshop will teach you how to understand your target audience; learn the methodology to creating engaging content;measure the success of your campaign against the business objectives\, plus more!
URL:https://marketing.com.au/event/content-marketing/
LOCATION:Stamford Plaza Brisbane\, 39 Edward Street\, Brisbane\, QLD\, 4000\, Australia
CATEGORIES:All Event Locations,All Event Topics,All Event Types,Brisbane,Conference,Content Marketing,Digital Marketing,Marketing,Workshop
ORGANIZER;CN="Connect Events":MAILTO:team(at)connectevents.com.au
END:VEVENT
BEGIN:VEVENT
DTSTART;VALUE=DATE:20161025
DTEND;VALUE=DATE:20161027
DTSTAMP:20260423T145931
CREATED:20160701T055336Z
LAST-MODIFIED:20160701T055336Z
UID:7789-1477353600-1477526399@marketing.com.au
SUMMARY:Analytics Conference & Masterclass by Loves Data - Sydney
DESCRIPTION:Learn the latest in digital advertising\, digital analytics and optimisation directly from expert speakers from Google\, Uber\, LinkedIn\, Loves Data\, Krux\, Web Analytics Demystified\, and more!
URL:https://marketing.com.au/event/analytics-conference-masterclass-loves-data-sydney/
LOCATION:Australian National Maritime Museum\, 2 Murray Street\, Sydney\, NSW\, 2000\, Australia
CATEGORIES:All Event Locations,All Event Topics,All Event Types,Conference,Content Marketing,Digital Marketing,Marketing,SEO,Social Media,Sydney,Workshop
ORGANIZER;CN="Loves Data":MAILTO:info(at)lovesdata.com
END:VEVENT
BEGIN:VEVENT
DTSTART;VALUE=DATE:20161025
DTEND;VALUE=DATE:20161026
DTSTAMP:20260423T145931
CREATED:20160914T004131Z
LAST-MODIFIED:20201002T002153Z
UID:8343-1477353600-1477439999@marketing.com.au
SUMMARY:Fundamental Workshop | Principles of Digital Marketing
DESCRIPTION:Learn about the elements of digital marketing in this one-day only workshop. It will include understanding consumer behaviour online\, introduce digital marketing strategy models\, introduction to search engine optimisation and advertising\, plus more. This will be done through looking at case studies\, research and with hands-on tips.
URL:https://marketing.com.au/event/fundamental-workshop-principles-digital-marketing/
LOCATION:Clifton Melbourne\, Level 1\, 440 Collins Street\, Melbourne\, Victoria\, 3000\, Australia
CATEGORIES:All Event Locations,All Event Topics,All Event Types,Content Marketing,Digital Marketing,Marketing,Melbourne,Workshop
END:VEVENT
BEGIN:VEVENT
DTSTART;VALUE=DATE:20161025
DTEND;VALUE=DATE:20161026
DTSTAMP:20260423T145931
CREATED:20160909T053231Z
LAST-MODIFIED:20201002T060531Z
UID:8309-1477353600-1477439999@marketing.com.au
SUMMARY:RESET
DESCRIPTION:This event will inspire the way that you think about marketing in the future and it will challenge the way that you think. The conversations will be lead by international speakers who will confront your everyday challenges.
URL:https://marketing.com.au/event/reset/
LOCATION:Royal Randwick Racecourse\, The Ballroom\, Level 2\, Alison Road\, Randwick\, NSW\, 2031\, Australia
CATEGORIES:Advertising,All Event Locations,All Event Topics,All Event Types,Conference,Content Marketing,Digital Marketing,Market Research,Marketing,Social Media,Sydney,Workshop
END:VEVENT
BEGIN:VEVENT
DTSTART;VALUE=DATE:20161021
DTEND;VALUE=DATE:20161022
DTSTAMP:20260423T145931
CREATED:20160915T042659Z
LAST-MODIFIED:20201002T055719Z
UID:8382-1477008000-1477094399@marketing.com.au
SUMMARY:Fundamental Workshop | Social Media Applications
DESCRIPTION:Want to learn about social media? This workshop will introduce you to the context of social media use for business\, business strategies for social media application\, and an introduction to the most common and useful social media tools for an organisation.
URL:https://marketing.com.au/event/fundamental-workshop-social-media-applications-2/
LOCATION:Cliftons Brisbane\, Level 3\, 288 Edward Street\, Brisbane\, Queensland\, 5000\, Australia
CATEGORIES:All Event Locations,All Event Topics,All Event Types,Brisbane,Content Marketing,Social Media,Workshop
END:VEVENT
BEGIN:VEVENT
DTSTART;TZID=Australia/Melbourne:20161020T084500
DTEND;TZID=Australia/Melbourne:20161020T163000
DTSTAMP:20260423T145931
CREATED:20160908T061436Z
LAST-MODIFIED:20160908T061436Z
UID:8301-1476953100-1476981000@marketing.com.au
SUMMARY:Master Workshop | Digital Marketing Strategy
DESCRIPTION:Do you want to take your career to the next level? Attend this 1 day workshop and develop skills and knowledge in developing a digital marketing workshop.\nThis workshop will include case studies\, research\, templates and practical hands-on tips for you to take away with.
URL:https://marketing.com.au/event/master-workshop-digital-marketing-strategy/
LOCATION:Cliftons Brisbane\, Level 3\, 288 Edward Street\, Brisbane\, Queensland\, 5000\, Australia
CATEGORIES:All Event Locations,All Event Topics,All Event Types,Brisbane,Content Marketing,Digital Marketing,Market Research,Marketing,Presentation,Workshop
END:VEVENT
BEGIN:VEVENT
DTSTART;VALUE=DATE:20161020
DTEND;VALUE=DATE:20161021
DTSTAMP:20260423T145931
CREATED:20161006T073756Z
LAST-MODIFIED:20161006T073756Z
UID:8623-1476921600-1477007999@marketing.com.au
SUMMARY:Impossible Mission: Mobile Moments and App Engagement Start - Melbourne
DESCRIPTION:Mobile first and mobile only customers are becoming normal for most businesses around the world\, this results in digital and mobile teams having to use a range of strategies and tactics to effectively acquire\, analyse and engage mobile users. This session you will learn how to provide individual elements of app engagement to build an end-to-end mobile strategy that improves your relationship with mobile customers.
URL:https://marketing.com.au/event/impossible-mission-mobile-moments-app-engagement-start-melbourne/
LOCATION:Sofitel Melbourne\, 25 Collins Street\, Melbourne\, VIC\, 3000\, Australia
CATEGORIES:All Event Locations,All Event Topics,All Event Types,Content Marketing,Digital Marketing,Marketing,Melbourne,Workshop
END:VEVENT
BEGIN:VEVENT
DTSTART;VALUE=DATE:20161019
DTEND;VALUE=DATE:20161020
DTSTAMP:20260423T145931
CREATED:20161006T073130Z
LAST-MODIFIED:20161006T073253Z
UID:8616-1476835200-1476921599@marketing.com.au
SUMMARY:Impossible Mission: Mobile Moments and App Engagement Start - Sydney
DESCRIPTION:Mobile first and mobile only customers are becoming the norm for many businesses around the world. Resulting in digital and mobile teams having to use a range of strategies and tactics to effectively acquire\, analyse and engage mobile users.\nThis session is designed to provide you with the individual elements of app engagement to build an end-to-end mobile strategy that improves your relationship with mobile customers.
URL:https://marketing.com.au/event/impossible-mission-mobile-moments-app-engagement-start/
LOCATION:Ivy Ballroom
CATEGORIES:All Event Locations,All Event Topics,All Event Types,Content Marketing,Digital Marketing,Marketing,Sydney,Workshop
END:VEVENT
BEGIN:VEVENT
DTSTART;VALUE=DATE:20161019
DTEND;VALUE=DATE:20161020
DTSTAMP:20260423T145931
CREATED:20160908T030007Z
LAST-MODIFIED:20160908T030007Z
UID:8296-1476835200-1476921599@marketing.com.au
SUMMARY:2016 Martech Summit
DESCRIPTION:Join the team at Martech to hear from leading professionals on best practices\, trends and challenges involved in upcoming technology\, particularly as you harness the capabilities of technologies that help direct your future strategies.
URL:https://marketing.com.au/event/2016-martech-summit/
LOCATION:Sheraton On The Park\, 161 Elizabeth Street\, Sydney\, NSW\, 2000\, Australia
CATEGORIES:All Event Locations,All Event Topics,All Event Types,Conference,Content Marketing,Digital Marketing,Dinner,Market Research,Marketing,Sydney,Workshop
END:VEVENT
BEGIN:VEVENT
DTSTART;VALUE=DATE:20161017
DTEND;VALUE=DATE:20161018
DTSTAMP:20260423T145931
CREATED:20160914T010122Z
LAST-MODIFIED:20201002T002501Z
UID:8345-1476662400-1476748799@marketing.com.au
SUMMARY:Fundamental Workshop | Principles of Digital Marketing
DESCRIPTION:Through looking at case studies\, research and with hands-on tips at this one-day only workshop\, you will learn about understanding consumer behaviour online\, digital marketing strategy models plus much more!
URL:https://marketing.com.au/event/fundamental-workshop-principles-digital-marketing-2/
LOCATION:Cliftons Sydney\, Level 13\, 60 Margaret Street\, Sydney\, Victoria\, 2000\, Australia
CATEGORIES:All Event Locations,All Event Topics,All Event Types,Content Marketing,Digital Marketing,Marketing,Sydney,Workshop
END:VEVENT
BEGIN:VEVENT
DTSTART;TZID=Australia/Melbourne:20161012T080000
DTEND;TZID=Australia/Melbourne:20161012T101500
DTSTAMP:20260423T145931
CREATED:20160913T064635Z
LAST-MODIFIED:20160913T064635Z
UID:8340-1476259200-1476267300@marketing.com.au
SUMMARY:Keynote Breakfast with Josh Steimle - 7 Steps to Become a Thought Leader
DESCRIPTION:Thought leaders are respected in their fields and benefit tangibly from their influence and authority. In October Interactive Minds welcome international speaker\, author\, and digital marketing expert Josh Steimle to present a keynote address.\n\nWhether you are a digital marketer\, a small business\, an agency or part of the C Suite\, this event will help you to establish yourself and/or your brand as an influencer and benefit from the opportunities this provides.
URL:https://marketing.com.au/event/keynote-breakfast-josh-steimle-7-steps-become-thought-leader/
LOCATION:Cloudland\, 641 Ann Street \, Fortitude Valley\, Queensland\, 4006\, Australia
CATEGORIES:All Event Locations,All Event Topics,All Event Types,Brisbane,Content Marketing,Digital Marketing,Marketing,Presentation,Workshop
ORGANIZER;CN="Interactive Minds":MAILTO:louisa(at)interactiveminds.com.au
END:VEVENT
BEGIN:VEVENT
DTSTART;VALUE=DATE:20161006
DTEND;VALUE=DATE:20161007
DTSTAMP:20260423T145931
CREATED:20160831T005208Z
LAST-MODIFIED:20201002T045515Z
UID:8193-1475712000-1475798399@marketing.com.au
SUMMARY:Advancing Analytics
DESCRIPTION:Interested in Analytics? Join the IAPA National Conference and hear from some of the leading & local experts talk about analytics\, big data\, sentiment analysis and much more
URL:https://marketing.com.au/event/advancing-analytics-2/
LOCATION:Grand Hyatt\, 123 Collins Street\, Melbourne\, VIC\, 3000\, Australia
CATEGORIES:All Event Locations,All Event Topics,All Event Types,Conference,Content Marketing,Melbourne,SEO,Workshop
END:VEVENT
BEGIN:VEVENT
DTSTART;VALUE=DATE:20161005
DTEND;VALUE=DATE:20161008
DTSTAMP:20260423T145931
CREATED:20160328T025922Z
LAST-MODIFIED:20160328T025922Z
UID:7563-1475625600-1475884799@marketing.com.au
SUMMARY:Content Strategy Forum 2016
DESCRIPTION:Have an interest in content strategy? Come and hear from renowned content professionals\, marketers\, designers\, technologists\, and strategists including the chance to learn in hands-on workshops.
URL:https://marketing.com.au/event/content-strategy-forum-2016/
LOCATION:Melbourne Convention Exhibition Centre\, 1 Convention Centre Place\, South Wharf \, Melbourne\, VIC\, 3006\, Australia
CATEGORIES:All Event Locations,All Event Topics,All Event Types,Conference,Content Marketing,Digital Marketing,Marketing,Melbourne
ORGANIZER;CN="Content Ark":MAILTO:amelia(at)contentark.com.au
END:VEVENT
BEGIN:VEVENT
DTSTART;VALUE=DATE:20161005
DTEND;VALUE=DATE:20161007
DTSTAMP:20260423T145931
CREATED:20160510T065019Z
LAST-MODIFIED:20210410T130957Z
UID:7665-1475625600-1475798399@marketing.com.au
SUMMARY:Chief Marketing Officer Summit
DESCRIPTION:Over 2 days\, the CMO Summit will show you how to improve your data-driven decision-making\, foster a diverse and progressive business culture and develop a seamless omnichannel brand experience.
URL:https://marketing.com.au/event/chief-marketing-officer-summit/
LOCATION:TBA – Sydney\, NSW\, Australia
CATEGORIES:Advertising,All Event Locations,All Event Topics,All Event Types,Conference,Content Marketing,Digital Marketing,Marketing,Sydney
ORGANIZER;CN="Innovation Enterprise":MAILTO:rjohnstone(at)theiegroup.com
END:VEVENT
BEGIN:VEVENT
DTSTART;VALUE=DATE:20160921
DTEND;VALUE=DATE:20160923
DTSTAMP:20260423T145931
CREATED:20160822T072607Z
LAST-MODIFIED:20160822T072607Z
UID:7952-1474416000-1474588799@marketing.com.au
SUMMARY:The Content Safari
DESCRIPTION:This event will be looking at content creation; social media best practice and content communication strategy\, each session will demonstrate practical and useful knowledge.
URL:https://marketing.com.au/event/the-content-safari/
LOCATION:Novotel Sydney Central\, 169-179 Thomas Street\, Sydney\, NSW\, 2000\, Australia
CATEGORIES:All Event Locations,All Event Topics,All Event Types,Conference,Content Marketing,Digital Marketing,Public Relations,Social Media,Sydney,Workshop
END:VEVENT
BEGIN:VEVENT
DTSTART;VALUE=DATE:20160920
DTEND;VALUE=DATE:20160922
DTSTAMP:20260423T145931
CREATED:20160822T072242Z
LAST-MODIFIED:20160822T072242Z
UID:7948-1474329600-1474502399@marketing.com.au
SUMMARY:Marketing and the Australian Public Sector 2016
DESCRIPTION:It’s not about making do with less\, but by doing more through enhancing your current understanding of the new marketing and communication functions at play.
URL:https://marketing.com.au/event/marketing-australian-public-sector-2016/
LOCATION:Novotel Sydney Central\, 169-179 Thomas Street\, Sydney\, NSW\, 2000\, Australia
CATEGORIES:All Event Locations,All Event Topics,All Event Types,Conference,Content Marketing,Digital Marketing,Market Research,Public Relations,Social Media,Sydney,Workshop
END:VEVENT
BEGIN:VEVENT
DTSTART;TZID=Australia/Melbourne:20160911T083000
DTEND;TZID=Australia/Melbourne:20160911T130000
DTSTAMP:20260423T145931
CREATED:20160831T004144Z
LAST-MODIFIED:20160831T004144Z
UID:8189-1473582600-1473598800@marketing.com.au
SUMMARY:Problogger Half-Day Masterclass: Email Marketing & Lead Automation
DESCRIPTION:In this half-day masterclass you will learn how to work smarter not harder in your business. We know it can be hard generating leads\, particularly if your expertise isn’t marketing. Places are limited.
URL:https://marketing.com.au/event/problogger-half-day-masterclass-email-marketing-lead-automation/
LOCATION:RACV Royal Pines Resort\, Benowa\, Gold Coast\, QLD\, 4217\, Australia
CATEGORIES:All Event Locations,All Event Topics,All Event Types,Brisbane,Content Marketing,Digital Marketing,Marketing,Presentation,Social Media,Workshop
END:VEVENT
BEGIN:VEVENT
DTSTART;TZID=Australia/Melbourne:20160825T183000
DTEND;TZID=Australia/Melbourne:20160825T203000
DTSTAMP:20260423T145931
CREATED:20160822T065443Z
LAST-MODIFIED:20160822T065443Z
UID:7918-1472149800-1472157000@marketing.com.au
SUMMARY:Creating Facebook Ads that Convert
DESCRIPTION:This workshop will teach you the basic elements of creating Facebook Ads and generating a decent return on investment.
URL:https://marketing.com.au/event/creating-facebook-ads-convert/
LOCATION:WYNCITY Bowl & Entertainment\, 36 Wallace Avenue\, Point Cook\, VIC\, 3030\, Australia
CATEGORIES:All Event Locations,All Event Topics,All Event Types,Content Marketing,Digital Marketing,Presentation,Social Media
END:VEVENT
BEGIN:VEVENT
DTSTART;VALUE=DATE:20160823
DTEND;VALUE=DATE:20160824
DTSTAMP:20260423T145931
CREATED:20160822T064850Z
LAST-MODIFIED:20160822T064850Z
UID:7913-1471910400-1471996799@marketing.com.au
SUMMARY:Public Sector Marketing Communications Summit
DESCRIPTION:In this 1 day conference you will learn how to navigate the new landscape that we in when it comes to backing our good ideas and learning from the mistakes that we make along the way.
URL:https://marketing.com.au/event/public-sector-marketing-communications-summit/
LOCATION:Hyatt Hotel Canberra\, 120 Commonwealth Avenue\, Yarralumla\, ACT\, 2600\, Australia
CATEGORIES:All Event Locations,All Event Topics,All Event Types,Canberra,Conference,Content Marketing,Digital Marketing,Market Research,Marketing,Workshop
END:VEVENT
BEGIN:VEVENT
DTSTART;VALUE=DATE:20160728
DTEND;VALUE=DATE:20160729
DTSTAMP:20260423T145931
CREATED:20160518T051351Z
LAST-MODIFIED:20160518T051351Z
UID:7696-1469664000-1469750399@marketing.com.au
SUMMARY:Mumbrella’s Sports Marketing Summit
DESCRIPTION:Australia has always been a huge sporting country\, the media consumption of live sport will always pull huge audiences\, something that marketers have always taken advantage of. Mumbrella’s Sports Marketing Summit is a conference discussing the biggest issues facing marketers\, broadcasters and agencies working in the areas of marketing through sports. This event will bring together some of the most successful marketers\, both locally and internationally\, to share their insights and experiences in sports marketing. \nThe 2016 Mumbrella’s Sports Marketing Summit will showcase a lineup of international and local speakers on various issues including sports betting\, e-sports\, exploiting ticketing data as well as featuring a panel of top athletes.
URL:https://marketing.com.au/event/mumbrellas-sports-marketing-summit/
LOCATION:Royal Randwick Racecourse\, The Ballroom\, Level 2\, Alison Road\, Randwick\, NSW\, 2031\, Australia
CATEGORIES:Advertising,All Event Locations,All Event Topics,All Event Types,Conference,Content Marketing,Digital Marketing,Market Research,Marketing,Public Relations,Social Media,Sydney,Workshop
END:VEVENT
BEGIN:VEVENT
DTSTART;VALUE=DATE:20160726
DTEND;VALUE=DATE:20160727
DTSTAMP:20260423T145931
CREATED:20160714T071203Z
LAST-MODIFIED:20160714T071203Z
UID:7859-1469491200-1469577599@marketing.com.au
SUMMARY:Adobe Symposium 2016
DESCRIPTION:Adobe Symposium 2016 is a premium digital conference designed to educate and connect attendees on the vast digital industries that Adobe crosses. Learn how to effectively reach your customers\, enhance their customer experience\, explore the latest digital tools and trends in marketing\, discover how companies are using Adobe Marketing Cloud software to gain deep insights into their customers and their habits\, build complex personalized campaigns and better manage their content. \nThe Symposium will teach everyone something new\, from experienced digital marketing veterans\, to budding new marketers\, there is plenty of ways marketers can benefit and learn from this event. Featuring breakout sessions\, keynote speakers and panel discussions with a range of international and local experts\, you’ll be able to discuss complex issues with some of the industries great minds. \nThis event has a broad range of information and insight for many different roles in today’s digital industry\, some of the people who should attend: Advertisers\, Analysts\, Campaign managers\, Content Managers\, Digital Marketers\, Marketing executives\, Publishers\, Social Marketers
URL:https://marketing.com.au/event/adobe-symposium-2016/
LOCATION:The Star\, 80 Pyrmont Street\, Sydney\, New South Wales\, 2009\, Australia
CATEGORIES:All Event Locations,All Event Topics,All Event Types,Conference,Content Marketing,Digital Marketing,Graphic Design,Marketing,SEO,Social Media,Sydney,Workshop
END:VEVENT
BEGIN:VEVENT
DTSTART;VALUE=DATE:20160722
DTEND;VALUE=DATE:20160723
DTSTAMP:20260423T145931
CREATED:20160418T121730Z
LAST-MODIFIED:20160418T121730Z
UID:7629-1469145600-1469231999@marketing.com.au
SUMMARY:The Interactive Minds Digital Summit - Melbourne
DESCRIPTION:The Interactive Minds Digital Summit is a one day digital marketing conference designed to present strategic insights into the latest campaigns\, trends & technologies in digital marketing.
URL:https://marketing.com.au/event/interactive-minds-digital-summit-melbourne/
LOCATION:Crown Conference Center\, 8 Whiteman St\, Southbank\, Melbourne\, VIC\, 3006\, Australia
CATEGORIES:Advertising,All Event Locations,All Event Topics,All Event Types,Conference,Content Marketing,Digital Marketing,Marketing,Melbourne,Social Media,Workshop
ORGANIZER;CN="Interactive Minds":MAILTO:louisa(at)interactiveminds.com.au
END:VEVENT
BEGIN:VEVENT
DTSTART;VALUE=DATE:20160720
DTEND;VALUE=DATE:20160722
DTSTAMP:20260423T145931
CREATED:20160510T064341Z
LAST-MODIFIED:20201002T053947Z
UID:7662-1468972800-1469145599@marketing.com.au
SUMMARY:Digital Marketing Strategies for Higher Education
DESCRIPTION:To keep up with an increasingly tech-savvy market\, universities and higher education providers are searching for cost-effective digital marketing strategies and solutions.
URL:https://marketing.com.au/event/digital-marketing-strategies-higher-education/
LOCATION:Citadines on Bourke\, 131 – 135 Bourke Street\, Melbourne\, VIC\, 3000\, Australia
CATEGORIES:Advertising,All Event Locations,All Event Topics,All Event Types,Conference,Content Marketing,Digital Marketing,Marketing,Melbourne,Social Media
ORGANIZER;CN="Criterion Conferences":MAILTO:customercare(at)criterionconferences.com
END:VEVENT
BEGIN:VEVENT
DTSTART;VALUE=DATE:20160720
DTEND;VALUE=DATE:20160721
DTSTAMP:20260423T145931
CREATED:20160418T121904Z
LAST-MODIFIED:20160418T121904Z
UID:7628-1468972800-1469059199@marketing.com.au
SUMMARY:The Interactive Minds Digital Summit
DESCRIPTION:The Interactive Minds Digital Summit is a one day digital marketing conference designed to present strategic insights into the latest campaigns\, trends & technologies in digital marketing.
URL:https://marketing.com.au/event/interactive-minds-digital-summit/
LOCATION:Brisbane Convention and Exhibition Centre\, 80 Merivale Street\, South Brisbane\, Brisbane\, QLD\, 4101\, Australia
CATEGORIES:Advertising,All Event Locations,All Event Topics,All Event Types,Brisbane,Conference,Content Marketing,Digital Marketing,Marketing,Social Media,Workshop
ORGANIZER;CN="Interactive Minds":MAILTO:louisa(at)interactiveminds.com.au
END:VEVENT
END:VCALENDAR