BEGIN:VCALENDAR
VERSION:2.0
PRODID:-//Marketing.com.au - ECPv6.15.20//NONSGML v1.0//EN
CALSCALE:GREGORIAN
METHOD:PUBLISH
X-ORIGINAL-URL:https://marketing.com.au
X-WR-CALDESC:Events for Marketing.com.au
REFRESH-INTERVAL;VALUE=DURATION:PT1H
X-Robots-Tag:noindex
X-PUBLISHED-TTL:PT1H
BEGIN:VTIMEZONE
TZID:Australia/Melbourne
BEGIN:STANDARD
TZOFFSETFROM:+1100
TZOFFSETTO:+1000
TZNAME:AEST
DTSTART:20210403T160000
END:STANDARD
BEGIN:DAYLIGHT
TZOFFSETFROM:+1000
TZOFFSETTO:+1100
TZNAME:AEDT
DTSTART:20211002T160000
END:DAYLIGHT
BEGIN:STANDARD
TZOFFSETFROM:+1100
TZOFFSETTO:+1000
TZNAME:AEST
DTSTART:20220402T160000
END:STANDARD
BEGIN:DAYLIGHT
TZOFFSETFROM:+1000
TZOFFSETTO:+1100
TZNAME:AEDT
DTSTART:20221001T160000
END:DAYLIGHT
BEGIN:STANDARD
TZOFFSETFROM:+1100
TZOFFSETTO:+1000
TZNAME:AEST
DTSTART:20230401T160000
END:STANDARD
BEGIN:DAYLIGHT
TZOFFSETFROM:+1000
TZOFFSETTO:+1100
TZNAME:AEDT
DTSTART:20230930T160000
END:DAYLIGHT
END:VTIMEZONE
BEGIN:VEVENT
DTSTART;VALUE=DATE:20220302
DTEND;VALUE=DATE:20220306
DTSTAMP:20260423T074932
CREATED:20220220T105442Z
LAST-MODIFIED:20220220T105604Z
UID:21193-1646179200-1646524799@marketing.com.au
SUMMARY:Women In Publishing
DESCRIPTION:The biggest virtual event for women in the publishing industry! \nOver 40 workshops for Nonfiction/General\, Fiction\, and Children’s book authors! \nThis event is for: authors\, editors\, publishers\, marketers. Culminating on International Women’s Day\, we celebrate\, empower\, encourage\, and support women writers and professionals in the publishing industry. \n4 days: \n\nDay 1: Writing Craft\nDay 2: Editing\, production\, routes to publishing\nDay 3: Marketing Extravaganza!\nDay 4: Tools for business growth!\n\nNetworking\, connection\, publishers\, agents\, experts! We’ve got you covered!
URL:https://marketing.com.au/event/women-in-publishing/
LOCATION:Online
CATEGORIES:All Event Locations,All Event Topics,All Event Types,Content Marketing,Copywriting,Online
END:VEVENT
END:VCALENDAR