BEGIN:VCALENDAR
VERSION:2.0
PRODID:-//Marketing.com.au - ECPv6.15.20//NONSGML v1.0//EN
CALSCALE:GREGORIAN
METHOD:PUBLISH
X-WR-CALNAME:Marketing.com.au
X-ORIGINAL-URL:https://marketing.com.au
X-WR-CALDESC:Events for Marketing.com.au
REFRESH-INTERVAL;VALUE=DURATION:PT1H
X-Robots-Tag:noindex
X-PUBLISHED-TTL:PT1H
BEGIN:VTIMEZONE
TZID:Australia/Melbourne
BEGIN:STANDARD
TZOFFSETFROM:+1100
TZOFFSETTO:+1000
TZNAME:AEST
DTSTART:20250405T160000
END:STANDARD
BEGIN:DAYLIGHT
TZOFFSETFROM:+1000
TZOFFSETTO:+1100
TZNAME:AEDT
DTSTART:20251004T160000
END:DAYLIGHT
BEGIN:STANDARD
TZOFFSETFROM:+1100
TZOFFSETTO:+1000
TZNAME:AEST
DTSTART:20260404T160000
END:STANDARD
BEGIN:DAYLIGHT
TZOFFSETFROM:+1000
TZOFFSETTO:+1100
TZNAME:AEDT
DTSTART:20261003T160000
END:DAYLIGHT
BEGIN:STANDARD
TZOFFSETFROM:+1100
TZOFFSETTO:+1000
TZNAME:AEST
DTSTART:20270403T160000
END:STANDARD
BEGIN:DAYLIGHT
TZOFFSETFROM:+1000
TZOFFSETTO:+1100
TZNAME:AEDT
DTSTART:20271002T160000
END:DAYLIGHT
END:VTIMEZONE
BEGIN:VEVENT
DTSTART;VALUE=DATE:20260121
DTEND;VALUE=DATE:20260122
DTSTAMP:20260421T012008
CREATED:20251230T234909Z
LAST-MODIFIED:20251231T073705Z
UID:27214-1768953600-1769039999@marketing.com.au
SUMMARY:Small Business Marketing: Where to Begin
DESCRIPTION:Feeling overwhelmed by all the marketing advice out there? This practical\, hands-on workshop is perfect for small business owners who want clarity on where to start with their marketing efforts. \nWe’ll walk through the key elements of a solid marketing foundation that will enable you to build a brand that people remember and buy from. \nThis workshop will cover: \n\nUnderstanding your ideal customer\nClarifying your message and brand positioning\nChoosing the right channels for your business\nBasics of content planning and lead generation\nWhat to prioritise when time and budget are tight\nAction planning to get moving fast\n\nBy the end of this workshop\, you’ll have a clear direction for your marketing and know what to focus on next to build momentum.
URL:https://marketing.com.au/event/small-business-marketing-where-to-begin/
LOCATION:Online
CATEGORIES:All Event Locations,All Event Topics,All Event Types,Brisbane,Content Marketing,Marketing,Online
END:VEVENT
BEGIN:VEVENT
DTSTART;VALUE=DATE:20260122
DTEND;VALUE=DATE:20260123
DTSTAMP:20260421T012008
CREATED:20251231T033718Z
LAST-MODIFIED:20251231T073704Z
UID:27264-1769040000-1769126399@marketing.com.au
SUMMARY:Create a Week’s Worth of Content in Just 1 Hour
DESCRIPTION:Creating consistent\, engaging content for your business can feel like a full-time job—but it doesn’t have to be. This webinar is designed to help small business owners plan and produce a full week’s worth of social media or marketing content in just one hour. You’ll learn practical strategies\, time-saving tools\, and a repeatable system that will keep your content fresh\, relevant\, and ready to post without the overwhelm.
URL:https://marketing.com.au/event/create-a-weeks-worth-of-content-in-just-1-hour/
LOCATION:Online
CATEGORIES:Advertising,All Event Locations,All Event Topics,All Event Types,Content Marketing,Digital Marketing,Marketing,Social Media,Website
END:VEVENT
BEGIN:VEVENT
DTSTART;VALUE=DATE:20260122
DTEND;VALUE=DATE:20260124
DTSTAMP:20260421T012008
CREATED:20251230T235321Z
LAST-MODIFIED:20251231T073704Z
UID:27217-1769040000-1769212799@marketing.com.au
SUMMARY:Data-Driven Storytelling
DESCRIPTION:Learn how to utilise infographics and data visualisation as part of your content and communications strategy. \nThis introductory workshop has been designed for communications and engagement professionals who want to harness data to create engaging content\, but do not have a background in statistics. \nParticipants will learn how to effectively pair the right storyline\, with the right chart\, graph\, or infographic. Participants will also be empowered to participate more proactively in discussions with data and design colleagues\, and clients\, about best practice data-driven storytelling.
URL:https://marketing.com.au/event/data-driven-storytelling/
LOCATION:Online
CATEGORIES:All Event Locations,All Event Topics,All Event Types,Communications,Content Marketing,Online
END:VEVENT
END:VCALENDAR