BEGIN:VCALENDAR
VERSION:2.0
PRODID:-//Marketing.com.au - ECPv6.15.20//NONSGML v1.0//EN
CALSCALE:GREGORIAN
METHOD:PUBLISH
X-WR-CALNAME:Marketing.com.au
X-ORIGINAL-URL:https://marketing.com.au
X-WR-CALDESC:Events for Marketing.com.au
REFRESH-INTERVAL;VALUE=DURATION:PT1H
X-Robots-Tag:noindex
X-PUBLISHED-TTL:PT1H
BEGIN:VTIMEZONE
TZID:Australia/Melbourne
BEGIN:STANDARD
TZOFFSETFROM:+1100
TZOFFSETTO:+1000
TZNAME:AEST
DTSTART:20220402T160000
END:STANDARD
BEGIN:DAYLIGHT
TZOFFSETFROM:+1000
TZOFFSETTO:+1100
TZNAME:AEDT
DTSTART:20221001T160000
END:DAYLIGHT
BEGIN:STANDARD
TZOFFSETFROM:+1100
TZOFFSETTO:+1000
TZNAME:AEST
DTSTART:20230401T160000
END:STANDARD
BEGIN:DAYLIGHT
TZOFFSETFROM:+1000
TZOFFSETTO:+1100
TZNAME:AEDT
DTSTART:20230930T160000
END:DAYLIGHT
BEGIN:STANDARD
TZOFFSETFROM:+1100
TZOFFSETTO:+1000
TZNAME:AEST
DTSTART:20240406T160000
END:STANDARD
BEGIN:DAYLIGHT
TZOFFSETFROM:+1000
TZOFFSETTO:+1100
TZNAME:AEDT
DTSTART:20241005T160000
END:DAYLIGHT
END:VTIMEZONE
BEGIN:VEVENT
DTSTART;VALUE=DATE:20231031
DTEND;VALUE=DATE:20231102
DTSTAMP:20260420T121730
CREATED:20230806T034651Z
LAST-MODIFIED:20230910T053255Z
UID:25900-1698710400-1698883199@marketing.com.au
SUMMARY:Product Marketing Summit 2023
DESCRIPTION:Brought to you by Product Marketing Alliance\, this is your chance to get in a room with the experts as they reveal case studies\, best practices\, and common challenges\, so you can:\n➡ Leverage the latest trends to amplify the differentiated value of your product➡ Discover the exact actions needed to accelerate your PMM career from those that have been there\, done that\n➡ Meet mentors and form relationships within the world’s biggest PMM community \nBreak the cycle\nStep away from the daily grind of being a PMM. Rejuvenate\, refocus\, & upskill in go-to-market\, sales enablement\, cross-functional collaboration\, plus a whole lot more. \nCollaborate\nFoster new connections with local peers and PMM experts and benchmark against the best in the business. \nSpark new ideas\nNetwork\, share ideas\, get feedback & trade perspectives. Solve the current challenges you’re facing as a PMM & elevate your career.
URL:https://marketing.com.au/event/product-marketing-summit-2023/
LOCATION:Doltone House\, Hyde Park\, Sydney\, SYD\, Australia
CATEGORIES:Advertising,All Event Locations,All Event Topics,All Event Types,Brand,Communications,Conference,Content Marketing,Digital Marketing,Email marketing,Sydney
END:VEVENT
BEGIN:VEVENT
DTSTART;VALUE=DATE:20231106
DTEND;VALUE=DATE:20231109
DTSTAMP:20260420T121730
CREATED:20230910T055439Z
LAST-MODIFIED:20240610T103856Z
UID:25992-1699228800-1699487999@marketing.com.au
SUMMARY:DigiMarCon At Home 2023
DESCRIPTION:DigiMarCon At Home 2023 is your chance to …\n– Hear from some of the most audacious and thought provoking speakers in the digital marketing\, media and advertising industry.\n– Gain insight into emerging strategies\, the latest innovative technologies\, and best practices to move your business to the next level.\n– Network with thought leaders\, reunite with your peers and build your professional network. \nThe 8th annual DigiMarCon At Home\, the Premier Digital Marketing\, Media and Advertising Conference Online will be held November 6th and 8th\, 2023\, available live stream and on-demand. Join your peers online for 3-days jam packed with digital marketing best practices\, latest trends\, practical solutions\, strategy and networking. \nExpand your knowledge on the following topics: Account-Based Marketing\, Behavioral & Neuromarketing\, Content Marketing\, Conversational Marketing\, Conversion Rate Optimization\, Data Science & Big Data\, Email Marketing\, Geo-Targeting & Proximity Marketing\, Growth Hacking\, Inbound & Outbound Marketing\, Influencer Marketing\, Mobile Marketing\, Native & Contextual Advertising\, Omnichannel Marketing\, Paid Search Marketing\, Personalization & Privacy. \nYou’ll also learn the following: Podcast & Webinar Marketing\, PR & Cause Marketing\, Predictive Analytics & Attribution\, Programmatic Advertising\, Sales & Marketing Automation\, Search Engine Optimization\, Shopper Marketing\, Marketing & Customer Experience\, Social Commerce\, Social Media Marketing\, UI / UX Design\, User-Generated Content\, Video Marketing\, Viral & Buzz Marketing\, Visual & Voice Search\, Web Analytics\, and much more! \nAt DigiMarCon At Home 2023\, you will receive all the elements you need to achieve digital marketing success! Conventional thought will be challenged\, new ways of thinking will emerge\, and you will leave with your head\, notebooks and professional toolkit full of action items and ideas to lead and supercharge your agency / team / account to even greater success. \nBe a part of DigiMarCon At Home and discover how to thrive and succeed as a marketer in a rapidly evolving digital world. \nSee why people keep coming back year after year to this must-attend event! Register and secure your seat today.
URL:https://marketing.com.au/event/digimarcon-at-home-2023/
LOCATION:Online
CATEGORIES:All Event Locations,All Event Topics,All Event Types,Content Marketing,Copywriting,Design,Digital Marketing,Online,Social Media
END:VEVENT
BEGIN:VEVENT
DTSTART;VALUE=DATE:20231113
DTEND;VALUE=DATE:20231116
DTSTAMP:20260420T121730
CREATED:20230806T042826Z
LAST-MODIFIED:20230910T053253Z
UID:25910-1699833600-1700092799@marketing.com.au
SUMMARY:Podcasting for Business Conference
DESCRIPTION:Podcasting for your business is a little bit different than podcasting as a passion project\, or even as a business in and of itself. Businesses and business owners have specific needs for their content marketing – a company podcast is one of the many\, many things an entrepreneur or marketing manager works on every week. \n\n\n\n\nThat means they need to be efficient and they need to be effective. \nBut a lot of the content out there\, while highly valuable\, doesn’t take into account the unique needs and opportunities of a company show. \nThe Podcasting for Business Virtual Conference is an event bringing together experts from across the podcast and content marketing industries to provide training and support to people podcasting as part of their work.
URL:https://marketing.com.au/event/podcasting-for-business-conference/
LOCATION:Online
CATEGORIES:All Event Locations,All Event Topics,All Event Types,Communications,Content Marketing,Digital Marketing,Online,Podcast
END:VEVENT
BEGIN:VEVENT
DTSTART;VALUE=DATE:20231122
DTEND;VALUE=DATE:20231125
DTSTAMP:20260420T121730
CREATED:20230723T115738Z
LAST-MODIFIED:20230910T053251Z
UID:25872-1700611200-1700870399@marketing.com.au
SUMMARY:Annual Comms and Social Media Leaders’ Summit 2023
DESCRIPTION:audiences an unmissable opportunity to hear from 3 case study packed streams on how to maximise use of the latest trends\, technologies and strategies in communications. Delegates will gain tools and strategies to maximise the use of limited resources\, develop an integrated and omni-channel communications and optimise the customer service and employee experience through impactful and data backed communications.
URL:https://marketing.com.au/event/annual-comms-and-social-media-leaders-summit-2023/
LOCATION:NSW\, NSW
CATEGORIES:All Event Locations,All Event Topics,All Event Types,Communications,Conference,Content Marketing,Copywriting,Digital Marketing,Social Media,Sydney
END:VEVENT
END:VCALENDAR