BEGIN:VCALENDAR
VERSION:2.0
PRODID:-//Marketing.com.au - ECPv6.15.20//NONSGML v1.0//EN
CALSCALE:GREGORIAN
METHOD:PUBLISH
X-WR-CALNAME:Marketing.com.au
X-ORIGINAL-URL:https://marketing.com.au
X-WR-CALDESC:Events for Marketing.com.au
REFRESH-INTERVAL;VALUE=DURATION:PT1H
X-Robots-Tag:noindex
X-PUBLISHED-TTL:PT1H
BEGIN:VTIMEZONE
TZID:Australia/Melbourne
BEGIN:STANDARD
TZOFFSETFROM:+1100
TZOFFSETTO:+1000
TZNAME:AEST
DTSTART:20210403T160000
END:STANDARD
BEGIN:DAYLIGHT
TZOFFSETFROM:+1000
TZOFFSETTO:+1100
TZNAME:AEDT
DTSTART:20211002T160000
END:DAYLIGHT
BEGIN:STANDARD
TZOFFSETFROM:+1100
TZOFFSETTO:+1000
TZNAME:AEST
DTSTART:20220402T160000
END:STANDARD
BEGIN:DAYLIGHT
TZOFFSETFROM:+1000
TZOFFSETTO:+1100
TZNAME:AEDT
DTSTART:20221001T160000
END:DAYLIGHT
BEGIN:STANDARD
TZOFFSETFROM:+1100
TZOFFSETTO:+1000
TZNAME:AEST
DTSTART:20230401T160000
END:STANDARD
BEGIN:DAYLIGHT
TZOFFSETFROM:+1000
TZOFFSETTO:+1100
TZNAME:AEDT
DTSTART:20230930T160000
END:DAYLIGHT
END:VTIMEZONE
BEGIN:VEVENT
DTSTART;TZID=Australia/Melbourne:20220106T110000
DTEND;TZID=Australia/Melbourne:20220106T120000
DTSTAMP:20260423T115848
CREATED:20211202T034612Z
LAST-MODIFIED:20211204T072954Z
UID:20745-1641466800-1641470400@marketing.com.au
SUMMARY:The Gartner Top Marketing Predictions for 2022 and Beyond
DESCRIPTION:The world remains torn between a desire for a prior sense of normalcy and a recognition that many of the changes we’ve experienced are permanent. A new equilibrium for marketing remains elusive. Economic and social upheaval continue to reshape the lives of customers and employees\, disrupt supply chains and put new demands on businesses and brands and the landscape in which we operate. Join this complimentary webinar as Gartner experts reveal the future of marketing based on a present filled with tension and uncertainty. \nDiscussion Topics:\n\nUncover the top predictions for the future of marketing\nUnderstand the implications for CMOs and marketing leaders\nActions you should take to prepare for the future
URL:https://marketing.com.au/event/the-gartner-top-marketing-predictions-for-2022-and-beyond/
LOCATION:Online
CATEGORIES:All Event Locations,All Event Topics,All Event Types,Content Marketing,Digital Marketing,Marketing,Online
END:VEVENT
BEGIN:VEVENT
DTSTART;TZID=Australia/Melbourne:20220119T123000
DTEND;TZID=Australia/Melbourne:20220119T160000
DTSTAMP:20260423T115848
CREATED:20211204T060743Z
LAST-MODIFIED:20211204T072950Z
UID:20756-1642595400-1642608000@marketing.com.au
SUMMARY:Content Strategy & Copywriting Workshop
DESCRIPTION:Content strategy and copywriting are essential parts of Marketing in today’s business world. It’s more important than ever to have the copywriting skills to produce valuable and engaging content across several mediums which is on-brand\, cuts through the noise and engages your audience effectively. \nMarketing has evolved significantly in recent years which has changed the way we do business by altering our consumer’s behaviour and expectations. This is why your content must be relevant\, valuable and highly personalised to stay ahead of your industry and be successful. Copywriting is an essential skill to help your business unlock its full potential\, by producing video scripts\, blogs\, articles\, podcasts\, collateral\, website copy and EDMs\, all of which nurture and meet the needs of your audience. \nParticipants will gain foundational knowledge through this informative and collaborative session\, develop ideas for their own business\, share relevant experiences to take away\, and most importantly\, hone their skills to improve their copywriting and content strategy. \nKey learning outcomes \n\nExplore examples of what good copywriting is and why quality copywriting is a crucial element of an effective content marketing strategy.\nUnderstand the benefits of content marketing vs traditional marketing.\nImprove your copywriting for different types of content and channels to engage your audience.\nUnderstand who your customer is and learn how to create customer personas.\nLearn to manage budgets and calculate ROI on your content marketing campaigns.\nFoundations of content amplification on different channels including social media.
URL:https://marketing.com.au/event/content-strategy-copywriting-workshop-2/
LOCATION:Online
CATEGORIES:All Event Locations,All Event Topics,All Event Types,Communications,Content Marketing,Online
END:VEVENT
END:VCALENDAR