BEGIN:VCALENDAR
VERSION:2.0
PRODID:-//Marketing.com.au - ECPv6.15.20//NONSGML v1.0//EN
CALSCALE:GREGORIAN
METHOD:PUBLISH
X-WR-CALNAME:Marketing.com.au
X-ORIGINAL-URL:https://marketing.com.au
X-WR-CALDESC:Events for Marketing.com.au
REFRESH-INTERVAL;VALUE=DURATION:PT1H
X-Robots-Tag:noindex
X-PUBLISHED-TTL:PT1H
BEGIN:VTIMEZONE
TZID:Australia/Melbourne
BEGIN:STANDARD
TZOFFSETFROM:+1100
TZOFFSETTO:+1000
TZNAME:AEST
DTSTART:20200404T160000
END:STANDARD
BEGIN:DAYLIGHT
TZOFFSETFROM:+1000
TZOFFSETTO:+1100
TZNAME:AEDT
DTSTART:20201003T160000
END:DAYLIGHT
BEGIN:STANDARD
TZOFFSETFROM:+1100
TZOFFSETTO:+1000
TZNAME:AEST
DTSTART:20210403T160000
END:STANDARD
BEGIN:DAYLIGHT
TZOFFSETFROM:+1000
TZOFFSETTO:+1100
TZNAME:AEDT
DTSTART:20211002T160000
END:DAYLIGHT
BEGIN:STANDARD
TZOFFSETFROM:+1100
TZOFFSETTO:+1000
TZNAME:AEST
DTSTART:20220402T160000
END:STANDARD
BEGIN:DAYLIGHT
TZOFFSETFROM:+1000
TZOFFSETTO:+1100
TZNAME:AEDT
DTSTART:20221001T160000
END:DAYLIGHT
END:VTIMEZONE
BEGIN:VEVENT
DTSTART;TZID=Australia/Melbourne:20211012T080000
DTEND;TZID=Australia/Melbourne:20211014T170000
DTSTAMP:20260424T021329
CREATED:20210919T041233Z
LAST-MODIFIED:20211204T072952Z
UID:20302-1634025600-1634230800@marketing.com.au
SUMMARY:Inbound 2021
DESCRIPTION:INBOUND 2021\, is a fully immersive\, online experience\, that gives you access to transformative business trends\, proactive conversations\, and key actionable takeaways that future you will appreciate. Connect with leaders across industries and spark the catalyst that awaits you. Sessions were built with remote work in mind\, so you can learn from anywhere with audio sessions\, meetups and on demand content. Hear from Oprah Winfrey\, Spike Lee\, Tim Stokely and more.
URL:https://marketing.com.au/event/inbound-2021-2/
LOCATION:Online
CATEGORIES:All Event Locations,All Event Topics,All Event Types,Content Marketing,Digital Marketing,Online,Social Media,Video,Website
END:VEVENT
BEGIN:VEVENT
DTSTART;TZID=Australia/Melbourne:20211020T080000
DTEND;TZID=Australia/Melbourne:20211022T170000
DTSTAMP:20260424T021329
CREATED:20210919T042229Z
LAST-MODIFIED:20211204T072949Z
UID:20308-1634716800-1634922000@marketing.com.au
SUMMARY:Button - The Content Design Conference
DESCRIPTION:At Button\, you’ll finally connect with folks who love content design and UX writing as much as you do. Hear from expert leaders\, beloved authors\, and inspiring new voices\, and take advantage of all Button has to offer: \n\nJoin the three-day live broadcast online.\nHang out in Button Slack with friends old and new.\nParticipate in live Q&A with speakers.\nAttend small-group Zoom calls.\nWatch the on-demand video library (for a whole year!).
URL:https://marketing.com.au/event/button-the-content-design-conference/
LOCATION:Online
CATEGORIES:All Event Locations,All Event Topics,All Event Types,Conference,Content Marketing,Copywriting,Design,Digital Marketing,Online,UX
END:VEVENT
BEGIN:VEVENT
DTSTART;TZID=Australia/Melbourne:20211021T183000
DTEND;TZID=Australia/Melbourne:20211021T193000
DTSTAMP:20260424T021329
CREATED:20210919T040607Z
LAST-MODIFIED:20211204T072950Z
UID:20299-1634841000-1634844600@marketing.com.au
SUMMARY:Content marketing for brand authority and website traffic
DESCRIPTION:Harness the power of blogging as a way to engage your customers\, get found on Google and boost your brand reputation. You’ll learn from blog copywriter\, Kate Merryweather\, who has 20 years of experience in the field. \nIn this session\, Kate will show you how to get started blogging and what to blog about. She’ll also share her insights into writing quality blogs that your audience will read and share.
URL:https://marketing.com.au/event/content-marketing-for-brand-authority-and-website-traffic/
LOCATION:Online
CATEGORIES:All Event Locations,All Event Topics,All Event Types,Communications,Content Marketing,Copywriting,Digital Marketing,Online
END:VEVENT
BEGIN:VEVENT
DTSTART;VALUE=DATE:20211025
DTEND;VALUE=DATE:20211030
DTSTAMP:20260424T021329
CREATED:20210919T043136Z
LAST-MODIFIED:20211204T072951Z
UID:20315-1635120000-1635551999@marketing.com.au
SUMMARY:GrowthHackers Conference 2021 - #GHCONF21
DESCRIPTION:For it’s 5th edition\, GrowthHackers Conference is bringing together the people behind the experimentation process in SaaS\, Mobile Apps\, Fintech\, E-Commerce and Services. Experts from these verticals will be sharing experiments they have tested across each lever in the AARRR funnel\, bringing actionable insights on how to structure and execute experiments across the entire customer journey. \nEach day will be focussed on an industry\, with mornings reserved for 5 AARRR free talks\, and the afternoons reserved for exclusive paid workshops to help companies from experimentation first steps up to advanced training. \nConfirmed Speakers \n\n Sean Ellis – Founder at GrowthHackers.com\n Kristina Quinones – Director\, Growth Marketing for WordPress.com at Automattic\n Jeremy Epperson – Founder and CEO at Conversion Guides\n Ramli John – Managing Director at ProductLed\n Ethan Garr – Growth Trainer and Coach at BreakoutGrowth.net\n Eric Keating – VP\, Marketing at Appcues\n Tiago Kasa – Sr. Growth Manager at Shapermint\n Imteaz Ahamed – Director\, DTC eCommerce at Reckitt Group\n Shanelle Mullin – Experimentation & L Analysis Lead at Shopify\n Guilherme Gomes – Commercia Growth Lead\, Nordincs – Volvo Cars\n Maja Arvidson – Commercial Growth Manager at Care by Volvo Nordics\n Vincent Tollesson – Commercial Growth\, Global Online Business at Volvo Cars\n… more soon!
URL:https://marketing.com.au/event/growthhackers-conference-2021-ghconf21/
LOCATION:Online
CATEGORIES:All Event Locations,All Event Topics,All Event Types,Communications,Conference,Content Marketing,Digital Marketing,Online
END:VEVENT
BEGIN:VEVENT
DTSTART;TZID=Australia/Melbourne:20211030T110000
DTEND;TZID=Australia/Melbourne:20211030T130000
DTSTAMP:20260424T021329
CREATED:20210919T042505Z
LAST-MODIFIED:20211204T072951Z
UID:20311-1635591600-1635598800@marketing.com.au
SUMMARY:Free Intro to Digital Marketing
DESCRIPTION:Step into the world of digital marketing with General Assembly. During our online introductory workshop\, explore the components of brand building and see how modern marketers drive successful campaigns using content\, email\, social media\, paid advertising channels\, and more. Using real-world case studies\, you’ll: \n\n\nBreak down the components of a digital marketing campaign. \n\n\nSurvey today’s digital marketing landscape and its career opportunities. \n\n\nLearn to approach a marketing campaign by identifying your objectives first. \n\n\nGet hands-on practice identifying key performance indicators (KPIs).
URL:https://marketing.com.au/event/free-intro-to-digital-marketing/
LOCATION:Online
CATEGORIES:All Event Locations,All Event Topics,All Event Types,Content Marketing,Digital Marketing,Email marketing,Online,Social Media
END:VEVENT
END:VCALENDAR