BEGIN:VCALENDAR
VERSION:2.0
PRODID:-//Marketing.com.au - ECPv6.15.20//NONSGML v1.0//EN
CALSCALE:GREGORIAN
METHOD:PUBLISH
X-ORIGINAL-URL:https://marketing.com.au
X-WR-CALDESC:Events for Marketing.com.au
REFRESH-INTERVAL;VALUE=DURATION:PT1H
X-Robots-Tag:noindex
X-PUBLISHED-TTL:PT1H
BEGIN:VTIMEZONE
TZID:Australia/Melbourne
BEGIN:STANDARD
TZOFFSETFROM:+1100
TZOFFSETTO:+1000
TZNAME:AEST
DTSTART:20130406T160000
END:STANDARD
BEGIN:DAYLIGHT
TZOFFSETFROM:+1000
TZOFFSETTO:+1100
TZNAME:AEDT
DTSTART:20131005T160000
END:DAYLIGHT
BEGIN:STANDARD
TZOFFSETFROM:+1100
TZOFFSETTO:+1000
TZNAME:AEST
DTSTART:20140405T160000
END:STANDARD
BEGIN:DAYLIGHT
TZOFFSETFROM:+1000
TZOFFSETTO:+1100
TZNAME:AEDT
DTSTART:20141004T160000
END:DAYLIGHT
BEGIN:STANDARD
TZOFFSETFROM:+1100
TZOFFSETTO:+1000
TZNAME:AEST
DTSTART:20150404T160000
END:STANDARD
BEGIN:DAYLIGHT
TZOFFSETFROM:+1000
TZOFFSETTO:+1100
TZNAME:AEDT
DTSTART:20151003T160000
END:DAYLIGHT
END:VTIMEZONE
BEGIN:VEVENT
DTSTART;TZID=Australia/Melbourne:20141023T183000
DTEND;TZID=Australia/Melbourne:20141023T203000
DTSTAMP:20260423T160414
CREATED:20141001T221726Z
LAST-MODIFIED:20141001T221726Z
UID:5970-1414089000-1414096200@marketing.com.au
SUMMARY:The Branding Bridge
DESCRIPTION:The Branding Bridge – brand strategies that link client briefs to great creative. \nCatriona Burgess\, Strategy Director at Frost Collective will be in Canberra to speak on the role of brand strategy in setting direction for creative. \nCat will share with us case studies for clients such as the State Library of NSW\, Sydney Living Museums (previously Historic Houses Trust)\, University of Wollongong\, Redfern/Waterloo and Broken Hill destination brands and explain how Frost Collective got to the strategic position and then how this came to life in the creative. Cat will also share with some of the tools used to help tease out a brand’s positioning.
URL:https://marketing.com.au/event/branding-bridge/
LOCATION:Kendall Lane Theatre\, 19 Marcus Clarke Street\, Canberra\, Australian Capital Territory\, 2601\, Australia
CATEGORIES:All Event Locations,All Event Topics,All Event Types,Canberra,Conference,Graphic Design
END:VEVENT
END:VCALENDAR