BEGIN:VCALENDAR
VERSION:2.0
PRODID:-//Marketing.com.au - ECPv6.15.20//NONSGML v1.0//EN
CALSCALE:GREGORIAN
METHOD:PUBLISH
X-ORIGINAL-URL:https://marketing.com.au
X-WR-CALDESC:Events for Marketing.com.au
REFRESH-INTERVAL;VALUE=DURATION:PT1H
X-Robots-Tag:noindex
X-PUBLISHED-TTL:PT1H
BEGIN:VTIMEZONE
TZID:Australia/Melbourne
BEGIN:STANDARD
TZOFFSETFROM:+1100
TZOFFSETTO:+1000
TZNAME:AEST
DTSTART:20170401T160000
END:STANDARD
BEGIN:DAYLIGHT
TZOFFSETFROM:+1000
TZOFFSETTO:+1100
TZNAME:AEDT
DTSTART:20170930T160000
END:DAYLIGHT
BEGIN:STANDARD
TZOFFSETFROM:+1100
TZOFFSETTO:+1000
TZNAME:AEST
DTSTART:20180331T160000
END:STANDARD
BEGIN:DAYLIGHT
TZOFFSETFROM:+1000
TZOFFSETTO:+1100
TZNAME:AEDT
DTSTART:20181006T160000
END:DAYLIGHT
BEGIN:STANDARD
TZOFFSETFROM:+1100
TZOFFSETTO:+1000
TZNAME:AEST
DTSTART:20190406T160000
END:STANDARD
BEGIN:DAYLIGHT
TZOFFSETFROM:+1000
TZOFFSETTO:+1100
TZNAME:AEDT
DTSTART:20191005T160000
END:DAYLIGHT
END:VTIMEZONE
BEGIN:VEVENT
DTSTART;TZID=Australia/Melbourne:20181115T170000
DTEND;TZID=Australia/Melbourne:20181115T200000
DTSTAMP:20260422T065225
CREATED:20181019T025817Z
LAST-MODIFIED:20181019T025817Z
UID:12488-1542301200-1542312000@marketing.com.au
SUMMARY:Marketing in 2028 - Brisbane
DESCRIPTION:At this event\, you will be looking at where marketing has been over the past 10 years as well as what to expect over the next 10. There will a Futurist who will be discussing what to expect\, as well as a panel discussion to share ideas and insights for what is to come. \nHere are just some of the things we’ll be discussing: \n\nWhat might a marketer’s role look like in the next 10 years\nHow will we be working and what will change\nWhat channels will we be using\nWhat innovation we can expect\, plus more!\n\nAs marketers we need to keep looking ahead\, don’t miss out on this unique chance to prepare for the next decade!
URL:https://marketing.com.au/event/marketing-in-2028-brisbane/
LOCATION:Flight Centre HQ\, Southpoint\, 275 Grey Street\, South Brisbane\, QLD\, 4101\, Australia
CATEGORIES:All Event Locations,All Event Topics,All Event Types,Brisbane,Content Marketing,Marketing,Presentation,Workshop
ORGANIZER;CN="Interactive Minds":MAILTO:louisa(at)interactiveminds.com.au
END:VEVENT
END:VCALENDAR