BEGIN:VCALENDAR
VERSION:2.0
PRODID:-//Marketing.com.au - ECPv6.15.20//NONSGML v1.0//EN
CALSCALE:GREGORIAN
METHOD:PUBLISH
X-WR-CALNAME:Marketing.com.au
X-ORIGINAL-URL:https://marketing.com.au
X-WR-CALDESC:Events for Marketing.com.au
REFRESH-INTERVAL;VALUE=DURATION:PT1H
X-Robots-Tag:noindex
X-PUBLISHED-TTL:PT1H
BEGIN:VTIMEZONE
TZID:Australia/Melbourne
BEGIN:STANDARD
TZOFFSETFROM:+1100
TZOFFSETTO:+1000
TZNAME:AEST
DTSTART:20170401T160000
END:STANDARD
BEGIN:DAYLIGHT
TZOFFSETFROM:+1000
TZOFFSETTO:+1100
TZNAME:AEDT
DTSTART:20170930T160000
END:DAYLIGHT
BEGIN:STANDARD
TZOFFSETFROM:+1100
TZOFFSETTO:+1000
TZNAME:AEST
DTSTART:20180331T160000
END:STANDARD
BEGIN:DAYLIGHT
TZOFFSETFROM:+1000
TZOFFSETTO:+1100
TZNAME:AEDT
DTSTART:20181006T160000
END:DAYLIGHT
BEGIN:STANDARD
TZOFFSETFROM:+1100
TZOFFSETTO:+1000
TZNAME:AEST
DTSTART:20190406T160000
END:STANDARD
BEGIN:DAYLIGHT
TZOFFSETFROM:+1000
TZOFFSETTO:+1100
TZNAME:AEDT
DTSTART:20191005T160000
END:DAYLIGHT
END:VTIMEZONE
BEGIN:VEVENT
DTSTART;TZID=Australia/Melbourne:20181031T180000
DTEND;TZID=Australia/Melbourne:20181031T203000
DTSTAMP:20260422T095326
CREATED:20181019T055016Z
LAST-MODIFIED:20181019T055016Z
UID:12504-1541008800-1541017800@marketing.com.au
SUMMARY:QLD Marketing 2019 & Beyond: Trends and Predictions
DESCRIPTION:With the marketing industry changing so quickly and dramatically; marketers know that forecasting marketing’s future can be a risky business. At this event you will hear from some of the finest marketing minds who will share their thoughts on the marketing trends they think will define 2019 and re-shape how we approach the future. \nThe panel will discuss future marketing trends across 5 key areas: Content Marketing\, Creative Marketing\, Digital Marketing\, Customer Experience\, Data Driven Marketing and Career Management.
URL:https://marketing.com.au/event/qld-marketing-2019-beyond/
LOCATION:Pullman Brisbane King George Square\, Ann Street\, Brisbane\, QLD\, 4000\, Australia
CATEGORIES:All Event Locations,All Event Topics,All Event Types,Brisbane,Content Marketing,Digital Marketing,Marketing,Presentation
END:VEVENT
END:VCALENDAR