BEGIN:VCALENDAR
VERSION:2.0
PRODID:-//Marketing.com.au - ECPv6.15.20//NONSGML v1.0//EN
CALSCALE:GREGORIAN
METHOD:PUBLISH
X-WR-CALNAME:Marketing.com.au
X-ORIGINAL-URL:https://marketing.com.au
X-WR-CALDESC:Events for Marketing.com.au
REFRESH-INTERVAL;VALUE=DURATION:PT1H
X-Robots-Tag:noindex
X-PUBLISHED-TTL:PT1H
BEGIN:VTIMEZONE
TZID:Australia/Melbourne
BEGIN:STANDARD
TZOFFSETFROM:+1100
TZOFFSETTO:+1000
TZNAME:AEST
DTSTART:20170401T160000
END:STANDARD
BEGIN:DAYLIGHT
TZOFFSETFROM:+1000
TZOFFSETTO:+1100
TZNAME:AEDT
DTSTART:20170930T160000
END:DAYLIGHT
BEGIN:STANDARD
TZOFFSETFROM:+1100
TZOFFSETTO:+1000
TZNAME:AEST
DTSTART:20180331T160000
END:STANDARD
BEGIN:DAYLIGHT
TZOFFSETFROM:+1000
TZOFFSETTO:+1100
TZNAME:AEDT
DTSTART:20181006T160000
END:DAYLIGHT
BEGIN:STANDARD
TZOFFSETFROM:+1100
TZOFFSETTO:+1000
TZNAME:AEST
DTSTART:20190406T160000
END:STANDARD
BEGIN:DAYLIGHT
TZOFFSETFROM:+1000
TZOFFSETTO:+1100
TZNAME:AEDT
DTSTART:20191005T160000
END:DAYLIGHT
END:VTIMEZONE
BEGIN:VEVENT
DTSTART;VALUE=DATE:20181026
DTEND;VALUE=DATE:20181027
DTSTAMP:20260422T115457
CREATED:20181019T040844Z
LAST-MODIFIED:20201008T044415Z
UID:12492-1540512000-1540598399@marketing.com.au
SUMMARY:Email Marketing Summit Australia
DESCRIPTION:The Email Marketing Summit Australia is Australia’s premier email marketing event\, designed by email marketers for email marketers. Featuring Ilona Abramova who is the current Director of Content at AppSumo as the keynote speaker\, as well as email marketing experts from around Australia\, this is the event for any business that uses email as part of their marketing or customer strategy.
URL:https://marketing.com.au/event/email-marketing-summit-australia/
LOCATION:Brisbane Convention and Exhibition Centre\, 80 Merivale Street\, South Brisbane\, Brisbane\, QLD\, 4101\, Australia
CATEGORIES:All Event Locations,All Event Topics,All Event Types,Brisbane,Content Marketing,Digital Marketing,Marketing,Presentation,Workshop
ORGANIZER;CN="B&T":MAILTO:emma(at)bandt.com.au
END:VEVENT
END:VCALENDAR