BEGIN:VCALENDAR
VERSION:2.0
PRODID:-//Marketing.com.au - ECPv6.15.20//NONSGML v1.0//EN
CALSCALE:GREGORIAN
METHOD:PUBLISH
X-WR-CALNAME:Marketing.com.au
X-ORIGINAL-URL:https://marketing.com.au
X-WR-CALDESC:Events for Marketing.com.au
REFRESH-INTERVAL;VALUE=DURATION:PT1H
X-Robots-Tag:noindex
X-PUBLISHED-TTL:PT1H
BEGIN:VTIMEZONE
TZID:Australia/Melbourne
BEGIN:STANDARD
TZOFFSETFROM:+1100
TZOFFSETTO:+1000
TZNAME:AEST
DTSTART:20170401T160000
END:STANDARD
BEGIN:DAYLIGHT
TZOFFSETFROM:+1000
TZOFFSETTO:+1100
TZNAME:AEDT
DTSTART:20170930T160000
END:DAYLIGHT
BEGIN:STANDARD
TZOFFSETFROM:+1100
TZOFFSETTO:+1000
TZNAME:AEST
DTSTART:20180331T160000
END:STANDARD
BEGIN:DAYLIGHT
TZOFFSETFROM:+1000
TZOFFSETTO:+1100
TZNAME:AEDT
DTSTART:20181006T160000
END:DAYLIGHT
BEGIN:STANDARD
TZOFFSETFROM:+1100
TZOFFSETTO:+1000
TZNAME:AEST
DTSTART:20190406T160000
END:STANDARD
BEGIN:DAYLIGHT
TZOFFSETFROM:+1000
TZOFFSETTO:+1100
TZNAME:AEDT
DTSTART:20191005T160000
END:DAYLIGHT
END:VTIMEZONE
BEGIN:VEVENT
DTSTART;TZID=Australia/Melbourne:20181003T080000
DTEND;TZID=Australia/Melbourne:20181003T103000
DTSTAMP:20260422T115457
CREATED:20180827T102304Z
LAST-MODIFIED:20201002T061035Z
UID:12205-1538553600-1538562600@marketing.com.au
SUMMARY:How Marketers Can Maximise Productivity and Focus
DESCRIPTION:With this industry always changing and people having so many multiple priorities & high expectations it can be hard to keep up\, in this industry the main difference between an effective & an overwhelmed marketer can be processes\, systems and techniques which are used to focus and maximise productivity. At this event you will learn what matters most and how to consistently be productive. This event ha been designed for those people who’s to-do lists are never-ending\, when you have too many things on your plate or that your day just seems to disappear. \nYou will hear from 3 speakers who will share their personal experiences to do with: \n\nHow they focus on activities that will progress their goals\nWhat productivity looks like to them\nThe tools\, processes and technology they use to keep on track\nHow to take time out from distractions from the team\, new priorities or shiny objects
URL:https://marketing.com.au/event/how-marketers-can-maximise-productivity-and-focus/
LOCATION:The Grove\, 480 Queen Street\, Brisbane\, QLD\, 4000\, Australia
CATEGORIES:All Event Locations,All Event Topics,All Event Types,Brisbane,Content Marketing,Digital Marketing,Marketing,Workshop
ORGANIZER;CN="Interactive Minds":MAILTO:louisa(at)interactiveminds.com.au
END:VEVENT
END:VCALENDAR