BEGIN:VCALENDAR
VERSION:2.0
PRODID:-//Marketing.com.au - ECPv6.15.20//NONSGML v1.0//EN
CALSCALE:GREGORIAN
METHOD:PUBLISH
X-WR-CALNAME:Marketing.com.au
X-ORIGINAL-URL:https://marketing.com.au
X-WR-CALDESC:Events for Marketing.com.au
REFRESH-INTERVAL;VALUE=DURATION:PT1H
X-Robots-Tag:noindex
X-PUBLISHED-TTL:PT1H
BEGIN:VTIMEZONE
TZID:Australia/Melbourne
BEGIN:STANDARD
TZOFFSETFROM:+1100
TZOFFSETTO:+1000
TZNAME:AEST
DTSTART:20170401T160000
END:STANDARD
BEGIN:DAYLIGHT
TZOFFSETFROM:+1000
TZOFFSETTO:+1100
TZNAME:AEDT
DTSTART:20170930T160000
END:DAYLIGHT
BEGIN:STANDARD
TZOFFSETFROM:+1100
TZOFFSETTO:+1000
TZNAME:AEST
DTSTART:20180331T160000
END:STANDARD
BEGIN:DAYLIGHT
TZOFFSETFROM:+1000
TZOFFSETTO:+1100
TZNAME:AEDT
DTSTART:20181006T160000
END:DAYLIGHT
BEGIN:STANDARD
TZOFFSETFROM:+1100
TZOFFSETTO:+1000
TZNAME:AEST
DTSTART:20190406T160000
END:STANDARD
BEGIN:DAYLIGHT
TZOFFSETFROM:+1000
TZOFFSETTO:+1100
TZNAME:AEDT
DTSTART:20191005T160000
END:DAYLIGHT
END:VTIMEZONE
BEGIN:VEVENT
DTSTART;TZID=Australia/Melbourne:20180829T100000
DTEND;TZID=Australia/Melbourne:20180829T120000
DTSTAMP:20260422T115459
CREATED:20180612T062605Z
LAST-MODIFIED:20201002T004922Z
UID:11765-1535536800-1535544000@marketing.com.au
SUMMARY:LinkedIn Marketing: Build Your Brand & Create Business Opportunities
DESCRIPTION:With the growth of LinkedIn as a social platform\, it is an ideal tool for key decision makers. This is a perfect marketing channel for building brand awareness and creating business opportunities. This interactive workshop will give you the tools to build both your personal brand and also your company’s brand. Attendance at this event will show you how to develop and implement LinkedIn marketing strategies to help get your corporate brand in front of the correct audience.
URL:https://marketing.com.au/event/linkedin-marketing-build-your-brand-create-business-opportunities-2/
LOCATION:Cliftons Brisbane\, Level 3\, 288 Edward Street\, Brisbane\, Queensland\, 5000\, Australia
CATEGORIES:All Event Locations,All Event Topics,All Event Types,Brisbane,Content Marketing,Market Research,Marketing,Social Media,Workshop
END:VEVENT
END:VCALENDAR