BEGIN:VCALENDAR
VERSION:2.0
PRODID:-//Marketing.com.au - ECPv6.15.20//NONSGML v1.0//EN
CALSCALE:GREGORIAN
METHOD:PUBLISH
X-WR-CALNAME:Marketing.com.au
X-ORIGINAL-URL:https://marketing.com.au
X-WR-CALDESC:Events for Marketing.com.au
REFRESH-INTERVAL;VALUE=DURATION:PT1H
X-Robots-Tag:noindex
X-PUBLISHED-TTL:PT1H
BEGIN:VTIMEZONE
TZID:Australia/Melbourne
BEGIN:STANDARD
TZOFFSETFROM:+1100
TZOFFSETTO:+1000
TZNAME:AEST
DTSTART:20170401T160000
END:STANDARD
BEGIN:DAYLIGHT
TZOFFSETFROM:+1000
TZOFFSETTO:+1100
TZNAME:AEDT
DTSTART:20170930T160000
END:DAYLIGHT
BEGIN:STANDARD
TZOFFSETFROM:+1100
TZOFFSETTO:+1000
TZNAME:AEST
DTSTART:20180331T160000
END:STANDARD
BEGIN:DAYLIGHT
TZOFFSETFROM:+1000
TZOFFSETTO:+1100
TZNAME:AEDT
DTSTART:20181006T160000
END:DAYLIGHT
BEGIN:STANDARD
TZOFFSETFROM:+1100
TZOFFSETTO:+1000
TZNAME:AEST
DTSTART:20190406T160000
END:STANDARD
BEGIN:DAYLIGHT
TZOFFSETFROM:+1000
TZOFFSETTO:+1100
TZNAME:AEDT
DTSTART:20191005T160000
END:DAYLIGHT
END:VTIMEZONE
BEGIN:VEVENT
DTSTART;VALUE=DATE:20180820
DTEND;VALUE=DATE:20180823
DTSTAMP:20260422T172626
CREATED:20180316T113731Z
LAST-MODIFIED:20180316T113731Z
UID:11274-1534723200-1534982399@marketing.com.au
SUMMARY:CMO Summit 2018
DESCRIPTION:The marketing industry is coming into an exciting and challenging time. There will be more and more competition and evolving minds of consumers\, marketers must strategically craft a marketing strategy that talks to their audience and strengthens brand presence. Thinking like a customer as the heart of the business will help scale the heights and maintain their place in the market. This conference has been designed to help marketers do this.
URL:https://marketing.com.au/event/cmo-summit-2018/
LOCATION:RACV Royal Pines Resort\, Benowa\, Gold Coast\, QLD\, 4217\, Australia
CATEGORIES:All Event Locations,All Event Topics,All Event Types,Brisbane,Content Marketing,Digital Marketing,Marketing
END:VEVENT
BEGIN:VEVENT
DTSTART;TZID=Australia/Melbourne:20180822T080000
DTEND;TZID=Australia/Melbourne:20180822T103000
DTSTAMP:20260422T172626
CREATED:20180723T123942Z
LAST-MODIFIED:20180723T123942Z
UID:12028-1534924800-1534933800@marketing.com.au
SUMMARY:Content Marketing: Shifts\, Trends & Results - Brisbane
DESCRIPTION:At this event you will explore the latest in digital content methods and tactics working for marketers both internationally and locally. The speakers at this event will share the content they are creating\, how they are distributing it and what’s working for them. They’ll talk about the reasons motivating their content generation\, how they choose a channel\, the measurement they use and what a good result looks like. \nDigital content for business is extremely vital for your organisation\, however with change continually occurring within audiences\, content consumption and platforms used needs to change also.  \nWe are excited to be joined by Ashley Ward international digital marketing expert from SEM Rush who will be in Australia from the USA for this event.
URL:https://marketing.com.au/event/content-marketing-shifts-trends-results-brisbane/
LOCATION:The Grove\, 480 Queen Street\, Brisbane\, QLD\, 4000\, Australia
CATEGORIES:All Event Locations,All Event Topics,All Event Types,Brisbane,Content Marketing,Digital Marketing,Marketing,Workshop
ORGANIZER;CN="Interactive Minds":MAILTO:louisa(at)interactiveminds.com.au
END:VEVENT
END:VCALENDAR