BEGIN:VCALENDAR
VERSION:2.0
PRODID:-//Marketing.com.au - ECPv6.15.20//NONSGML v1.0//EN
CALSCALE:GREGORIAN
METHOD:PUBLISH
X-WR-CALNAME:Marketing.com.au
X-ORIGINAL-URL:https://marketing.com.au
X-WR-CALDESC:Events for Marketing.com.au
REFRESH-INTERVAL;VALUE=DURATION:PT1H
X-Robots-Tag:noindex
X-PUBLISHED-TTL:PT1H
BEGIN:VTIMEZONE
TZID:Australia/Melbourne
BEGIN:STANDARD
TZOFFSETFROM:+1100
TZOFFSETTO:+1000
TZNAME:AEST
DTSTART:20170401T160000
END:STANDARD
BEGIN:DAYLIGHT
TZOFFSETFROM:+1000
TZOFFSETTO:+1100
TZNAME:AEDT
DTSTART:20170930T160000
END:DAYLIGHT
BEGIN:STANDARD
TZOFFSETFROM:+1100
TZOFFSETTO:+1000
TZNAME:AEST
DTSTART:20180331T160000
END:STANDARD
BEGIN:DAYLIGHT
TZOFFSETFROM:+1000
TZOFFSETTO:+1100
TZNAME:AEDT
DTSTART:20181006T160000
END:DAYLIGHT
BEGIN:STANDARD
TZOFFSETFROM:+1100
TZOFFSETTO:+1000
TZNAME:AEST
DTSTART:20190406T160000
END:STANDARD
BEGIN:DAYLIGHT
TZOFFSETFROM:+1000
TZOFFSETTO:+1100
TZNAME:AEDT
DTSTART:20191005T160000
END:DAYLIGHT
END:VTIMEZONE
BEGIN:VEVENT
DTSTART;VALUE=DATE:20180619
DTEND;VALUE=DATE:20180621
DTSTAMP:20260423T044832
CREATED:20180514T154310Z
LAST-MODIFIED:20180514T154310Z
UID:11627-1529366400-1529539199@marketing.com.au
SUMMARY:FaceBook and Instagram for Business Masterclass - Brisbane
DESCRIPTION:Are you fully utilising social media to drive business growth? Do you know what the numbers really mean? Do you have what it takes to stand out in an already crowded social market? This two-day intensive course has been specifically designed to deliver the skills you need to help your brand maximise its social media strategy\, understand the needs of its audience\, and speak the language of social success. \nWhat you will learn: \n\nApps and visual effects to enhance your social media content\nMeasure and track your social media marketing investment\nManage campaign structure\, budget placement and breakdown\nDevelop strategy based on clear goals and measurable results\nBuild meaningful customer connections\, plus much more!
URL:https://marketing.com.au/event/facebook-and-instagram-for-business-masterclass-brisbane/
LOCATION:TBC Brisbane
CATEGORIES:All Event Locations,All Event Topics,All Event Types,Brisbane,Conference,Content Marketing,Digital Marketing,Marketing,Social Media
END:VEVENT
END:VCALENDAR