BEGIN:VCALENDAR
VERSION:2.0
PRODID:-//Marketing.com.au - ECPv6.15.20//NONSGML v1.0//EN
CALSCALE:GREGORIAN
METHOD:PUBLISH
X-WR-CALNAME:Marketing.com.au
X-ORIGINAL-URL:https://marketing.com.au
X-WR-CALDESC:Events for Marketing.com.au
REFRESH-INTERVAL;VALUE=DURATION:PT1H
X-Robots-Tag:noindex
X-PUBLISHED-TTL:PT1H
BEGIN:VTIMEZONE
TZID:Australia/Melbourne
BEGIN:STANDARD
TZOFFSETFROM:+1100
TZOFFSETTO:+1000
TZNAME:AEST
DTSTART:20170401T160000
END:STANDARD
BEGIN:DAYLIGHT
TZOFFSETFROM:+1000
TZOFFSETTO:+1100
TZNAME:AEDT
DTSTART:20170930T160000
END:DAYLIGHT
BEGIN:STANDARD
TZOFFSETFROM:+1100
TZOFFSETTO:+1000
TZNAME:AEST
DTSTART:20180331T160000
END:STANDARD
BEGIN:DAYLIGHT
TZOFFSETFROM:+1000
TZOFFSETTO:+1100
TZNAME:AEDT
DTSTART:20181006T160000
END:DAYLIGHT
BEGIN:STANDARD
TZOFFSETFROM:+1100
TZOFFSETTO:+1000
TZNAME:AEST
DTSTART:20190406T160000
END:STANDARD
BEGIN:DAYLIGHT
TZOFFSETFROM:+1000
TZOFFSETTO:+1100
TZNAME:AEDT
DTSTART:20191005T160000
END:DAYLIGHT
END:VTIMEZONE
BEGIN:VEVENT
DTSTART;TZID=Australia/Melbourne:20180606T080000
DTEND;TZID=Australia/Melbourne:20180606T103000
DTSTAMP:20260423T070411
CREATED:20180522T051345Z
LAST-MODIFIED:20180522T051345Z
UID:11665-1528272000-1528281000@marketing.com.au
SUMMARY:Best Practice Multichannel Marketing
DESCRIPTION:This event has been designed to help marketers use cross-channels marketing to drive consumers towards purchasing. You will look at how linking channels can increase conversion and look at different way that companies are moving customers from channel to channel. The speakers will also discuss the latest approaches and tools to track multiple channel movements\, attribute sales and bring customers back to buy again.
URL:https://marketing.com.au/event/best-practice-multichannel-marketing/
LOCATION:The Grove\, 480 Queen Street\, Brisbane\, QLD\, 4000\, Australia
CATEGORIES:All Event Locations,All Event Topics,All Event Types,Brisbane,Content Marketing,Digital Marketing,Marketing,Workshop
ORGANIZER;CN="Interactive Minds":MAILTO:louisa(at)interactiveminds.com.au
END:VEVENT
BEGIN:VEVENT
DTSTART;TZID=Australia/Melbourne:20180606T083000
DTEND;TZID=Australia/Melbourne:20180606T123000
DTSTAMP:20260423T070411
CREATED:20180129T105902Z
LAST-MODIFIED:20201002T041158Z
UID:11077-1528273800-1528288200@marketing.com.au
SUMMARY:Digital Marketing Masterclass - Brisbane
DESCRIPTION:This Digital Marketing Masterclass in Brisbane has been designed to show senior management from B2C brands how they can use all of the latest tools and techniques to help new business and retain loyal customers across all customer touch points. At this event you will also head from a leading brand will give a keynote about its digital journey.
URL:https://marketing.com.au/event/digital-marketing-masterclass-brisbane-2/
LOCATION:TBC Brisbane
CATEGORIES:All Event Locations,All Event Topics,All Event Types,Brisbane,Content Marketing,Digital Marketing,Marketing,Workshop
END:VEVENT
END:VCALENDAR