BEGIN:VCALENDAR
VERSION:2.0
PRODID:-//Marketing.com.au - ECPv6.15.20//NONSGML v1.0//EN
CALSCALE:GREGORIAN
METHOD:PUBLISH
X-WR-CALNAME:Marketing.com.au
X-ORIGINAL-URL:https://marketing.com.au
X-WR-CALDESC:Events for Marketing.com.au
REFRESH-INTERVAL;VALUE=DURATION:PT1H
X-Robots-Tag:noindex
X-PUBLISHED-TTL:PT1H
BEGIN:VTIMEZONE
TZID:Australia/Melbourne
BEGIN:STANDARD
TZOFFSETFROM:+1100
TZOFFSETTO:+1000
TZNAME:AEST
DTSTART:20160402T160000
END:STANDARD
BEGIN:DAYLIGHT
TZOFFSETFROM:+1000
TZOFFSETTO:+1100
TZNAME:AEDT
DTSTART:20161001T160000
END:DAYLIGHT
BEGIN:STANDARD
TZOFFSETFROM:+1100
TZOFFSETTO:+1000
TZNAME:AEST
DTSTART:20170401T160000
END:STANDARD
BEGIN:DAYLIGHT
TZOFFSETFROM:+1000
TZOFFSETTO:+1100
TZNAME:AEDT
DTSTART:20170930T160000
END:DAYLIGHT
BEGIN:STANDARD
TZOFFSETFROM:+1100
TZOFFSETTO:+1000
TZNAME:AEST
DTSTART:20180331T160000
END:STANDARD
BEGIN:DAYLIGHT
TZOFFSETFROM:+1000
TZOFFSETTO:+1100
TZNAME:AEDT
DTSTART:20181006T160000
END:DAYLIGHT
END:VTIMEZONE
BEGIN:VEVENT
DTSTART;TZID=Australia/Melbourne:20170906T080000
DTEND;TZID=Australia/Melbourne:20170906T103000
DTSTAMP:20260424T101917
CREATED:20170814T042335Z
LAST-MODIFIED:20170814T042335Z
UID:10372-1504684800-1504693800@marketing.com.au
SUMMARY:Paid Digital Media Spotlight
DESCRIPTION:Are you looking at different ways to acquire new customers for your business? At this event you will be learning how different organisations are using paid digital media in 2017 to get outcomes. There will be 3 industry experts discussing the media options that they use\, which include social media\, search\, content plus many more! \nThe Speakers Are \n\nEve McCormack\, Group Digital Director\, Ikon Communications\nMichael Petersen\, Director\, MyMediaTradingDesk\nSophie Howlie\, Marketing Manager\, Jetts Fitness
URL:https://marketing.com.au/event/paid-digital-media-spotlight/
LOCATION:Fishburners\, Level 2\, 155 Queen Street\, Brisbane\, QLD\, 4000\, Australia
CATEGORIES:All Event Locations,All Event Topics,All Event Types,Brisbane,Content Marketing,Digital Marketing,Marketing,Social Media,Workshop
ORGANIZER;CN="Interactive Minds":MAILTO:louisa(at)interactiveminds.com.au
END:VEVENT
END:VCALENDAR