BEGIN:VCALENDAR
VERSION:2.0
PRODID:-//Marketing.com.au - ECPv6.15.20//NONSGML v1.0//EN
CALSCALE:GREGORIAN
METHOD:PUBLISH
X-ORIGINAL-URL:https://marketing.com.au
X-WR-CALDESC:Events for Marketing.com.au
REFRESH-INTERVAL;VALUE=DURATION:PT1H
X-Robots-Tag:noindex
X-PUBLISHED-TTL:PT1H
BEGIN:VTIMEZONE
TZID:Australia/Melbourne
BEGIN:STANDARD
TZOFFSETFROM:+1100
TZOFFSETTO:+1000
TZNAME:AEST
DTSTART:20160402T160000
END:STANDARD
BEGIN:DAYLIGHT
TZOFFSETFROM:+1000
TZOFFSETTO:+1100
TZNAME:AEDT
DTSTART:20161001T160000
END:DAYLIGHT
BEGIN:STANDARD
TZOFFSETFROM:+1100
TZOFFSETTO:+1000
TZNAME:AEST
DTSTART:20170401T160000
END:STANDARD
BEGIN:DAYLIGHT
TZOFFSETFROM:+1000
TZOFFSETTO:+1100
TZNAME:AEDT
DTSTART:20170930T160000
END:DAYLIGHT
BEGIN:STANDARD
TZOFFSETFROM:+1100
TZOFFSETTO:+1000
TZNAME:AEST
DTSTART:20180331T160000
END:STANDARD
BEGIN:DAYLIGHT
TZOFFSETFROM:+1000
TZOFFSETTO:+1100
TZNAME:AEDT
DTSTART:20181006T160000
END:DAYLIGHT
END:VTIMEZONE
BEGIN:VEVENT
DTSTART;TZID=Australia/Melbourne:20170601T080000
DTEND;TZID=Australia/Melbourne:20170601T103000
DTSTAMP:20260424T172219
CREATED:20170523T042810Z
LAST-MODIFIED:20170523T042810Z
UID:10007-1496304000-1496313000@marketing.com.au
SUMMARY:Driving Efficiency & Returns From Content
DESCRIPTION:Creating and distributing great content in an effective manner remains a major challenge for marketers today. Not only does the content need to be relevant and useful\, but it needs to be transferable across channels\, get buy-in from management and contribute to outcomes. At this event there will be discussions around how you can be efficient with your content marketing and look at different tactics to maximise your return on investment. \n  \nSpeakers include: Matt Henry\, Former Head of Digital\, NRL; Jacob Aldridge\, Director of Advisor\, businessDEPOT; and\, Andrianes Pinantoan\, Head of Growth\, Canva
URL:https://marketing.com.au/event/driving-efficiency-returns-content/
LOCATION:Cloudland\, 641 Ann Street \, Fortitude Valley\, Queensland\, 4006\, Australia
CATEGORIES:All Event Locations,All Event Topics,All Event Types,Brisbane,Content Marketing,Digital Marketing,Market Research,Marketing,Workshop
ORGANIZER;CN="Interactive Minds":MAILTO:louisa(at)interactiveminds.com.au
END:VEVENT
END:VCALENDAR