BEGIN:VCALENDAR
VERSION:2.0
PRODID:-//Marketing.com.au - ECPv6.15.20//NONSGML v1.0//EN
CALSCALE:GREGORIAN
METHOD:PUBLISH
X-ORIGINAL-URL:https://marketing.com.au
X-WR-CALDESC:Events for Marketing.com.au
REFRESH-INTERVAL;VALUE=DURATION:PT1H
X-Robots-Tag:noindex
X-PUBLISHED-TTL:PT1H
BEGIN:VTIMEZONE
TZID:Australia/Melbourne
BEGIN:STANDARD
TZOFFSETFROM:+1100
TZOFFSETTO:+1000
TZNAME:AEST
DTSTART:20160402T160000
END:STANDARD
BEGIN:DAYLIGHT
TZOFFSETFROM:+1000
TZOFFSETTO:+1100
TZNAME:AEDT
DTSTART:20161001T160000
END:DAYLIGHT
BEGIN:STANDARD
TZOFFSETFROM:+1100
TZOFFSETTO:+1000
TZNAME:AEST
DTSTART:20170401T160000
END:STANDARD
BEGIN:DAYLIGHT
TZOFFSETFROM:+1000
TZOFFSETTO:+1100
TZNAME:AEDT
DTSTART:20170930T160000
END:DAYLIGHT
BEGIN:STANDARD
TZOFFSETFROM:+1100
TZOFFSETTO:+1000
TZNAME:AEST
DTSTART:20180331T160000
END:STANDARD
BEGIN:DAYLIGHT
TZOFFSETFROM:+1000
TZOFFSETTO:+1100
TZNAME:AEDT
DTSTART:20181006T160000
END:DAYLIGHT
END:VTIMEZONE
BEGIN:VEVENT
DTSTART;TZID=Australia/Melbourne:20170503T080000
DTEND;TZID=Australia/Melbourne:20170503T103000
DTSTAMP:20260424T183854
CREATED:20170409T071103Z
LAST-MODIFIED:20170409T071103Z
UID:9786-1493798400-1493807400@marketing.com.au
SUMMARY:Data Powered Customer Experience
DESCRIPTION:Come and hear three industry experts demonstrate their approach to improving customer experience and the role that data is playing in delivering a personalised outcome for customers. We’ll explore how great brands are leveraging multiple data sources to properly understand\, anticipate and respond to customer needs. \nSpeakers: \n\nAngus Beattie\, Partner Manager\, Google\nNaina D’Souza\, Group Digital Manager\, Michael Hill\nMatt Forman\, Founder\, Traffika\n\nBookings for this event are essential.
URL:https://marketing.com.au/event/data-powered-customer-experience/
LOCATION:Fishburners\, Level 2\, 155 Queen Street\, Brisbane\, QLD\, 4000\, Australia
CATEGORIES:All Event Locations,All Event Topics,All Event Types,Brisbane,Digital Marketing,Marketing,Workshop
ORGANIZER;CN="Interactive Minds":MAILTO:louisa(at)interactiveminds.com.au
END:VEVENT
END:VCALENDAR