BEGIN:VCALENDAR
VERSION:2.0
PRODID:-//Marketing.com.au - ECPv6.15.20//NONSGML v1.0//EN
CALSCALE:GREGORIAN
METHOD:PUBLISH
X-ORIGINAL-URL:https://marketing.com.au
X-WR-CALDESC:Events for Marketing.com.au
REFRESH-INTERVAL;VALUE=DURATION:PT1H
X-Robots-Tag:noindex
X-PUBLISHED-TTL:PT1H
BEGIN:VTIMEZONE
TZID:Australia/Melbourne
BEGIN:STANDARD
TZOFFSETFROM:+1100
TZOFFSETTO:+1000
TZNAME:AEST
DTSTART:20190406T160000
END:STANDARD
BEGIN:DAYLIGHT
TZOFFSETFROM:+1000
TZOFFSETTO:+1100
TZNAME:AEDT
DTSTART:20191005T160000
END:DAYLIGHT
BEGIN:STANDARD
TZOFFSETFROM:+1100
TZOFFSETTO:+1000
TZNAME:AEST
DTSTART:20200404T160000
END:STANDARD
BEGIN:DAYLIGHT
TZOFFSETFROM:+1000
TZOFFSETTO:+1100
TZNAME:AEDT
DTSTART:20201003T160000
END:DAYLIGHT
BEGIN:STANDARD
TZOFFSETFROM:+1100
TZOFFSETTO:+1000
TZNAME:AEST
DTSTART:20210403T160000
END:STANDARD
BEGIN:DAYLIGHT
TZOFFSETFROM:+1000
TZOFFSETTO:+1100
TZNAME:AEDT
DTSTART:20211002T160000
END:DAYLIGHT
END:VTIMEZONE
BEGIN:VEVENT
DTSTART;VALUE=DATE:20200219
DTEND;VALUE=DATE:20200220
DTSTAMP:20260420T071019
CREATED:20191220T233225Z
LAST-MODIFIED:20200222T051654Z
UID:14612-1582070400-1582156799@marketing.com.au
SUMMARY:Powerful & Confident Presentation Skills Masterclass
DESCRIPTION:Many Talented have great thoughts and ideas\, but due to limited experience or confidence in presenting their thoughts and ideas many have fallen short of getting buy-in their target audience. In other words\, many a success on one’s ability to articulate thoughts and ideas effectively in person. Powerful and Confident Presentation Skills Masterclass will teach you all the steps you need to conquer fear of the stage and speaking in public. The masterclass will also deliver and help you understand the hidden causes of public speaking stress\, and more importantly how to overcome them. You will emerge from the masterclass with greater conviction and confidence in delivering a speech/presentation without sweaty palms\, knocking knees or wish for the floor to open up and swallow you whole!
URL:https://marketing.com.au/event/powerful-confident-presentation-skills-masterclass/
LOCATION:3/288 Edward St\, Brisbane City QLD 4000\, Australia\, 3/288 Edward St\, Brisbane City\, QLD\, Australia
CATEGORIES:All Event Locations,All Event Topics,All Event Types,Brisbane
END:VEVENT
BEGIN:VEVENT
DTSTART;TZID=Australia/Melbourne:20200219T080000
DTEND;TZID=Australia/Melbourne:20200219T103000
DTSTAMP:20260420T071019
CREATED:20200122T230316Z
LAST-MODIFIED:20200222T051654Z
UID:14799-1582099200-1582108200@marketing.com.au
SUMMARY:Content Opportunities in 2020
DESCRIPTION:Content marketing is a staple in every marketing plan\, but with an increasing range of content and publishing options available\, marketers need to strategically define the approach that will get the most cut through and encourage action. \nAt Interactive Minds’ first event for 2020\, we’ll review the hottest content opportunities that marketers should consider\, look at exactly how successful campaigns are being thought up and implemented and see how to think outside the box to generate content ideas that will meet business objectives. \nSpeakers:\n– Luke Wheatley\, Creative and Content Manager\, Flight Centre\n– Alissia Oddi\, Social Media and Content Specialist\, City Beach\n– Sarah Mak\, CEO\, TheStoryBoxes
URL:https://marketing.com.au/event/content-opportunities-in-2020/
LOCATION:The Grobe\, Level 32\, 480 Queen Street\, Brisbane\, QLD\, 4000\, Australia
CATEGORIES:All Event Locations,All Event Topics,All Event Types,Brisbane,Content Marketing
ORGANIZER;CN="Interactive Minds":MAILTO:louisa(at)interactiveminds.com.au
END:VEVENT
END:VCALENDAR