BEGIN:VCALENDAR
VERSION:2.0
PRODID:-//Marketing.com.au - ECPv6.15.20//NONSGML v1.0//EN
CALSCALE:GREGORIAN
METHOD:PUBLISH
X-WR-CALNAME:Marketing.com.au
X-ORIGINAL-URL:https://marketing.com.au
X-WR-CALDESC:Events for Marketing.com.au
REFRESH-INTERVAL;VALUE=DURATION:PT1H
X-Robots-Tag:noindex
X-PUBLISHED-TTL:PT1H
BEGIN:VTIMEZONE
TZID:Australia/Melbourne
BEGIN:STANDARD
TZOFFSETFROM:+1100
TZOFFSETTO:+1000
TZNAME:AEST
DTSTART:20160402T160000
END:STANDARD
BEGIN:DAYLIGHT
TZOFFSETFROM:+1000
TZOFFSETTO:+1100
TZNAME:AEDT
DTSTART:20161001T160000
END:DAYLIGHT
BEGIN:STANDARD
TZOFFSETFROM:+1100
TZOFFSETTO:+1000
TZNAME:AEST
DTSTART:20170401T160000
END:STANDARD
BEGIN:DAYLIGHT
TZOFFSETFROM:+1000
TZOFFSETTO:+1100
TZNAME:AEDT
DTSTART:20170930T160000
END:DAYLIGHT
BEGIN:STANDARD
TZOFFSETFROM:+1100
TZOFFSETTO:+1000
TZNAME:AEST
DTSTART:20180331T160000
END:STANDARD
BEGIN:DAYLIGHT
TZOFFSETFROM:+1000
TZOFFSETTO:+1100
TZNAME:AEDT
DTSTART:20181006T160000
END:DAYLIGHT
END:VTIMEZONE
BEGIN:VEVENT
DTSTART;VALUE=DATE:20171101
DTEND;VALUE=DATE:20171102
DTSTAMP:20260423T213041
CREATED:20171016T231028Z
LAST-MODIFIED:20171016T231028Z
UID:10687-1509494400-1509580799@marketing.com.au
SUMMARY:EMSA 2018
DESCRIPTION:Join us at the 11th annual Email Marketing Summit Australia (EMSA). \nDesigned for email marketers by email marketers we’re bringing you the latest trends\, speakers and ideas under one roof. Now in our 11th year\, EMSA is still Australia’s only dedicated email marketing summit.
URL:https://marketing.com.au/event/emsa-2018/
LOCATION:Brisbane Convention and Exhibition Centre\, 80 Merivale Street\, South Brisbane\, Brisbane\, QLD\, 4101\, Australia
CATEGORIES:All Event Locations,All Event Topics,All Event Types,Brisbane,Conference,Digital Marketing,Marketing,Social Media
ORGANIZER;CN="Vision 6":MAILTO:lisa(at)brightconferences.com
END:VEVENT
BEGIN:VEVENT
DTSTART;TZID=Australia/Melbourne:20171101T080000
DTEND;TZID=Australia/Melbourne:20171101T103000
DTSTAMP:20260423T213041
CREATED:20171011T122237Z
LAST-MODIFIED:20171011T122237Z
UID:10667-1509523200-1509532200@marketing.com.au
SUMMARY:Digital Marketer Success
DESCRIPTION:This event is all about helping you become successful as a digital marketer & how you can take steps to stand from your colleagues; you will learn how to perform better in your role and also position yourself for more opportunities in your career! The speakers will be exploring what makes a successful digital marketer\, why you should take time to build you reputation plus more. \nSpeakers \n\nLouisa Dahl\, CEO\, Interactive Minds and Laura Campbell\, Director\, Deloitte
URL:https://marketing.com.au/event/digital-marketer-success/
LOCATION:Fishburners\, Level 2\, 155 Queen Street\, Brisbane\, QLD\, 4000\, Australia
CATEGORIES:All Event Locations,All Event Topics,All Event Types,Brisbane,Content Marketing,Digital Marketing,Marketing,Workshop
ORGANIZER;CN="Interactive Minds":MAILTO:louisa(at)interactiveminds.com.au
END:VEVENT
END:VCALENDAR