BEGIN:VCALENDAR
VERSION:2.0
PRODID:-//Marketing.com.au - ECPv6.15.20//NONSGML v1.0//EN
CALSCALE:GREGORIAN
METHOD:PUBLISH
X-ORIGINAL-URL:https://marketing.com.au
X-WR-CALDESC:Events for Marketing.com.au
REFRESH-INTERVAL;VALUE=DURATION:PT1H
X-Robots-Tag:noindex
X-PUBLISHED-TTL:PT1H
BEGIN:VTIMEZONE
TZID:Australia/Melbourne
BEGIN:STANDARD
TZOFFSETFROM:+1100
TZOFFSETTO:+1000
TZNAME:AEST
DTSTART:20160402T160000
END:STANDARD
BEGIN:DAYLIGHT
TZOFFSETFROM:+1000
TZOFFSETTO:+1100
TZNAME:AEDT
DTSTART:20161001T160000
END:DAYLIGHT
BEGIN:STANDARD
TZOFFSETFROM:+1100
TZOFFSETTO:+1000
TZNAME:AEST
DTSTART:20170401T160000
END:STANDARD
BEGIN:DAYLIGHT
TZOFFSETFROM:+1000
TZOFFSETTO:+1100
TZNAME:AEDT
DTSTART:20170930T160000
END:DAYLIGHT
BEGIN:STANDARD
TZOFFSETFROM:+1100
TZOFFSETTO:+1000
TZNAME:AEST
DTSTART:20180331T160000
END:STANDARD
BEGIN:DAYLIGHT
TZOFFSETFROM:+1000
TZOFFSETTO:+1100
TZNAME:AEDT
DTSTART:20181006T160000
END:DAYLIGHT
END:VTIMEZONE
BEGIN:VEVENT
DTSTART;TZID=Australia/Melbourne:20170202T080000
DTEND;TZID=Australia/Melbourne:20170202T103000
DTSTAMP:20260424T205425
CREATED:20170110T233630Z
LAST-MODIFIED:20170110T233630Z
UID:9344-1486022400-1486031400@marketing.com.au
SUMMARY:Interactive Minds: Digital Predictions and Priorities for 2017
DESCRIPTION:Join us at this Interactive Minds event to learn directly from three top digital experts as they share their predictions for the year ahead\, and recommendations on where Digital Marketers should be prioritising their time. Discover the right tactics and techniques to make sure you get off to the right start in 2017. \nKick start your year with the opportunity to network with other industry professionals and gain exclusive insights from our industry specialists. \nSpeakers include: \n\nLaura Campbell\, Director\, Deloitte Digital\nSarah Whyte\, Brand & Digital Communications Manager\, Brisbane Airport Corporation\nMarek Kowalkiewicz\, Professor and PwC Chair in Digital Economy\, QUT\n\nBookings for this event are essential.
URL:https://marketing.com.au/event/interactive-minds-digital-predictions-priorities-2017/
LOCATION:Cloudland\, 641 Ann Street \, Fortitude Valley\, Queensland\, 4006\, Australia
CATEGORIES:All Event Locations,All Event Topics,All Event Types,Brisbane,Content Marketing,Digital Marketing,Marketing,Presentation,Workshop
ORGANIZER;CN="Interactive Minds":MAILTO:louisa(at)interactiveminds.com.au
END:VEVENT
END:VCALENDAR