BEGIN:VCALENDAR
VERSION:2.0
PRODID:-//Marketing.com.au - ECPv6.15.20//NONSGML v1.0//EN
CALSCALE:GREGORIAN
METHOD:PUBLISH
X-WR-CALNAME:Marketing.com.au
X-ORIGINAL-URL:https://marketing.com.au
X-WR-CALDESC:Events for Marketing.com.au
REFRESH-INTERVAL;VALUE=DURATION:PT1H
X-Robots-Tag:noindex
X-PUBLISHED-TTL:PT1H
BEGIN:VTIMEZONE
TZID:Australia/Melbourne
BEGIN:STANDARD
TZOFFSETFROM:+1100
TZOFFSETTO:+1000
TZNAME:AEST
DTSTART:20150404T160000
END:STANDARD
BEGIN:DAYLIGHT
TZOFFSETFROM:+1000
TZOFFSETTO:+1100
TZNAME:AEDT
DTSTART:20151003T160000
END:DAYLIGHT
BEGIN:STANDARD
TZOFFSETFROM:+1100
TZOFFSETTO:+1000
TZNAME:AEST
DTSTART:20160402T160000
END:STANDARD
BEGIN:DAYLIGHT
TZOFFSETFROM:+1000
TZOFFSETTO:+1100
TZNAME:AEDT
DTSTART:20161001T160000
END:DAYLIGHT
BEGIN:STANDARD
TZOFFSETFROM:+1100
TZOFFSETTO:+1000
TZNAME:AEST
DTSTART:20170401T160000
END:STANDARD
BEGIN:DAYLIGHT
TZOFFSETFROM:+1000
TZOFFSETTO:+1100
TZNAME:AEDT
DTSTART:20170930T160000
END:DAYLIGHT
END:VTIMEZONE
BEGIN:VEVENT
DTSTART;TZID=Australia/Melbourne:20161115T080000
DTEND;TZID=Australia/Melbourne:20161115T103000
DTSTAMP:20260425T015420
CREATED:20161020T034541Z
LAST-MODIFIED:20161020T050411Z
UID:8826-1479196800-1479205800@marketing.com.au
SUMMARY:Digital Marketing + Innovation
DESCRIPTION:This workshop is all about innovation and what it means to marketers and the business. The speakers will provide insight into the methods they use to incorporate innovation into their role. You will learn about how you can put new ideas into practice\, adapt change using an innovation framework; the best way to embrace a culture of innovation\, plus much more.
URL:https://marketing.com.au/event/digital-marketing-innovation/
LOCATION:Room Three Sixty\, QUT\, Brisbane\, 21A Gardens Point Rd\, Brisbane City\, QLD\, 4000\, Australia
CATEGORIES:All Event Locations,All Event Topics,All Event Types,Brisbane,Marketing,Presentation,Workshop
END:VEVENT
END:VCALENDAR