BEGIN:VCALENDAR
VERSION:2.0
PRODID:-//Marketing.com.au - ECPv6.15.20//NONSGML v1.0//EN
CALSCALE:GREGORIAN
METHOD:PUBLISH
X-ORIGINAL-URL:https://marketing.com.au
X-WR-CALDESC:Events for Marketing.com.au
REFRESH-INTERVAL;VALUE=DURATION:PT1H
X-Robots-Tag:noindex
X-PUBLISHED-TTL:PT1H
BEGIN:VTIMEZONE
TZID:Australia/Melbourne
BEGIN:STANDARD
TZOFFSETFROM:+1100
TZOFFSETTO:+1000
TZNAME:AEST
DTSTART:20150404T160000
END:STANDARD
BEGIN:DAYLIGHT
TZOFFSETFROM:+1000
TZOFFSETTO:+1100
TZNAME:AEDT
DTSTART:20151003T160000
END:DAYLIGHT
BEGIN:STANDARD
TZOFFSETFROM:+1100
TZOFFSETTO:+1000
TZNAME:AEST
DTSTART:20160402T160000
END:STANDARD
BEGIN:DAYLIGHT
TZOFFSETFROM:+1000
TZOFFSETTO:+1100
TZNAME:AEDT
DTSTART:20161001T160000
END:DAYLIGHT
BEGIN:STANDARD
TZOFFSETFROM:+1100
TZOFFSETTO:+1000
TZNAME:AEST
DTSTART:20170401T160000
END:STANDARD
BEGIN:DAYLIGHT
TZOFFSETFROM:+1000
TZOFFSETTO:+1100
TZNAME:AEDT
DTSTART:20170930T160000
END:DAYLIGHT
END:VTIMEZONE
BEGIN:VEVENT
DTSTART;VALUE=DATE:20160602
DTEND;VALUE=DATE:20160603
DTSTAMP:20260425T120111
CREATED:20160510T071200Z
LAST-MODIFIED:20160510T071200Z
UID:7668-1464825600-1464911999@marketing.com.au
SUMMARY:AMI Innovation Summit 2016
DESCRIPTION:Having a large budget no longer guarantees marketing success in this new digital world we live in. Innovating new marketing ideas and methods is the new key to digital marketing success. AMI Innovation Summit 2016 is Australia’s leading marketing event\, and this year innovation will be the main focus. Come and be inspired by marketing experts that understand how to harness ideas and innovation to capitalize on existing markets\, creating loyal customers and drive business growth. Visit this years event to learn secrets and receive practical advice on how to go above and beyond with marketing innovation to create the next big hit\, find out what is working right now\, and what’s next. \nThis event will showcase a panel of keynote speakers such as: \n\nMark Jones\, Chief Storyteller and CEO of Filtered Media\nCat Matson\, Chief Digital Officer of Brisbane Marketing\nDr Linden Brown from Market Culture\nJock Fairweather\, Director at Little Tokyo Two\nJordan Duffy\, Founder of Buckham & Duffy\nPaul Hawkins\, Managing Director of Crazy Might Work
URL:https://marketing.com.au/event/ami-innovation-summit-2016/
LOCATION:Rydges Southbank\, 9 Glenelg Street\, South Brisbane\, QLD\, 4101\, Australia
CATEGORIES:All Event Locations,All Event Topics,All Event Types,Brisbane,Conference,Content Marketing,Digital Marketing,Market Research,Marketing,SEO,Social Media
END:VEVENT
END:VCALENDAR