BEGIN:VCALENDAR
VERSION:2.0
PRODID:-//Marketing.com.au - ECPv6.15.20//NONSGML v1.0//EN
CALSCALE:GREGORIAN
METHOD:PUBLISH
X-ORIGINAL-URL:https://marketing.com.au
X-WR-CALDESC:Events for Marketing.com.au
REFRESH-INTERVAL;VALUE=DURATION:PT1H
X-Robots-Tag:noindex
X-PUBLISHED-TTL:PT1H
BEGIN:VTIMEZONE
TZID:Australia/Melbourne
BEGIN:STANDARD
TZOFFSETFROM:+1100
TZOFFSETTO:+1000
TZNAME:AEST
DTSTART:20230401T160000
END:STANDARD
BEGIN:DAYLIGHT
TZOFFSETFROM:+1000
TZOFFSETTO:+1100
TZNAME:AEDT
DTSTART:20230930T160000
END:DAYLIGHT
BEGIN:STANDARD
TZOFFSETFROM:+1100
TZOFFSETTO:+1000
TZNAME:AEST
DTSTART:20240406T160000
END:STANDARD
BEGIN:DAYLIGHT
TZOFFSETFROM:+1000
TZOFFSETTO:+1100
TZNAME:AEDT
DTSTART:20241005T160000
END:DAYLIGHT
BEGIN:STANDARD
TZOFFSETFROM:+1100
TZOFFSETTO:+1000
TZNAME:AEST
DTSTART:20250405T160000
END:STANDARD
BEGIN:DAYLIGHT
TZOFFSETFROM:+1000
TZOFFSETTO:+1100
TZNAME:AEDT
DTSTART:20251004T160000
END:DAYLIGHT
END:VTIMEZONE
BEGIN:VEVENT
DTSTART;VALUE=DATE:20240313
DTEND;VALUE=DATE:20240314
DTSTAMP:20260420T150141
CREATED:20240117T054152Z
LAST-MODIFIED:20240610T103847Z
UID:26197-1710288000-1710374399@marketing.com.au
SUMMARY:Retail Marketing Summit 2024
DESCRIPTION:The retail industry’s most essential marketing summit of the year returns for 2024. As economic uncertainty grips Australia and marketing budgets continue to tighten\, it’s never been more important to stay on top of the evolving trends and master the art of ‘doing more with less’. This event offers anybody within the business of retail marketing the opportunity to hear from the masters of their craft dive deep on the topical challenges and opportunities FMCG brands are facing. From CX mastery and revenue-generating loyalty programs\, to effective creative strategy and leading eCommerce insights – this is a day not to be missed.
URL:https://marketing.com.au/event/retail-marketing-summit-2024/
LOCATION:Crown Sydney\, 1 Barangaroo Ave\, Barangaroo\, NSW\, 2000\, Australia
CATEGORIES:All Event Locations,All Event Topics,All Event Types,Brand,Conference,Sydney
END:VEVENT
END:VCALENDAR