BEGIN:VCALENDAR
VERSION:2.0
PRODID:-//Marketing.com.au - ECPv6.15.20//NONSGML v1.0//EN
CALSCALE:GREGORIAN
METHOD:PUBLISH
X-ORIGINAL-URL:https://marketing.com.au
X-WR-CALDESC:Events for Marketing.com.au
REFRESH-INTERVAL;VALUE=DURATION:PT1H
X-Robots-Tag:noindex
X-PUBLISHED-TTL:PT1H
BEGIN:VTIMEZONE
TZID:Australia/Melbourne
BEGIN:STANDARD
TZOFFSETFROM:+1100
TZOFFSETTO:+1000
TZNAME:AEST
DTSTART:20230401T160000
END:STANDARD
BEGIN:DAYLIGHT
TZOFFSETFROM:+1000
TZOFFSETTO:+1100
TZNAME:AEDT
DTSTART:20230930T160000
END:DAYLIGHT
BEGIN:STANDARD
TZOFFSETFROM:+1100
TZOFFSETTO:+1000
TZNAME:AEST
DTSTART:20240406T160000
END:STANDARD
BEGIN:DAYLIGHT
TZOFFSETFROM:+1000
TZOFFSETTO:+1100
TZNAME:AEDT
DTSTART:20241005T160000
END:DAYLIGHT
BEGIN:STANDARD
TZOFFSETFROM:+1100
TZOFFSETTO:+1000
TZNAME:AEST
DTSTART:20250405T160000
END:STANDARD
BEGIN:DAYLIGHT
TZOFFSETFROM:+1000
TZOFFSETTO:+1100
TZNAME:AEDT
DTSTART:20251004T160000
END:DAYLIGHT
END:VTIMEZONE
BEGIN:VEVENT
DTSTART;VALUE=DATE:20240221
DTEND;VALUE=DATE:20240222
DTSTAMP:20260420T163638
CREATED:20240115T024950Z
LAST-MODIFIED:20240610T103852Z
UID:26172-1708473600-1708559999@marketing.com.au
SUMMARY:The Art of Employee Storytelling: Harnessing Authentic Voices for Powerful Branding
DESCRIPTION:This webinar delves into the transformative power of employee storytelling in shaping a brand’s identity and forging deeper connections with audiences. Learn how user-generated content (UGC) can be leveraged to enhance marketing strategies and authentically communicate your company’s values and culture.\n \nUncover the secrets to unlocking the storytelling potential within your organisation. Explore strategies to encourage and amplify employee voices\, turning personal narratives into compelling brand stories. Discover the impact of UGC in creating relatable\, engaging content that resonates with your audience.
URL:https://marketing.com.au/event/the-art-of-employee-storytelling-harnessing-authentic-voices-for-powerful-branding/
LOCATION:NSW
CATEGORIES:All Event Locations,All Event Topics,All Event Types,Brand
END:VEVENT
END:VCALENDAR