BEGIN:VCALENDAR
VERSION:2.0
PRODID:-//Marketing.com.au - ECPv6.15.20//NONSGML v1.0//EN
CALSCALE:GREGORIAN
METHOD:PUBLISH
X-ORIGINAL-URL:https://marketing.com.au
X-WR-CALDESC:Events for Marketing.com.au
REFRESH-INTERVAL;VALUE=DURATION:PT1H
X-Robots-Tag:noindex
X-PUBLISHED-TTL:PT1H
BEGIN:VTIMEZONE
TZID:Australia/Melbourne
BEGIN:STANDARD
TZOFFSETFROM:+1100
TZOFFSETTO:+1000
TZNAME:AEST
DTSTART:20230401T160000
END:STANDARD
BEGIN:DAYLIGHT
TZOFFSETFROM:+1000
TZOFFSETTO:+1100
TZNAME:AEDT
DTSTART:20230930T160000
END:DAYLIGHT
BEGIN:STANDARD
TZOFFSETFROM:+1100
TZOFFSETTO:+1000
TZNAME:AEST
DTSTART:20240406T160000
END:STANDARD
BEGIN:DAYLIGHT
TZOFFSETFROM:+1000
TZOFFSETTO:+1100
TZNAME:AEDT
DTSTART:20241005T160000
END:DAYLIGHT
BEGIN:STANDARD
TZOFFSETFROM:+1100
TZOFFSETTO:+1000
TZNAME:AEST
DTSTART:20250405T160000
END:STANDARD
BEGIN:DAYLIGHT
TZOFFSETFROM:+1000
TZOFFSETTO:+1100
TZNAME:AEDT
DTSTART:20251004T160000
END:DAYLIGHT
END:VTIMEZONE
BEGIN:VEVENT
DTSTART;VALUE=DATE:20240404
DTEND;VALUE=DATE:20240405
DTSTAMP:20260420T025149
CREATED:20240115T023658Z
LAST-MODIFIED:20240610T103845Z
UID:26156-1712188800-1712275199@marketing.com.au
SUMMARY:Building Brands Foundations
DESCRIPTION:This masterclass will provide members and learners with an understanding and appreciation of core marketing principles that need to be in place to build a strong brand with a unique and relevant positioning and will help them build a distinctive personality. \nThis content is suitable for brand marketers\, brand owners\, small business owners\, and ageny client services. \nTopics Covered:\n\nWhat is a brand and why it is important to all marketing streams and the broader commercial team\nBrand Purpose – when to have one and when it may not be relevant\nBrand Equity – what it is\, how it is calculated and how can marketers influence it\nBrand Architecture – hierarchy frameworks and brand structure for growth\nBrand Positioning – why is it important\, how is it developed and how is it maintained.\nMental and Physical availability – what are they and how do they build brands\n\nLearnings Outcomes:  \n\nUnderstand the strategic role brand building plays in marketing and the broader business\nKnow the factors that influence building and maintaining a strong brand\nKnow how to structure and stretch a brand to optimise growth
URL:https://marketing.com.au/event/building-brands-foundations/
LOCATION:Online
CATEGORIES:All Event Locations,All Event Topics,All Event Types,Brand
END:VEVENT
BEGIN:VEVENT
DTSTART;VALUE=DATE:20240404
DTEND;VALUE=DATE:20240405
DTSTAMP:20260420T025149
CREATED:20240117T055618Z
LAST-MODIFIED:20240610T103845Z
UID:26203-1712188800-1712275199@marketing.com.au
SUMMARY:The IAB & OMA Powering Digital Out of Home
DESCRIPTION:IAB Australia and the Outdoor Media Association (OMA) are back in 2024 bringing you Powering DOOH . The half-day conference which will be held on 4\, April 2024 will present technical and practical content as well as high-level and strategic planning sessions around Programmatic OOH in Australia.
URL:https://marketing.com.au/event/the-iab-oma-powering-digital-out-of-home/
LOCATION:Sydney
CATEGORIES:Advertising,All Event Locations,All Event Topics,All Event Types,Brand
END:VEVENT
BEGIN:VEVENT
DTSTART;TZID=Australia/Melbourne:20240417T080000
DTEND;TZID=Australia/Melbourne:20240417T170000
DTSTAMP:20260420T025149
CREATED:20240115T023931Z
LAST-MODIFIED:20240610T103844Z
UID:26160-1713340800-1713373200@marketing.com.au
SUMMARY:Learn how to measure your brand's impact on social media
DESCRIPTION:This workshop is focused around the current state of social media marketing as it sits heading into 2024. It involves a discussion and collaboration around social media strategy and design. \nWith a strong intention on providing clarity on the metrics that businesses should focus on when developing a social media strategy for net business impact\, this session will cover strategies incorporating industry best practice to increase brand engagement\, internal resource allocation\, risk management\, campaign build\, messenger strategy\, lead generation and funnel build strategy and social to EDM campaign methodology. \nIt will provide insight into current engagement trends on each platform\, and how to evolve with the massive changes we are experiencing in the marketing and technology landscape today. \nKey learnings \n\nExplore the fundamental changes occurring on Facebook/Instagram/Linkedin and understand how to adapt\nWhat are the most important performance metrics to accurately measure and determine value for businesses in the long term ?\nWhat is the critical marketing formula for successful social media campaigns in 2024 ?\nWhat are the current industry benchmarks for social media best practice?\nHow to tackle B2B vs B2C marketing strategy on social media ?\nDevelop an understanding of the current landscape of social media and learn data-driven strategies to drive the most significant growth and impact
URL:https://marketing.com.au/event/learn-how-to-measure-your-brands-impact-on-social-media/
LOCATION:Online
CATEGORIES:All Event Locations,All Event Topics,All Event Types,Brand
END:VEVENT
END:VCALENDAR