BEGIN:VCALENDAR
VERSION:2.0
PRODID:-//Marketing.com.au - ECPv6.15.20//NONSGML v1.0//EN
CALSCALE:GREGORIAN
METHOD:PUBLISH
X-ORIGINAL-URL:https://marketing.com.au
X-WR-CALDESC:Events for Marketing.com.au
REFRESH-INTERVAL;VALUE=DURATION:PT1H
X-Robots-Tag:noindex
X-PUBLISHED-TTL:PT1H
BEGIN:VTIMEZONE
TZID:Australia/Melbourne
BEGIN:STANDARD
TZOFFSETFROM:+1100
TZOFFSETTO:+1000
TZNAME:AEST
DTSTART:20200404T160000
END:STANDARD
BEGIN:DAYLIGHT
TZOFFSETFROM:+1000
TZOFFSETTO:+1100
TZNAME:AEDT
DTSTART:20201003T160000
END:DAYLIGHT
BEGIN:STANDARD
TZOFFSETFROM:+1100
TZOFFSETTO:+1000
TZNAME:AEST
DTSTART:20210403T160000
END:STANDARD
BEGIN:DAYLIGHT
TZOFFSETFROM:+1000
TZOFFSETTO:+1100
TZNAME:AEDT
DTSTART:20211002T160000
END:DAYLIGHT
BEGIN:STANDARD
TZOFFSETFROM:+1100
TZOFFSETTO:+1000
TZNAME:AEST
DTSTART:20220402T160000
END:STANDARD
BEGIN:DAYLIGHT
TZOFFSETFROM:+1000
TZOFFSETTO:+1100
TZNAME:AEDT
DTSTART:20221001T160000
END:DAYLIGHT
END:VTIMEZONE
BEGIN:VEVENT
DTSTART;VALUE=DATE:20210906
DTEND;VALUE=DATE:20210909
DTSTAMP:20260424T000805
CREATED:20210705T084255Z
LAST-MODIFIED:20211204T072952Z
UID:19763-1630886400-1631145599@marketing.com.au
SUMMARY:iMedia Brand Summit Australia
DESCRIPTION:iMedia Brand Summit Australia is a unique\, unparalleled invitation-only experience for brands to have face to face business meetings\, get involved in networking experiences\, and learn from a diverse range of captivating presentations. Australia’s leading Martech event brings together 100 brands+ and 100 solution providers to embark on 2.5 days to: \n\nUnlock new insight and discover new strategies from today’s digital marketing industry\nGain insight into the latest innovative technologies and best practice\nCollaborate with peers and build valuable connections\nExpand business into new markets through face to face meetings\nUncover new business opportunities with clients and partners and strengthen existing client relationships\n\n2.5 days | 100+ Brands | 25+ Keynotes | 1000+ meetings
URL:https://marketing.com.au/event/imedia-brand-summit-australia-2/
LOCATION:Sheraton Grand Mirage\, Gold Coast\, QLD
CATEGORIES:All Event Locations,All Event Topics,All Event Types,Brand,Brisbane,Queensland
END:VEVENT
BEGIN:VEVENT
DTSTART;VALUE=DATE:20210929
DTEND;VALUE=DATE:20211001
DTSTAMP:20260424T000805
CREATED:20210410T022716Z
LAST-MODIFIED:20210410T092207Z
UID:18971-1632873600-1633046399@marketing.com.au
SUMMARY:RESHAPE Virtual Summit 2021
DESCRIPTION:RESHAPE 2021\, organized by Insider\, is a global virtual summit exploring how to become a change agent with fearless luminaries from the world’s top brands. \nThroughout history\, times of crisis have inspired the world’s greatest creative and technological advancements while building community. \nJoin leading innovators from around the globe to discuss how the digital ecosystem can play a role in (re)shaping a better world.RESHAPE 2021\, organized by Insider\, is a global virtual summit exploring how to become a change agent with fearless luminaries from the world’s top brands. \nThey have already recruited C-Suite leaders\, international dignitaries\, industry luminaries\, creative visionaries\, and marketing trendsetters from brands like GSK Pharmaceuticals\, IKEA\, Unilever\, L’Oreal\, Booking.com and Ministers from New Zealand\, Taiwan\, Singapore and other huge names that they have yet to formally announce.
URL:https://marketing.com.au/event/reshape-virtual-summit-2021/
LOCATION:Online
CATEGORIES:All Event Locations,All Event Topics,All Event Types,Brand,Conference
END:VEVENT
END:VCALENDAR