BEGIN:VCALENDAR
VERSION:2.0
PRODID:-//Marketing.com.au - ECPv6.15.20//NONSGML v1.0//EN
CALSCALE:GREGORIAN
METHOD:PUBLISH
X-WR-CALNAME:Marketing.com.au
X-ORIGINAL-URL:https://marketing.com.au
X-WR-CALDESC:Events for Marketing.com.au
REFRESH-INTERVAL;VALUE=DURATION:PT1H
X-Robots-Tag:noindex
X-PUBLISHED-TTL:PT1H
BEGIN:VTIMEZONE
TZID:Australia/Melbourne
BEGIN:STANDARD
TZOFFSETFROM:+1100
TZOFFSETTO:+1000
TZNAME:AEST
DTSTART:20210403T160000
END:STANDARD
BEGIN:DAYLIGHT
TZOFFSETFROM:+1000
TZOFFSETTO:+1100
TZNAME:AEDT
DTSTART:20211002T160000
END:DAYLIGHT
BEGIN:STANDARD
TZOFFSETFROM:+1100
TZOFFSETTO:+1000
TZNAME:AEST
DTSTART:20220402T160000
END:STANDARD
BEGIN:DAYLIGHT
TZOFFSETFROM:+1000
TZOFFSETTO:+1100
TZNAME:AEDT
DTSTART:20221001T160000
END:DAYLIGHT
BEGIN:STANDARD
TZOFFSETFROM:+1100
TZOFFSETTO:+1000
TZNAME:AEST
DTSTART:20230401T160000
END:STANDARD
BEGIN:DAYLIGHT
TZOFFSETFROM:+1000
TZOFFSETTO:+1100
TZNAME:AEDT
DTSTART:20230930T160000
END:DAYLIGHT
END:VTIMEZONE
BEGIN:VEVENT
DTSTART;VALUE=DATE:20220131
DTEND;VALUE=DATE:20220307
DTSTAMP:20260420T165008
CREATED:20211202T033901Z
LAST-MODIFIED:20211204T072952Z
UID:20737-1643587200-1646611199@marketing.com.au
SUMMARY:IMPACT 2022
DESCRIPTION:IMPACT 2022 featured more than 120 sessions including presentations\, Q&A sessions\, and networking activities on Performance Engineering\, DevOps\, Monitoring and Observability\, Mainframe\, Data Centers\, Cloud\, and more. \nFor more than 40 years\, CMG’s international conference has been the source for education and peer-to-peer exchange for all things enterprise IT and infrastructure. It is the only conference of its kind where attendees can obtain real-world knowledge and training that is not vendor-run. \nIMPACT features sessions on the full scope of digital transformation technologies including Artificial Intelligence and Machine Learning\, Observability\, DevOps\, Performance Engineering\, Digital Process\, Cloud Native Applications\, and the IT infrastructures that support them.
URL:https://marketing.com.au/event/impact-2022/
LOCATION:Online
CATEGORIES:All Event Locations,All Event Topics,All Event Types,Digital Marketing,Website
END:VEVENT
BEGIN:VEVENT
DTSTART;VALUE=DATE:20220222
DTEND;VALUE=DATE:20220224
DTSTAMP:20260420T165008
CREATED:20220108T011619Z
LAST-MODIFIED:20220125T072032Z
UID:20961-1645488000-1645660799@marketing.com.au
SUMMARY:7th Annual Digital Marketing For Financial Services West Summit
DESCRIPTION:The only event series dedicated to digital marketing trends and technology relevant to the financial services industry. \n\nThe 7th Annual DMFS West Summit brings together financial services VPs\, Directors and CMOs from across the North American West. Secure your spot today and: \n\nDrill down into changing customer expectations with mission-driven marketing.\nCapitalize on the wealth of available data to increase ROI and seize growth opportunities.\nImprove efficiency and effectiveness with a digital marketing OSR (Operational System of Record).\nLeave with best practices from 30+ senior FinServ marketers.\n\nCollaborate with digital marketing champions from award-winning organizations\, like U.S. Bank\,Prudential Financial\, BMO\, Tangerine Bank\, Mutual Credit Union\, First Command Financial Services and many more! \n\nSOURCE ACTIONABLE DIGITAL MARKETING STRATEGIES\n\n\nEnsure your social media marketing is relevant and resonant using proven tips and techniques from experts at Vancity\, Prudential and BMO.\nTake away proven strategies from leading neo bank Ally and other financial disruptors to capitalize on digital opportunities of the future\, including gamification and the metaverse.\nDiscover how TD Bank is achieving greater impact by building content that is genuinely beautiful and compelling.\nDevelop a blueprint to secure buy-in for marketing as an investment\, not a cost\, with the help of Tangerine Bank’s CMO.\nConsult our executive panel to learn how high impact mission-driven marketing is attracting new customers and increasing loyalty.
URL:https://marketing.com.au/event/7th-annual-digital-marketing-for-financial-services-west-summit/
LOCATION:Online
CATEGORIES:All Event Locations,All Event Topics,All Event Types,Online
END:VEVENT
BEGIN:VEVENT
DTSTART;VALUE=DATE:20220222
DTEND;VALUE=DATE:20220225
DTSTAMP:20260420T165008
CREATED:20220108T010814Z
LAST-MODIFIED:20220125T072032Z
UID:20955-1645488000-1645747199@marketing.com.au
SUMMARY:Challenger Brands Summit 2022
DESCRIPTION:In an ever-shifting marketing landscape\, innovation\, agility and consumer insights can make or break a business. Legacy brands with well-established names and challenger brands breaking into the space must stay equally competitive to gain and retain a loyal audience. Join Adweek for the fourth-annual Challenger Brands summit\, a signature Brandweek series event\, to learn from disruptive and legendary brands that are redefining the industry. This year\, we’ll explore eight crucial topics ranging from e-commerce to live marketing\, UX and more.
URL:https://marketing.com.au/event/challenger-brands-summit-2022/
LOCATION:Online
CATEGORIES:All Event Locations,All Event Topics,All Event Types
END:VEVENT
BEGIN:VEVENT
DTSTART;VALUE=DATE:20220223
DTEND;VALUE=DATE:20220225
DTSTAMP:20260420T165008
CREATED:20220108T011101Z
LAST-MODIFIED:20220125T072032Z
UID:20957-1645574400-1645747199@marketing.com.au
SUMMARY:Social Media Strategies Summit 2022
DESCRIPTION:Join Your Peers at the #1 Social Media Event for Senior-Level Marketing Professionals. Learn from a mix of industry leaders who will share the proven social media strategies they use to grow their brands. \n\n\n6 REASONS #SMSSUMMIT NEEDS TO BE YOUR SOCIAL MEDIA CONFERENCE OF THE YEAR\n\n\n\n\nLearn the nuts and bolts of a successful social media strategy to position your brand for success. \n\n\n\n\n\n\nAssess and audit your current social media initiatives through real-life feedback\, discussions and peer-to-peer learning. \n\n\n\n\n\n\nRevitalize your strategy framework as brand practitioners walk you step-by-step through successful case studies. \n\n\n\n\n\n\nCultivate your arsenal of tools\, resources\, and connections to champion a social media marketing transformation back at your company. \n\n\n\n\n\n\nExperience a unique gathering of senior-level\, cross-industry marketers. See what’s driving success at different types of companies that can inspire innovation at your own. \n\n\n\n\n\n\nAccelerate your career and your role within your company by learning to streamline your processes and improving your existing skills set.
URL:https://marketing.com.au/event/social-media-strategies-summit-2022/
LOCATION:NSW
CATEGORIES:All Event Locations,All Event Topics,All Event Types
END:VEVENT
END:VCALENDAR