BEGIN:VCALENDAR
VERSION:2.0
PRODID:-//Marketing.com.au - ECPv6.15.20//NONSGML v1.0//EN
CALSCALE:GREGORIAN
METHOD:PUBLISH
X-WR-CALNAME:Marketing.com.au
X-ORIGINAL-URL:https://marketing.com.au
X-WR-CALDESC:Events for Marketing.com.au
REFRESH-INTERVAL;VALUE=DURATION:PT1H
X-Robots-Tag:noindex
X-PUBLISHED-TTL:PT1H
BEGIN:VTIMEZONE
TZID:Australia/Melbourne
BEGIN:STANDARD
TZOFFSETFROM:+1100
TZOFFSETTO:+1000
TZNAME:AEST
DTSTART:20210403T160000
END:STANDARD
BEGIN:DAYLIGHT
TZOFFSETFROM:+1000
TZOFFSETTO:+1100
TZNAME:AEDT
DTSTART:20211002T160000
END:DAYLIGHT
BEGIN:STANDARD
TZOFFSETFROM:+1100
TZOFFSETTO:+1000
TZNAME:AEST
DTSTART:20220402T160000
END:STANDARD
BEGIN:DAYLIGHT
TZOFFSETFROM:+1000
TZOFFSETTO:+1100
TZNAME:AEDT
DTSTART:20221001T160000
END:DAYLIGHT
BEGIN:STANDARD
TZOFFSETFROM:+1100
TZOFFSETTO:+1000
TZNAME:AEST
DTSTART:20230401T160000
END:STANDARD
BEGIN:DAYLIGHT
TZOFFSETFROM:+1000
TZOFFSETTO:+1100
TZNAME:AEDT
DTSTART:20230930T160000
END:DAYLIGHT
END:VTIMEZONE
BEGIN:VEVENT
DTSTART;VALUE=DATE:20220131
DTEND;VALUE=DATE:20220307
DTSTAMP:20260420T212136
CREATED:20211202T033901Z
LAST-MODIFIED:20211204T072952Z
UID:20737-1643587200-1646611199@marketing.com.au
SUMMARY:IMPACT 2022
DESCRIPTION:IMPACT 2022 featured more than 120 sessions including presentations\, Q&A sessions\, and networking activities on Performance Engineering\, DevOps\, Monitoring and Observability\, Mainframe\, Data Centers\, Cloud\, and more. \nFor more than 40 years\, CMG’s international conference has been the source for education and peer-to-peer exchange for all things enterprise IT and infrastructure. It is the only conference of its kind where attendees can obtain real-world knowledge and training that is not vendor-run. \nIMPACT features sessions on the full scope of digital transformation technologies including Artificial Intelligence and Machine Learning\, Observability\, DevOps\, Performance Engineering\, Digital Process\, Cloud Native Applications\, and the IT infrastructures that support them.
URL:https://marketing.com.au/event/impact-2022/
LOCATION:Online
CATEGORIES:All Event Locations,All Event Topics,All Event Types,Digital Marketing,Website
END:VEVENT
BEGIN:VEVENT
DTSTART;TZID=Australia/Melbourne:20220215T200000
DTEND;TZID=Australia/Melbourne:20220215T210000
DTSTAMP:20260420T212136
CREATED:20220108T012653Z
LAST-MODIFIED:20220125T072032Z
UID:20969-1644955200-1644958800@marketing.com.au
SUMMARY:Ace those Ads: Guide to Google Ads Campaign Optimisation
DESCRIPTION:As of 2021\, Google owns 92% of the global search market share and their ads can increase brand awareness by a whooping 80%. Evidently\, Google dominates the search advertising market\, making it critical to make full and proper use of this tool to place your business ahead of the competition. \nJoin us in this event as we bring you through best practises to optimise your Google Ads Campaign to increase brand visibility\, maximise conversion rates and explore options to minimise customer acquisition costs. Learn how to target the right audience at the right time with your product or service. This is ever more relevant given the constant changes in consumer behaviour due to COVID-19 and shifting trends in the markets where traditional approaches no longer reap the best returns on investment anymore. \nThis event is perfect for marketers\, small business owners or anyone who is interested in learning more about creating effective Google Ads Campaigns including how to optimise your google ads account on a tight budget and test your ads\, content and messaging to suit your unique brand voice.
URL:https://marketing.com.au/event/ace-those-ads-guide-to-google-ads-campaign-optimisation/
LOCATION:Online
CATEGORIES:All Event Locations,All Event Topics,All Event Types
END:VEVENT
END:VCALENDAR