BEGIN:VCALENDAR
VERSION:2.0
PRODID:-//Marketing.com.au - ECPv6.15.20//NONSGML v1.0//EN
CALSCALE:GREGORIAN
METHOD:PUBLISH
X-WR-CALNAME:Marketing.com.au
X-ORIGINAL-URL:https://marketing.com.au
X-WR-CALDESC:Events for Marketing.com.au
REFRESH-INTERVAL;VALUE=DURATION:PT1H
X-Robots-Tag:noindex
X-PUBLISHED-TTL:PT1H
BEGIN:VTIMEZONE
TZID:Australia/Melbourne
BEGIN:STANDARD
TZOFFSETFROM:+1100
TZOFFSETTO:+1000
TZNAME:AEST
DTSTART:20200404T160000
END:STANDARD
BEGIN:DAYLIGHT
TZOFFSETFROM:+1000
TZOFFSETTO:+1100
TZNAME:AEDT
DTSTART:20201003T160000
END:DAYLIGHT
BEGIN:STANDARD
TZOFFSETFROM:+1100
TZOFFSETTO:+1000
TZNAME:AEST
DTSTART:20210403T160000
END:STANDARD
BEGIN:DAYLIGHT
TZOFFSETFROM:+1000
TZOFFSETTO:+1100
TZNAME:AEDT
DTSTART:20211002T160000
END:DAYLIGHT
BEGIN:STANDARD
TZOFFSETFROM:+1100
TZOFFSETTO:+1000
TZNAME:AEST
DTSTART:20220402T160000
END:STANDARD
BEGIN:DAYLIGHT
TZOFFSETFROM:+1000
TZOFFSETTO:+1100
TZNAME:AEDT
DTSTART:20221001T160000
END:DAYLIGHT
END:VTIMEZONE
BEGIN:VEVENT
DTSTART;TZID=Australia/Melbourne:20211208T080000
DTEND;TZID=Australia/Melbourne:20211209T170000
DTSTAMP:20260420T210730
CREATED:20211114T110403Z
LAST-MODIFIED:20211114T110403Z
UID:20628-1638950400-1639069200@marketing.com.au
SUMMARY:Leverage Social Media to Humanize Your Agency and Engage Your Communities
DESCRIPTION:2 DAYS\, 15 SESSIONS\, A FRESH PERSPECTIVE ON SOCIAL MEDIA — A CAN’T-MISS VIRTUAL CONFERENCE \n\nWe bring over 10 years of experience in social media education. That means you can count on a vetted\, specially curated series of sessions and seasoned\, experienced speakers to tackle topics that have the biggest impact on your agency or office’s social media strategy. \n\n\n\n\n\nShare experiences and learn new social media strategies with your government and public agency colleagues from around the globe — virtually! \n\n\n\n\n\n\nNetwork with government employee peers from across the country. SMSsummit is your best resource for fresh social media ideas and community building strategies. \n\n\n\n\n\n\nGet all your social media questions answered through speaker Q&A\, live chat\, and discussions with other attendees. \n\n\n\n\n\n\nBe your team’s social media champion! We’ll help you build the foundations of a sustainable\, scalable social media policy that empowers your team to serve your constituents best. \n\n\n\n\n\n\nLearn strategies and tips for tackling issues most important to government agencies including social media and crisis communications\, improving agency reputation\, and building relationships with your community. \n\n\n\n\n\n\nAssess and audit your current social media initiatives. Learn how to humanize your agency and build public trust in an era when transparency and authenticity is more important than ever.
URL:https://marketing.com.au/event/leverage-social-media-to-humanize-your-agency-and-engage-your-communities/
LOCATION:Online
CATEGORIES:All Event Locations,All Event Topics,All Event Types,Online,Social Media
END:VEVENT
BEGIN:VEVENT
DTSTART;VALUE=DATE:20211209
DTEND;VALUE=DATE:20211210
DTSTAMP:20260420T210730
CREATED:20211114T111548Z
LAST-MODIFIED:20211204T072954Z
UID:20634-1639008000-1639094399@marketing.com.au
SUMMARY:World Marketing Innovation Summit India
DESCRIPTION:This year World Marketing Innovation Summit 2021 will also be hosted as Virtual live conference Streamed in India. \nAs 2021 progresses\, the digital marketing landscape that encompasses SEO\, social media\, PPC\, AdTech\, MarTech\, content marketing and more is witnessing a dramatic shift – which businesses can no longer ignore.\nThere are many new digital marketing trends and strategies that are evolving in the current high-tech era and businesses now need to use them to succeed in their efforts. The key is to stay on top of the trends and figure out what is the best for your business today. What was worked for you in a previous year may not work this year as new trends continuously keep on emerging. \nAgenda Themes ( 09 December \, 2021 )\n– Next Gen AdTech\n– Inside Sales\n– MarTech Conclave\n– Digital Marketing
URL:https://marketing.com.au/event/world-marketing-innovation-summit-india/
LOCATION:Online
CATEGORIES:Advertising,All Event Locations,All Event Topics,All Event Types,Digital Marketing,Marketing,Online
END:VEVENT
END:VCALENDAR